BEGIN:VCALENDAR
VERSION:2.0
PRODID:-//jEvents 2.0 for Joomla//EN
CALSCALE:GREGORIAN
METHOD:PUBLISH
BEGIN:VTIMEZONE
TZID:Europe/Paris
BEGIN:STANDARD
DTSTART:20150206T080000
RDATE:20150329T030000
TZOFFSETFROM:+0200
TZOFFSETTO:+0100
TZNAME:Europe/Paris CET
END:STANDARD
BEGIN:STANDARD
DTSTART:20151025T020000
RDATE:20160327T030000
TZOFFSETFROM:+0200
TZOFFSETTO:+0100
TZNAME:Europe/Paris CET
END:STANDARD
BEGIN:STANDARD
DTSTART:20161030T020000
RDATE:20170326T030000
TZOFFSETFROM:+0200
TZOFFSETTO:+0100
TZNAME:Europe/Paris CET
END:STANDARD
BEGIN:STANDARD
DTSTART:20171029T020000
RDATE:20180325T030000
TZOFFSETFROM:+0200
TZOFFSETTO:+0100
TZNAME:Europe/Paris CET
END:STANDARD
BEGIN:STANDARD
DTSTART:20181028T020000
RDATE:20190331T030000
TZOFFSETFROM:+0200
TZOFFSETTO:+0100
TZNAME:Europe/Paris CET
END:STANDARD
BEGIN:STANDARD
DTSTART:20191027T020000
RDATE:20200329T030000
TZOFFSETFROM:+0200
TZOFFSETTO:+0100
TZNAME:Europe/Paris CET
END:STANDARD
BEGIN:STANDARD
DTSTART:20201025T020000
RDATE:20210328T030000
TZOFFSETFROM:+0200
TZOFFSETTO:+0100
TZNAME:Europe/Paris CET
END:STANDARD
BEGIN:STANDARD
DTSTART:20211031T020000
RDATE:20220327T030000
TZOFFSETFROM:+0200
TZOFFSETTO:+0100
TZNAME:Europe/Paris CET
END:STANDARD
BEGIN:STANDARD
DTSTART:20221030T020000
RDATE:20230326T030000
TZOFFSETFROM:+0200
TZOFFSETTO:+0100
TZNAME:Europe/Paris CET
END:STANDARD
BEGIN:STANDARD
DTSTART:20231029T020000
RDATE:20240331T030000
TZOFFSETFROM:+0200
TZOFFSETTO:+0100
TZNAME:Europe/Paris CET
END:STANDARD
BEGIN:STANDARD
DTSTART:20241027T020000
RDATE:20250330T030000
TZOFFSETFROM:+0200
TZOFFSETTO:+0100
TZNAME:Europe/Paris CET
END:STANDARD
BEGIN:STANDARD
DTSTART:20251026T020000
RDATE:20260329T030000
TZOFFSETFROM:+0200
TZOFFSETTO:+0100
TZNAME:Europe/Paris CET
END:STANDARD
BEGIN:STANDARD
DTSTART:20261025T020000
RDATE:20270328T030000
TZOFFSETFROM:+0200
TZOFFSETTO:+0100
TZNAME:Europe/Paris CET
END:STANDARD
BEGIN:DAYLIGHT
DTSTART:20150329T030000
RDATE:20151025T020000
TZOFFSETFROM:+0100
TZOFFSETTO:+0200
TZNAME:Europe/Paris CEST
END:DAYLIGHT
BEGIN:DAYLIGHT
DTSTART:20160327T030000
RDATE:20161030T020000
TZOFFSETFROM:+0100
TZOFFSETTO:+0200
TZNAME:Europe/Paris CEST
END:DAYLIGHT
BEGIN:DAYLIGHT
DTSTART:20170326T030000
RDATE:20171029T020000
TZOFFSETFROM:+0100
TZOFFSETTO:+0200
TZNAME:Europe/Paris CEST
END:DAYLIGHT
BEGIN:DAYLIGHT
DTSTART:20180325T030000
RDATE:20181028T020000
TZOFFSETFROM:+0100
TZOFFSETTO:+0200
TZNAME:Europe/Paris CEST
END:DAYLIGHT
BEGIN:DAYLIGHT
DTSTART:20190331T030000
RDATE:20191027T020000
TZOFFSETFROM:+0100
TZOFFSETTO:+0200
TZNAME:Europe/Paris CEST
END:DAYLIGHT
BEGIN:DAYLIGHT
DTSTART:20200329T030000
RDATE:20201025T020000
TZOFFSETFROM:+0100
TZOFFSETTO:+0200
TZNAME:Europe/Paris CEST
END:DAYLIGHT
BEGIN:DAYLIGHT
DTSTART:20210328T030000
RDATE:20211031T020000
TZOFFSETFROM:+0100
TZOFFSETTO:+0200
TZNAME:Europe/Paris CEST
END:DAYLIGHT
BEGIN:DAYLIGHT
DTSTART:20220327T030000
RDATE:20221030T020000
TZOFFSETFROM:+0100
TZOFFSETTO:+0200
TZNAME:Europe/Paris CEST
END:DAYLIGHT
BEGIN:DAYLIGHT
DTSTART:20230326T030000
RDATE:20231029T020000
TZOFFSETFROM:+0100
TZOFFSETTO:+0200
TZNAME:Europe/Paris CEST
END:DAYLIGHT
BEGIN:DAYLIGHT
DTSTART:20240331T030000
RDATE:20241027T020000
TZOFFSETFROM:+0100
TZOFFSETTO:+0200
TZNAME:Europe/Paris CEST
END:DAYLIGHT
BEGIN:DAYLIGHT
DTSTART:20250330T030000
RDATE:20251026T020000
TZOFFSETFROM:+0100
TZOFFSETTO:+0200
TZNAME:Europe/Paris CEST
END:DAYLIGHT
BEGIN:DAYLIGHT
DTSTART:20260329T030000
RDATE:20261025T020000
TZOFFSETFROM:+0100
TZOFFSETTO:+0200
TZNAME:Europe/Paris CEST
END:DAYLIGHT
END:VTIMEZONE
BEGIN:VEVENT
UID:9c2de4e59a6160f52edc1e26280b30cc
CATEGORIES:Compétition Saut
CREATED:20151110T133952
SUMMARY:National Tour saut combiné
URL;VALUE=URI:https://skivosges.net/agenda/export-synchronisation/detailevenement/516/-/n
 ational-tour-saut-combine?tmpl=component
DESCRIPTION:National Tour saut combiné\n\nLieu : GERARDMER\nOrganisateur : A.S GERARDME
 R SKI NORDIQUE (14469 A.S GERARDMER SKI NORDIQUE)\n - TMVF0071 épreuve U17 
 (Cadet) Filles\n  National Tour saut combiné\n - TMVF0072 épreuve U20 (Juni
 or) Dames\n  National Tour saut combiné\n - TMVF0073 épreuve Senior Dames\n
   National Tour saut combiné\n - TMVM0071 épreuve U17 (Cadet) Garçons\n  Na
 tional Tour saut combiné\n - TMVM0072 épreuve U20 (Junior) Hommes\n  Nation
 al Tour saut combiné\n - TMVM0073 épreuve Senior Hommes\n  National Tour sa
 ut combiné Cet évènement a été importé depuis :https://skivosges.net/agenda
 /export-synchronisation/detailevenement/516/-/national-tour-saut-combine?tm
 pl=component
X-ALT-DESC;FMTTYPE=text/html:<strong>National Tour saut combiné</strong><br /><br />Lieu : GERARDMER<br 
 />Organisateur : A.S GERARDMER SKI NORDIQUE <small>(14469 A.S GERARDMER SKI
  NORDIQUE)</small><ul type="disc"><li>TMVF0071 épreuve <nobr>U17 (Cadet)</n
 obr> Filles<br />&nbsp;&nbsp;National Tour saut combiné</li><li>TMVF0072 ép
 reuve <nobr>U20 (Junior)</nobr> Dames<br />&nbsp;&nbsp;National Tour saut c
 ombiné</li><li>TMVF0073 épreuve <nobr>Senior</nobr> Dames<br />&nbsp;&nbsp;
 National Tour saut combiné</li><li>TMVM0071 épreuve <nobr>U17 (Cadet)</nobr
 > Garçons<br />&nbsp;&nbsp;National Tour saut combiné</li><li>TMVM0072 épre
 uve <nobr>U20 (Junior)</nobr> Hommes<br />&nbsp;&nbsp;National Tour saut co
 mbiné</li><li>TMVM0073 épreuve <nobr>Senior</nobr> Hommes<br />&nbsp;&nbsp;
 National Tour saut combiné</li></ul> <a href="https://skivosges.net/agenda/
 export-synchronisation/detailevenement/516/-/national-tour-saut-combine?tmp
 l=component">Cet évènement a été importé depuis :https://skivosges.net/agen
 da/export-synchronisation/detailevenement/516/-/national-tour-saut-combine?
 tmpl=component</a>DTSTAMP:20260420T220455
DTSTART;TZID=Europe/Paris:20160207T080000
DTEND;TZID=Europe/Paris:20160207T170000
SEQUENCE:0
TRANSP:OPAQUE
END:VEVENT
END:VCALENDAR