BEGIN:VCALENDAR
VERSION:2.0
PRODID:-//jEvents 2.0 for Joomla//EN
CALSCALE:GREGORIAN
METHOD:PUBLISH
BEGIN:VTIMEZONE
TZID:Europe/Paris
BEGIN:STANDARD
DTSTART:20150213T080000
RDATE:20150329T030000
TZOFFSETFROM:+0200
TZOFFSETTO:+0100
TZNAME:Europe/Paris CET
END:STANDARD
BEGIN:STANDARD
DTSTART:20151025T020000
RDATE:20160327T030000
TZOFFSETFROM:+0200
TZOFFSETTO:+0100
TZNAME:Europe/Paris CET
END:STANDARD
BEGIN:STANDARD
DTSTART:20161030T020000
RDATE:20170326T030000
TZOFFSETFROM:+0200
TZOFFSETTO:+0100
TZNAME:Europe/Paris CET
END:STANDARD
BEGIN:STANDARD
DTSTART:20171029T020000
RDATE:20180325T030000
TZOFFSETFROM:+0200
TZOFFSETTO:+0100
TZNAME:Europe/Paris CET
END:STANDARD
BEGIN:STANDARD
DTSTART:20181028T020000
RDATE:20190331T030000
TZOFFSETFROM:+0200
TZOFFSETTO:+0100
TZNAME:Europe/Paris CET
END:STANDARD
BEGIN:STANDARD
DTSTART:20191027T020000
RDATE:20200329T030000
TZOFFSETFROM:+0200
TZOFFSETTO:+0100
TZNAME:Europe/Paris CET
END:STANDARD
BEGIN:STANDARD
DTSTART:20201025T020000
RDATE:20210328T030000
TZOFFSETFROM:+0200
TZOFFSETTO:+0100
TZNAME:Europe/Paris CET
END:STANDARD
BEGIN:STANDARD
DTSTART:20211031T020000
RDATE:20220327T030000
TZOFFSETFROM:+0200
TZOFFSETTO:+0100
TZNAME:Europe/Paris CET
END:STANDARD
BEGIN:STANDARD
DTSTART:20221030T020000
RDATE:20230326T030000
TZOFFSETFROM:+0200
TZOFFSETTO:+0100
TZNAME:Europe/Paris CET
END:STANDARD
BEGIN:STANDARD
DTSTART:20231029T020000
RDATE:20240331T030000
TZOFFSETFROM:+0200
TZOFFSETTO:+0100
TZNAME:Europe/Paris CET
END:STANDARD
BEGIN:STANDARD
DTSTART:20241027T020000
RDATE:20250330T030000
TZOFFSETFROM:+0200
TZOFFSETTO:+0100
TZNAME:Europe/Paris CET
END:STANDARD
BEGIN:STANDARD
DTSTART:20251026T020000
RDATE:20260329T030000
TZOFFSETFROM:+0200
TZOFFSETTO:+0100
TZNAME:Europe/Paris CET
END:STANDARD
BEGIN:STANDARD
DTSTART:20261025T020000
RDATE:20270328T030000
TZOFFSETFROM:+0200
TZOFFSETTO:+0100
TZNAME:Europe/Paris CET
END:STANDARD
BEGIN:DAYLIGHT
DTSTART:20150329T030000
RDATE:20151025T020000
TZOFFSETFROM:+0100
TZOFFSETTO:+0200
TZNAME:Europe/Paris CEST
END:DAYLIGHT
BEGIN:DAYLIGHT
DTSTART:20160327T030000
RDATE:20161030T020000
TZOFFSETFROM:+0100
TZOFFSETTO:+0200
TZNAME:Europe/Paris CEST
END:DAYLIGHT
BEGIN:DAYLIGHT
DTSTART:20170326T030000
RDATE:20171029T020000
TZOFFSETFROM:+0100
TZOFFSETTO:+0200
TZNAME:Europe/Paris CEST
END:DAYLIGHT
BEGIN:DAYLIGHT
DTSTART:20180325T030000
RDATE:20181028T020000
TZOFFSETFROM:+0100
TZOFFSETTO:+0200
TZNAME:Europe/Paris CEST
END:DAYLIGHT
BEGIN:DAYLIGHT
DTSTART:20190331T030000
RDATE:20191027T020000
TZOFFSETFROM:+0100
TZOFFSETTO:+0200
TZNAME:Europe/Paris CEST
END:DAYLIGHT
BEGIN:DAYLIGHT
DTSTART:20200329T030000
RDATE:20201025T020000
TZOFFSETFROM:+0100
TZOFFSETTO:+0200
TZNAME:Europe/Paris CEST
END:DAYLIGHT
BEGIN:DAYLIGHT
DTSTART:20210328T030000
RDATE:20211031T020000
TZOFFSETFROM:+0100
TZOFFSETTO:+0200
TZNAME:Europe/Paris CEST
END:DAYLIGHT
BEGIN:DAYLIGHT
DTSTART:20220327T030000
RDATE:20221030T020000
TZOFFSETFROM:+0100
TZOFFSETTO:+0200
TZNAME:Europe/Paris CEST
END:DAYLIGHT
BEGIN:DAYLIGHT
DTSTART:20230326T030000
RDATE:20231029T020000
TZOFFSETFROM:+0100
TZOFFSETTO:+0200
TZNAME:Europe/Paris CEST
END:DAYLIGHT
BEGIN:DAYLIGHT
DTSTART:20240331T030000
RDATE:20241027T020000
TZOFFSETFROM:+0100
TZOFFSETTO:+0200
TZNAME:Europe/Paris CEST
END:DAYLIGHT
BEGIN:DAYLIGHT
DTSTART:20250330T030000
RDATE:20251026T020000
TZOFFSETFROM:+0100
TZOFFSETTO:+0200
TZNAME:Europe/Paris CEST
END:DAYLIGHT
BEGIN:DAYLIGHT
DTSTART:20260329T030000
RDATE:20261025T020000
TZOFFSETFROM:+0100
TZOFFSETTO:+0200
TZNAME:Europe/Paris CEST
END:DAYLIGHT
END:VTIMEZONE
BEGIN:VEVENT
UID:7f9a645d75cce2fcf12766355ae34951
CATEGORIES:Circuit Alsace Adultes (alpin)
CREATED:20151110T133952
SUMMARY:CAA  U16 à Masters    Prix du Vignoble **REPORTE**
URL;VALUE=URI:https://skivosges.net/agenda/export-synchronisation/detailevenement/521/-/c
 aa-u16-a-masters-prix-du-vignoble-reporte?tmpl=component
DESCRIPTION:CAA  U16 à Masters    Prix du Vignoble (Epreuve reportée, date à determiner
 ) \n(Coupe d'Alsace Adultes)\n\nLieu : SCHNEPFENRIED\nOrganisateur : SKI CL
 UB LA RIQUEWIHRIENNE (14105 SKI CLUB LA RIQUEWIHRIENNE)\nTelecopie : 06.76.
 01.31.26\n\nInscriptions en cours sur ce site\n - AMVM0511  Slalom (Courses
  FFS) U16 a Masters Hommes\n  CAA  U16 à Masters    Prix du Vignoble\n - AM
 VF0511  Slalom (Courses FFS) U16 a Masters Dames\n  CAA  U16 à Masters    P
 rix du Vignoble Cet évènement a été importé depuis :https://skivosges.net/a
 genda/export-synchronisation/detailevenement/521/-/caa-u16-a-masters-prix-d
 u-vignoble-reporte?tmpl=component
X-ALT-DESC;FMTTYPE=text/html:<strong>CAA  U16 à Masters    Prix du Vignoble</strong> <font class="attent
 ion4">(Epreuve reportée, date à determiner)</font> <br /><i>(Coupe d'Alsace
  Adultes)</i><br /><br />Lieu : SCHNEPFENRIED<br />Organisateur : SKI CLUB 
 LA RIQUEWIHRIENNE <small>(14105 SKI CLUB LA RIQUEWIHRIENNE)</small><br />Te
 lecopie : 06.76.01.31.26<br /><br />Inscriptions en cours sur ce site<ul ty
 pe="disc"><li>AMVM0511  Slalom <nobr><i>(Courses FFS)</i></nobr> <nobr>U16 
 a Masters</nobr> Hommes<br />&nbsp;&nbsp;CAA  U16 à Masters    Prix du Vign
 oble</li><li>AMVF0511  Slalom <nobr><i>(Courses FFS)</i></nobr> <nobr>U16 a
  Masters</nobr> Dames<br />&nbsp;&nbsp;CAA  U16 à Masters    Prix du Vignob
 le</li></ul> <a href="https://skivosges.net/agenda/export-synchronisation/d
 etailevenement/521/-/caa-u16-a-masters-prix-du-vignoble-reporte?tmpl=compon
 ent">Cet évènement a été importé depuis :https://skivosges.net/agenda/expor
 t-synchronisation/detailevenement/521/-/caa-u16-a-masters-prix-du-vignoble-
 reporte?tmpl=component</a>DTSTAMP:20260421T014348
DTSTART;TZID=Europe/Paris:20160214T080000
DTEND;TZID=Europe/Paris:20160214T170000
SEQUENCE:0
TRANSP:OPAQUE
END:VEVENT
END:VCALENDAR