BEGIN:VCALENDAR
VERSION:2.0
PRODID:-//jEvents 2.0 for Joomla//EN
CALSCALE:GREGORIAN
METHOD:PUBLISH
BEGIN:VTIMEZONE
TZID:Europe/Paris
BEGIN:STANDARD
DTSTART:20150213T080000
RDATE:20150329T030000
TZOFFSETFROM:+0200
TZOFFSETTO:+0100
TZNAME:Europe/Paris CET
END:STANDARD
BEGIN:STANDARD
DTSTART:20151025T020000
RDATE:20160327T030000
TZOFFSETFROM:+0200
TZOFFSETTO:+0100
TZNAME:Europe/Paris CET
END:STANDARD
BEGIN:STANDARD
DTSTART:20161030T020000
RDATE:20170326T030000
TZOFFSETFROM:+0200
TZOFFSETTO:+0100
TZNAME:Europe/Paris CET
END:STANDARD
BEGIN:STANDARD
DTSTART:20171029T020000
RDATE:20180325T030000
TZOFFSETFROM:+0200
TZOFFSETTO:+0100
TZNAME:Europe/Paris CET
END:STANDARD
BEGIN:STANDARD
DTSTART:20181028T020000
RDATE:20190331T030000
TZOFFSETFROM:+0200
TZOFFSETTO:+0100
TZNAME:Europe/Paris CET
END:STANDARD
BEGIN:STANDARD
DTSTART:20191027T020000
RDATE:20200329T030000
TZOFFSETFROM:+0200
TZOFFSETTO:+0100
TZNAME:Europe/Paris CET
END:STANDARD
BEGIN:STANDARD
DTSTART:20201025T020000
RDATE:20210328T030000
TZOFFSETFROM:+0200
TZOFFSETTO:+0100
TZNAME:Europe/Paris CET
END:STANDARD
BEGIN:STANDARD
DTSTART:20211031T020000
RDATE:20220327T030000
TZOFFSETFROM:+0200
TZOFFSETTO:+0100
TZNAME:Europe/Paris CET
END:STANDARD
BEGIN:STANDARD
DTSTART:20221030T020000
RDATE:20230326T030000
TZOFFSETFROM:+0200
TZOFFSETTO:+0100
TZNAME:Europe/Paris CET
END:STANDARD
BEGIN:STANDARD
DTSTART:20231029T020000
RDATE:20240331T030000
TZOFFSETFROM:+0200
TZOFFSETTO:+0100
TZNAME:Europe/Paris CET
END:STANDARD
BEGIN:STANDARD
DTSTART:20241027T020000
RDATE:20250330T030000
TZOFFSETFROM:+0200
TZOFFSETTO:+0100
TZNAME:Europe/Paris CET
END:STANDARD
BEGIN:STANDARD
DTSTART:20251026T020000
RDATE:20260329T030000
TZOFFSETFROM:+0200
TZOFFSETTO:+0100
TZNAME:Europe/Paris CET
END:STANDARD
BEGIN:STANDARD
DTSTART:20261025T020000
RDATE:20270328T030000
TZOFFSETFROM:+0200
TZOFFSETTO:+0100
TZNAME:Europe/Paris CET
END:STANDARD
BEGIN:DAYLIGHT
DTSTART:20150329T030000
RDATE:20151025T020000
TZOFFSETFROM:+0100
TZOFFSETTO:+0200
TZNAME:Europe/Paris CEST
END:DAYLIGHT
BEGIN:DAYLIGHT
DTSTART:20160327T030000
RDATE:20161030T020000
TZOFFSETFROM:+0100
TZOFFSETTO:+0200
TZNAME:Europe/Paris CEST
END:DAYLIGHT
BEGIN:DAYLIGHT
DTSTART:20170326T030000
RDATE:20171029T020000
TZOFFSETFROM:+0100
TZOFFSETTO:+0200
TZNAME:Europe/Paris CEST
END:DAYLIGHT
BEGIN:DAYLIGHT
DTSTART:20180325T030000
RDATE:20181028T020000
TZOFFSETFROM:+0100
TZOFFSETTO:+0200
TZNAME:Europe/Paris CEST
END:DAYLIGHT
BEGIN:DAYLIGHT
DTSTART:20190331T030000
RDATE:20191027T020000
TZOFFSETFROM:+0100
TZOFFSETTO:+0200
TZNAME:Europe/Paris CEST
END:DAYLIGHT
BEGIN:DAYLIGHT
DTSTART:20200329T030000
RDATE:20201025T020000
TZOFFSETFROM:+0100
TZOFFSETTO:+0200
TZNAME:Europe/Paris CEST
END:DAYLIGHT
BEGIN:DAYLIGHT
DTSTART:20210328T030000
RDATE:20211031T020000
TZOFFSETFROM:+0100
TZOFFSETTO:+0200
TZNAME:Europe/Paris CEST
END:DAYLIGHT
BEGIN:DAYLIGHT
DTSTART:20220327T030000
RDATE:20221030T020000
TZOFFSETFROM:+0100
TZOFFSETTO:+0200
TZNAME:Europe/Paris CEST
END:DAYLIGHT
BEGIN:DAYLIGHT
DTSTART:20230326T030000
RDATE:20231029T020000
TZOFFSETFROM:+0100
TZOFFSETTO:+0200
TZNAME:Europe/Paris CEST
END:DAYLIGHT
BEGIN:DAYLIGHT
DTSTART:20240331T030000
RDATE:20241027T020000
TZOFFSETFROM:+0100
TZOFFSETTO:+0200
TZNAME:Europe/Paris CEST
END:DAYLIGHT
BEGIN:DAYLIGHT
DTSTART:20250330T030000
RDATE:20251026T020000
TZOFFSETFROM:+0100
TZOFFSETTO:+0200
TZNAME:Europe/Paris CEST
END:DAYLIGHT
BEGIN:DAYLIGHT
DTSTART:20260329T030000
RDATE:20261025T020000
TZOFFSETFROM:+0100
TZOFFSETTO:+0200
TZNAME:Europe/Paris CEST
END:DAYLIGHT
END:VTIMEZONE
BEGIN:VEVENT
UID:79bc3a0b15b836c0272d9ddcf65abc4c
CATEGORIES:Compétition Ski de Fond
CREATED:20151110T133952
SUMMARY:Team Sprint HMSN Crédit Mutuel sprint n°3
URL;VALUE=URI:https://skivosges.net/agenda/export-synchronisation/detailevenement/522/-/t
 eam-sprint-hmsn-credit-mutuel-sprint-n-3?tmpl=component
DESCRIPTION:Team Sprint HMSN Crédit Mutuel sprint n°3\n\nLieu : ROUGE GAZON\nOrganisate
 ur : HAUTE MOSELLE SKI NORDIQUE (14471 HAUTE MOSELLE SKI NORDIQUE)\nTelecop
 ie : 0624316764\n\nInscriptions en cours sur ce site\n - FMVF0161  Depart I
 ndividuel U14 a SEN (Minime a Senior) Dames\n  Team Sprint HMSN Crédit Mutu
 el sprint n°3\n - FMVM0161  Depart Individuel U14 a SEN (Minime a Senior) H
 ommes\n  Team Sprint HMSN Crédit Mutuel sprint n°3 Cet évènement a été impo
 rté depuis :https://skivosges.net/agenda/export-synchronisation/detailevene
 ment/522/-/team-sprint-hmsn-credit-mutuel-sprint-n-3?tmpl=component (https:
 //skivosges.net/agenda/export-synchronisation/detailevenement/522/-/team-sp
 rint-hmsn-credit-mutuel-sprint-n-3?tmpl=component)
X-ALT-DESC;FMTTYPE=text/html:<strong>Team Sprint HMSN Crédit Mutuel sprint n°3</strong><br /><br />Lieu 
 : ROUGE GAZON<br />Organisateur : HAUTE MOSELLE SKI NORDIQUE <small>(14471 
 HAUTE MOSELLE SKI NORDIQUE)</small><br />Telecopie : 0624316764<br /><br />
 Inscriptions en cours sur ce site<ul type="disc"><li>FMVF0161  Depart Indiv
 iduel <nobr>U14 a SEN (Minime a Senior)</nobr> Dames<br />&nbsp;&nbsp;Team 
 Sprint HMSN Crédit Mutuel sprint n°3</li><li>FMVM0161  Depart Individuel <n
 obr>U14 a SEN (Minime a Senior)</nobr> Hommes<br />&nbsp;&nbsp;Team Sprint 
 HMSN Crédit Mutuel sprint n°3</li></ul> <a href="https://skivosges.net/agen
 da/export-synchronisation/detailevenement/522/-/team-sprint-hmsn-credit-mut
 uel-sprint-n-3?tmpl=component">Cet évènement a été importé depuis :https://
 skivosges.net/agenda/export-synchronisation/detailevenement/522/-/team-spri
 nt-hmsn-credit-mutuel-sprint-n-3?tmpl=component</a>DTSTAMP:20260420T220308
DTSTART;TZID=Europe/Paris:20160214T080000
DTEND;TZID=Europe/Paris:20160214T170000
SEQUENCE:0
TRANSP:OPAQUE
END:VEVENT
END:VCALENDAR