BEGIN:VCALENDAR
VERSION:2.0
PRODID:-//jEvents 2.0 for Joomla//EN
CALSCALE:GREGORIAN
METHOD:PUBLISH
BEGIN:VTIMEZONE
TZID:Europe/Paris
BEGIN:STANDARD
DTSTART:20150216T080000
RDATE:20150329T030000
TZOFFSETFROM:+0200
TZOFFSETTO:+0100
TZNAME:Europe/Paris CET
END:STANDARD
BEGIN:STANDARD
DTSTART:20151025T020000
RDATE:20160327T030000
TZOFFSETFROM:+0200
TZOFFSETTO:+0100
TZNAME:Europe/Paris CET
END:STANDARD
BEGIN:STANDARD
DTSTART:20161030T020000
RDATE:20170326T030000
TZOFFSETFROM:+0200
TZOFFSETTO:+0100
TZNAME:Europe/Paris CET
END:STANDARD
BEGIN:STANDARD
DTSTART:20171029T020000
RDATE:20180325T030000
TZOFFSETFROM:+0200
TZOFFSETTO:+0100
TZNAME:Europe/Paris CET
END:STANDARD
BEGIN:STANDARD
DTSTART:20181028T020000
RDATE:20190331T030000
TZOFFSETFROM:+0200
TZOFFSETTO:+0100
TZNAME:Europe/Paris CET
END:STANDARD
BEGIN:STANDARD
DTSTART:20191027T020000
RDATE:20200329T030000
TZOFFSETFROM:+0200
TZOFFSETTO:+0100
TZNAME:Europe/Paris CET
END:STANDARD
BEGIN:STANDARD
DTSTART:20201025T020000
RDATE:20210328T030000
TZOFFSETFROM:+0200
TZOFFSETTO:+0100
TZNAME:Europe/Paris CET
END:STANDARD
BEGIN:STANDARD
DTSTART:20211031T020000
RDATE:20220327T030000
TZOFFSETFROM:+0200
TZOFFSETTO:+0100
TZNAME:Europe/Paris CET
END:STANDARD
BEGIN:STANDARD
DTSTART:20221030T020000
RDATE:20230326T030000
TZOFFSETFROM:+0200
TZOFFSETTO:+0100
TZNAME:Europe/Paris CET
END:STANDARD
BEGIN:STANDARD
DTSTART:20231029T020000
RDATE:20240331T030000
TZOFFSETFROM:+0200
TZOFFSETTO:+0100
TZNAME:Europe/Paris CET
END:STANDARD
BEGIN:STANDARD
DTSTART:20241027T020000
RDATE:20250330T030000
TZOFFSETFROM:+0200
TZOFFSETTO:+0100
TZNAME:Europe/Paris CET
END:STANDARD
BEGIN:STANDARD
DTSTART:20251026T020000
RDATE:20260329T030000
TZOFFSETFROM:+0200
TZOFFSETTO:+0100
TZNAME:Europe/Paris CET
END:STANDARD
BEGIN:STANDARD
DTSTART:20261025T020000
RDATE:20270328T030000
TZOFFSETFROM:+0200
TZOFFSETTO:+0100
TZNAME:Europe/Paris CET
END:STANDARD
BEGIN:DAYLIGHT
DTSTART:20150329T030000
RDATE:20151025T020000
TZOFFSETFROM:+0100
TZOFFSETTO:+0200
TZNAME:Europe/Paris CEST
END:DAYLIGHT
BEGIN:DAYLIGHT
DTSTART:20160327T030000
RDATE:20161030T020000
TZOFFSETFROM:+0100
TZOFFSETTO:+0200
TZNAME:Europe/Paris CEST
END:DAYLIGHT
BEGIN:DAYLIGHT
DTSTART:20170326T030000
RDATE:20171029T020000
TZOFFSETFROM:+0100
TZOFFSETTO:+0200
TZNAME:Europe/Paris CEST
END:DAYLIGHT
BEGIN:DAYLIGHT
DTSTART:20180325T030000
RDATE:20181028T020000
TZOFFSETFROM:+0100
TZOFFSETTO:+0200
TZNAME:Europe/Paris CEST
END:DAYLIGHT
BEGIN:DAYLIGHT
DTSTART:20190331T030000
RDATE:20191027T020000
TZOFFSETFROM:+0100
TZOFFSETTO:+0200
TZNAME:Europe/Paris CEST
END:DAYLIGHT
BEGIN:DAYLIGHT
DTSTART:20200329T030000
RDATE:20201025T020000
TZOFFSETFROM:+0100
TZOFFSETTO:+0200
TZNAME:Europe/Paris CEST
END:DAYLIGHT
BEGIN:DAYLIGHT
DTSTART:20210328T030000
RDATE:20211031T020000
TZOFFSETFROM:+0100
TZOFFSETTO:+0200
TZNAME:Europe/Paris CEST
END:DAYLIGHT
BEGIN:DAYLIGHT
DTSTART:20220327T030000
RDATE:20221030T020000
TZOFFSETFROM:+0100
TZOFFSETTO:+0200
TZNAME:Europe/Paris CEST
END:DAYLIGHT
BEGIN:DAYLIGHT
DTSTART:20230326T030000
RDATE:20231029T020000
TZOFFSETFROM:+0100
TZOFFSETTO:+0200
TZNAME:Europe/Paris CEST
END:DAYLIGHT
BEGIN:DAYLIGHT
DTSTART:20240331T030000
RDATE:20241027T020000
TZOFFSETFROM:+0100
TZOFFSETTO:+0200
TZNAME:Europe/Paris CEST
END:DAYLIGHT
BEGIN:DAYLIGHT
DTSTART:20250330T030000
RDATE:20251026T020000
TZOFFSETFROM:+0100
TZOFFSETTO:+0200
TZNAME:Europe/Paris CEST
END:DAYLIGHT
BEGIN:DAYLIGHT
DTSTART:20260329T030000
RDATE:20261025T020000
TZOFFSETFROM:+0100
TZOFFSETTO:+0200
TZNAME:Europe/Paris CEST
END:DAYLIGHT
END:VTIMEZONE
BEGIN:VEVENT
UID:836a7bb8e73b1c31c3ae3c615d45ecc3
CATEGORIES:Opens et Promos (alpin)
CREATED:20151110T133952
SUMMARY:PROMO  U8 à U16     Haribo Kids Snow Cup 2016
URL;VALUE=URI:https://skivosges.net/agenda/export-synchronisation/detailevenement/523/-/p
 romo-u8-a-u16-haribo-kids-snow-cup-2016?tmpl=component
DESCRIPTION:<strong>PROMO  U8 à U16     Haribo Kids Snow Cup 2016</strong><br /><br />L
 ieu : MARKSTEIN<br />Organisateur : S.C VALLEE DE WESSERLING <small>(14186 
 S.C VALLEE DE WESSERLING)</small><br />Email : <!-- Cette adresse électroni
 que est protégée contre les robots spammeurs. --><span class="cloaked_email
  ep_1c1fe3c4"><span data-ep-b="m" data-ep-a="s&#99;&#118;&#119;"><span data
 -ep-b="&#108;&#46;&#99;&#111;" data-ep-a="e&#115;&#115;&#101;"><span data-e
 p-b="&#103;&#64;&#97;&#111;" data-ep-a="&#114;li&#110;"></span></span></spa
 n></span><script>RegularLabs.EmailProtector.unCloak("ep_1c1fe3c4");</script
 ><br />Telecopie : 03 89 82 78 08<br /><br />Inscriptions en cours sur ce s
 ite<ul type="disc"><li>AMVM0531  Slalom Geant <nobr>U8/U10</nobr> Garçons<b
 r />&nbsp;&nbsp;PROMO  U8 à U16     Haribo Kids Snow Cup 2016</li><li>AMVM0
 532  Slalom Geant <nobr>U12 a U16</nobr> Garçons<br />&nbsp;&nbsp;PROMO  U8
  à U16     Haribo Kids Snow Cup 2016</li><li>AMVF0531  Slalom Geant <nobr>U
 8/U10</nobr> Filles<br />&nbsp;&nbsp;PROMO  U8 à U16     Haribo Kids Snow C
 up 2016</li><li>AMVF0532  Slalom Geant <nobr>U12 a U16</nobr> Filles<br />&
 nbsp;&nbsp;PROMO  U8 à U16     Haribo Kids Snow Cup 2016</li></ul> <a href=
 "https://skivosges.net/agenda/export-synchronisation/detailevenement/523/-/
 promo-u8-a-u16-haribo-kids-snow-cup-2016?tmpl=component">Cet évènement a ét
 é importé depuis :https://skivosges.net/agenda/export-synchronisation/detai
 levenement/523/-/promo-u8-a-u16-haribo-kids-snow-cup-2016?tmpl=component</a
 >DTSTAMP:20260420T221519
DTSTART;TZID=Europe/Paris:20160217T080000
DTEND;TZID=Europe/Paris:20160217T170000
SEQUENCE:0
TRANSP:OPAQUE
END:VEVENT
END:VCALENDAR