BEGIN:VCALENDAR
VERSION:2.0
PRODID:-//jEvents 2.0 for Joomla//EN
CALSCALE:GREGORIAN
METHOD:PUBLISH
BEGIN:VTIMEZONE
TZID:Europe/Paris
BEGIN:STANDARD
DTSTART:20150216T080000
RDATE:20150329T030000
TZOFFSETFROM:+0200
TZOFFSETTO:+0100
TZNAME:Europe/Paris CET
END:STANDARD
BEGIN:STANDARD
DTSTART:20151025T020000
RDATE:20160327T030000
TZOFFSETFROM:+0200
TZOFFSETTO:+0100
TZNAME:Europe/Paris CET
END:STANDARD
BEGIN:STANDARD
DTSTART:20161030T020000
RDATE:20170326T030000
TZOFFSETFROM:+0200
TZOFFSETTO:+0100
TZNAME:Europe/Paris CET
END:STANDARD
BEGIN:STANDARD
DTSTART:20171029T020000
RDATE:20180325T030000
TZOFFSETFROM:+0200
TZOFFSETTO:+0100
TZNAME:Europe/Paris CET
END:STANDARD
BEGIN:STANDARD
DTSTART:20181028T020000
RDATE:20190331T030000
TZOFFSETFROM:+0200
TZOFFSETTO:+0100
TZNAME:Europe/Paris CET
END:STANDARD
BEGIN:STANDARD
DTSTART:20191027T020000
RDATE:20200329T030000
TZOFFSETFROM:+0200
TZOFFSETTO:+0100
TZNAME:Europe/Paris CET
END:STANDARD
BEGIN:STANDARD
DTSTART:20201025T020000
RDATE:20210328T030000
TZOFFSETFROM:+0200
TZOFFSETTO:+0100
TZNAME:Europe/Paris CET
END:STANDARD
BEGIN:STANDARD
DTSTART:20211031T020000
RDATE:20220327T030000
TZOFFSETFROM:+0200
TZOFFSETTO:+0100
TZNAME:Europe/Paris CET
END:STANDARD
BEGIN:STANDARD
DTSTART:20221030T020000
RDATE:20230326T030000
TZOFFSETFROM:+0200
TZOFFSETTO:+0100
TZNAME:Europe/Paris CET
END:STANDARD
BEGIN:STANDARD
DTSTART:20231029T020000
RDATE:20240331T030000
TZOFFSETFROM:+0200
TZOFFSETTO:+0100
TZNAME:Europe/Paris CET
END:STANDARD
BEGIN:STANDARD
DTSTART:20241027T020000
RDATE:20250330T030000
TZOFFSETFROM:+0200
TZOFFSETTO:+0100
TZNAME:Europe/Paris CET
END:STANDARD
BEGIN:STANDARD
DTSTART:20251026T020000
RDATE:20260329T030000
TZOFFSETFROM:+0200
TZOFFSETTO:+0100
TZNAME:Europe/Paris CET
END:STANDARD
BEGIN:STANDARD
DTSTART:20261025T020000
RDATE:20270328T030000
TZOFFSETFROM:+0200
TZOFFSETTO:+0100
TZNAME:Europe/Paris CET
END:STANDARD
BEGIN:DAYLIGHT
DTSTART:20150329T030000
RDATE:20151025T020000
TZOFFSETFROM:+0100
TZOFFSETTO:+0200
TZNAME:Europe/Paris CEST
END:DAYLIGHT
BEGIN:DAYLIGHT
DTSTART:20160327T030000
RDATE:20161030T020000
TZOFFSETFROM:+0100
TZOFFSETTO:+0200
TZNAME:Europe/Paris CEST
END:DAYLIGHT
BEGIN:DAYLIGHT
DTSTART:20170326T030000
RDATE:20171029T020000
TZOFFSETFROM:+0100
TZOFFSETTO:+0200
TZNAME:Europe/Paris CEST
END:DAYLIGHT
BEGIN:DAYLIGHT
DTSTART:20180325T030000
RDATE:20181028T020000
TZOFFSETFROM:+0100
TZOFFSETTO:+0200
TZNAME:Europe/Paris CEST
END:DAYLIGHT
BEGIN:DAYLIGHT
DTSTART:20190331T030000
RDATE:20191027T020000
TZOFFSETFROM:+0100
TZOFFSETTO:+0200
TZNAME:Europe/Paris CEST
END:DAYLIGHT
BEGIN:DAYLIGHT
DTSTART:20200329T030000
RDATE:20201025T020000
TZOFFSETFROM:+0100
TZOFFSETTO:+0200
TZNAME:Europe/Paris CEST
END:DAYLIGHT
BEGIN:DAYLIGHT
DTSTART:20210328T030000
RDATE:20211031T020000
TZOFFSETFROM:+0100
TZOFFSETTO:+0200
TZNAME:Europe/Paris CEST
END:DAYLIGHT
BEGIN:DAYLIGHT
DTSTART:20220327T030000
RDATE:20221030T020000
TZOFFSETFROM:+0100
TZOFFSETTO:+0200
TZNAME:Europe/Paris CEST
END:DAYLIGHT
BEGIN:DAYLIGHT
DTSTART:20230326T030000
RDATE:20231029T020000
TZOFFSETFROM:+0100
TZOFFSETTO:+0200
TZNAME:Europe/Paris CEST
END:DAYLIGHT
BEGIN:DAYLIGHT
DTSTART:20240331T030000
RDATE:20241027T020000
TZOFFSETFROM:+0100
TZOFFSETTO:+0200
TZNAME:Europe/Paris CEST
END:DAYLIGHT
BEGIN:DAYLIGHT
DTSTART:20250330T030000
RDATE:20251026T020000
TZOFFSETFROM:+0100
TZOFFSETTO:+0200
TZNAME:Europe/Paris CEST
END:DAYLIGHT
BEGIN:DAYLIGHT
DTSTART:20260329T030000
RDATE:20261025T020000
TZOFFSETFROM:+0100
TZOFFSETTO:+0200
TZNAME:Europe/Paris CEST
END:DAYLIGHT
END:VTIMEZONE
BEGIN:VEVENT
UID:625112c6f1533572e47054c543c2908e
CATEGORIES:Opens et Promos (alpin)
CREATED:20151110T133952
SUMMARY:PROMO  U8 à U16     Prix B.H.S.
URL;VALUE=URI:https://skivosges.net/agenda/export-synchronisation/detailevenement/524/-/p
 romo-u8-a-u16-prix-b-h-s?tmpl=component
DESCRIPTION:PROMO  U8 à U16     Prix B.H.S.\n\nLieu : GERARDMER\nOrganisateur : A.S DU 
 VALTIN (14409 A.S DU VALTIN)\nEmail : RegularLabs.EmailProtector.unCloak("e
 p_34206b9b");\nTelecopie : 03 29 60 98 04\nTelecopie : 03 29 60 98 04\n\nCO
 URSE ANNULEE\n\nInscriptions closes, les listes de départ sont visualisable
 s sur ce site\n - AMVM0541  Slalom U8/U10 Garçons\n  PROMO  U8 à U16     Pr
 ix B.H.S.\n - AMVM0542  Slalom U12 a U16 Garçons\n  PROMO  U8 à U16     Pri
 x B.H.S.\n - AMVF0541  Slalom U8/U10 Filles\n  PROMO  U8 à U16     Prix B.H
 .S.\n - AMVF0542  Slalom U12 a U16 Filles\n  PROMO  U8 à U16     Prix B.H.S
 . Cet évènement a été importé depuis :https://skivosges.net/agenda/export-s
 ynchronisation/detailevenement/524/-/promo-u8-a-u16-prix-b-h-s?tmpl=compone
 nt
X-ALT-DESC;FMTTYPE=text/html:<strong>PROMO  U8 à U16     Prix B.H.S.</strong><br /><br />Lieu : GERARDME
 R<br />Organisateur : A.S DU VALTIN <small>(14409 A.S DU VALTIN)</small><br
  />Email : <!-- Cette adresse électronique est protégée contre les robots s
 pammeurs. --><span class="cloaked_email ep_34206b9b"><span data-ep-b="&#114
 ;" data-ep-a="as&#103;&#115;&#107;"><span data-ep-b="&#110;g&#101;.&#102;" 
 data-ep-a="&#105;.&#103;er"><span data-ep-b="r&#64;&#111;r&#97;" data-ep-a=
 "ar&#100;&#109;&#101;"></span></span></span></span><script>RegularLabs.Emai
 lProtector.unCloak("ep_34206b9b");</script><br />Telecopie : 03 29 60 98 04
 <br />Telecopie : 03 29 60 98 04<br /><br />COURSE ANNULEE<br /><br />Inscr
 iptions closes, les listes de départ sont visualisables sur ce site<ul type
 ="disc"><li>AMVM0541  Slalom <nobr>U8/U10</nobr> Garçons<br />&nbsp;&nbsp;P
 ROMO  U8 à U16     Prix B.H.S.</li><li>AMVM0542  Slalom <nobr>U12 a U16</no
 br> Garçons<br />&nbsp;&nbsp;PROMO  U8 à U16     Prix B.H.S.</li><li>AMVF05
 41  Slalom <nobr>U8/U10</nobr> Filles<br />&nbsp;&nbsp;PROMO  U8 à U16     
 Prix B.H.S.</li><li>AMVF0542  Slalom <nobr>U12 a U16</nobr> Filles<br />&nb
 sp;&nbsp;PROMO  U8 à U16     Prix B.H.S.</li></ul> <a href="https://skivosg
 es.net/agenda/export-synchronisation/detailevenement/524/-/promo-u8-a-u16-p
 rix-b-h-s?tmpl=component">Cet évènement a été importé depuis :https://skivo
 sges.net/agenda/export-synchronisation/detailevenement/524/-/promo-u8-a-u16
 -prix-b-h-s?tmpl=component</a>DTSTAMP:20260420T220637
DTSTART;TZID=Europe/Paris:20160217T080000
DTEND;TZID=Europe/Paris:20160217T170000
SEQUENCE:0
TRANSP:OPAQUE
END:VEVENT
END:VCALENDAR