BEGIN:VCALENDAR
VERSION:2.0
PRODID:-//jEvents 2.0 for Joomla//EN
CALSCALE:GREGORIAN
METHOD:PUBLISH
BEGIN:VTIMEZONE
TZID:Europe/Paris
BEGIN:STANDARD
DTSTART:20150219T080000
RDATE:20150329T030000
TZOFFSETFROM:+0200
TZOFFSETTO:+0100
TZNAME:Europe/Paris CET
END:STANDARD
BEGIN:STANDARD
DTSTART:20151025T020000
RDATE:20160327T030000
TZOFFSETFROM:+0200
TZOFFSETTO:+0100
TZNAME:Europe/Paris CET
END:STANDARD
BEGIN:STANDARD
DTSTART:20161030T020000
RDATE:20170326T030000
TZOFFSETFROM:+0200
TZOFFSETTO:+0100
TZNAME:Europe/Paris CET
END:STANDARD
BEGIN:STANDARD
DTSTART:20171029T020000
RDATE:20180325T030000
TZOFFSETFROM:+0200
TZOFFSETTO:+0100
TZNAME:Europe/Paris CET
END:STANDARD
BEGIN:STANDARD
DTSTART:20181028T020000
RDATE:20190331T030000
TZOFFSETFROM:+0200
TZOFFSETTO:+0100
TZNAME:Europe/Paris CET
END:STANDARD
BEGIN:STANDARD
DTSTART:20191027T020000
RDATE:20200329T030000
TZOFFSETFROM:+0200
TZOFFSETTO:+0100
TZNAME:Europe/Paris CET
END:STANDARD
BEGIN:STANDARD
DTSTART:20201025T020000
RDATE:20210328T030000
TZOFFSETFROM:+0200
TZOFFSETTO:+0100
TZNAME:Europe/Paris CET
END:STANDARD
BEGIN:STANDARD
DTSTART:20211031T020000
RDATE:20220327T030000
TZOFFSETFROM:+0200
TZOFFSETTO:+0100
TZNAME:Europe/Paris CET
END:STANDARD
BEGIN:STANDARD
DTSTART:20221030T020000
RDATE:20230326T030000
TZOFFSETFROM:+0200
TZOFFSETTO:+0100
TZNAME:Europe/Paris CET
END:STANDARD
BEGIN:STANDARD
DTSTART:20231029T020000
RDATE:20240331T030000
TZOFFSETFROM:+0200
TZOFFSETTO:+0100
TZNAME:Europe/Paris CET
END:STANDARD
BEGIN:STANDARD
DTSTART:20241027T020000
RDATE:20250330T030000
TZOFFSETFROM:+0200
TZOFFSETTO:+0100
TZNAME:Europe/Paris CET
END:STANDARD
BEGIN:STANDARD
DTSTART:20251026T020000
RDATE:20260329T030000
TZOFFSETFROM:+0200
TZOFFSETTO:+0100
TZNAME:Europe/Paris CET
END:STANDARD
BEGIN:STANDARD
DTSTART:20261025T020000
RDATE:20270328T030000
TZOFFSETFROM:+0200
TZOFFSETTO:+0100
TZNAME:Europe/Paris CET
END:STANDARD
BEGIN:DAYLIGHT
DTSTART:20150329T030000
RDATE:20151025T020000
TZOFFSETFROM:+0100
TZOFFSETTO:+0200
TZNAME:Europe/Paris CEST
END:DAYLIGHT
BEGIN:DAYLIGHT
DTSTART:20160327T030000
RDATE:20161030T020000
TZOFFSETFROM:+0100
TZOFFSETTO:+0200
TZNAME:Europe/Paris CEST
END:DAYLIGHT
BEGIN:DAYLIGHT
DTSTART:20170326T030000
RDATE:20171029T020000
TZOFFSETFROM:+0100
TZOFFSETTO:+0200
TZNAME:Europe/Paris CEST
END:DAYLIGHT
BEGIN:DAYLIGHT
DTSTART:20180325T030000
RDATE:20181028T020000
TZOFFSETFROM:+0100
TZOFFSETTO:+0200
TZNAME:Europe/Paris CEST
END:DAYLIGHT
BEGIN:DAYLIGHT
DTSTART:20190331T030000
RDATE:20191027T020000
TZOFFSETFROM:+0100
TZOFFSETTO:+0200
TZNAME:Europe/Paris CEST
END:DAYLIGHT
BEGIN:DAYLIGHT
DTSTART:20200329T030000
RDATE:20201025T020000
TZOFFSETFROM:+0100
TZOFFSETTO:+0200
TZNAME:Europe/Paris CEST
END:DAYLIGHT
BEGIN:DAYLIGHT
DTSTART:20210328T030000
RDATE:20211031T020000
TZOFFSETFROM:+0100
TZOFFSETTO:+0200
TZNAME:Europe/Paris CEST
END:DAYLIGHT
BEGIN:DAYLIGHT
DTSTART:20220327T030000
RDATE:20221030T020000
TZOFFSETFROM:+0100
TZOFFSETTO:+0200
TZNAME:Europe/Paris CEST
END:DAYLIGHT
BEGIN:DAYLIGHT
DTSTART:20230326T030000
RDATE:20231029T020000
TZOFFSETFROM:+0100
TZOFFSETTO:+0200
TZNAME:Europe/Paris CEST
END:DAYLIGHT
BEGIN:DAYLIGHT
DTSTART:20240331T030000
RDATE:20241027T020000
TZOFFSETFROM:+0100
TZOFFSETTO:+0200
TZNAME:Europe/Paris CEST
END:DAYLIGHT
BEGIN:DAYLIGHT
DTSTART:20250330T030000
RDATE:20251026T020000
TZOFFSETFROM:+0100
TZOFFSETTO:+0200
TZNAME:Europe/Paris CEST
END:DAYLIGHT
BEGIN:DAYLIGHT
DTSTART:20260329T030000
RDATE:20261025T020000
TZOFFSETFROM:+0100
TZOFFSETTO:+0200
TZNAME:Europe/Paris CEST
END:DAYLIGHT
END:VTIMEZONE
BEGIN:VEVENT
UID:83cd9bce28a0250c95c82df44cfdbea5
CATEGORIES:Autres Épreuves (alpin)
CREATED:20151110T133952
SUMMARY:GP International Citadin
URL;VALUE=URI:https://skivosges.net/agenda/export-synchronisation/detailevenement/526/-/g
 p-international-citadin?tmpl=component
DESCRIPTION:GP International Citadin\nEmail : RegularLabs.EmailProtector.unCloak("ep_36
 063b27");\nTelecopie : 33(389) 82 78 0\n  Piste:Markstein\n - Le 20/02/2016
 \n1748  Slalom Toutes les Categories Hommes\n  GP International Citadin\n  
 Piste:Markstein\n - Le 20/02/2016\n6771  Slalom Toutes les Categories Dames
 \n  GP International Citadin\n  Piste:Markstein\n - Le 21/02/2016\n1749  Sl
 alom Toutes les Categories Hommes\n  GP International Citadin\n  Piste:Mark
 stein\n - Le 21/02/2016\n6772  Slalom Toutes les Categories Dames\n  GP Int
 ernational Citadin Cet évènement a été importé depuis :https://skivosges.ne
 t/agenda/export-synchronisation/detailevenement/526/-/gp-international-cita
 din?tmpl=component (https://skivosges.net/agenda/export-synchronisation/det
 ailevenement/526/-/gp-international-citadin?tmpl=component)
X-ALT-DESC;FMTTYPE=text/html:<strong>GP International Citadin</strong><br />Email : <!-- Cette adresse é
 lectronique est protégée contre les robots spammeurs. --><span class="cloak
 ed_email ep_36063b27"><span data-ep-a="sc&#118;w" data-ep-b="&#109;"><span 
 data-ep-a="&#101;&#115;&#115;&#101;" data-ep-b="l&#46;co"><span data-ep-a="
 r&#108;in" data-ep-b="&#103;&#64;&#97;o"></span></span></span></span><scrip
 t>RegularLabs.EmailProtector.unCloak("ep_36063b27");</script><br />Telecopi
 e : 33(389) 82 78 0<ul type="disc"><br />&nbsp;&nbsp;Piste:Markstein<li><no
 br>Le 20/02/2016</nobr><br />1748  Slalom <nobr>Toutes les Categories</nobr
 > Hommes<br />&nbsp;&nbsp;GP International Citadin</li><br />&nbsp;&nbsp;Pi
 ste:Markstein<li><nobr>Le 20/02/2016</nobr><br />6771  Slalom <nobr>Toutes 
 les Categories</nobr> Dames<br />&nbsp;&nbsp;GP International Citadin</li><
 br />&nbsp;&nbsp;Piste:Markstein<li><nobr>Le 21/02/2016</nobr><br />1749  S
 lalom <nobr>Toutes les Categories</nobr> Hommes<br />&nbsp;&nbsp;GP Interna
 tional Citadin</li><br />&nbsp;&nbsp;Piste:Markstein<li><nobr>Le 21/02/2016
 </nobr><br />6772  Slalom <nobr>Toutes les Categories</nobr> Dames<br />&nb
 sp;&nbsp;GP International Citadin</li></ul> <a href="https://skivosges.net/
 agenda/export-synchronisation/detailevenement/526/-/gp-international-citadi
 n?tmpl=component">Cet évènement a été importé depuis :https://skivosges.net
 /agenda/export-synchronisation/detailevenement/526/-/gp-international-citad
 in?tmpl=component</a>DTSTAMP:20260420T220612
DTSTART;TZID=Europe/Paris:20160220T080000
DTEND;TZID=Europe/Paris:20160221T170000
SEQUENCE:0
TRANSP:OPAQUE
END:VEVENT
END:VCALENDAR