BEGIN:VCALENDAR
VERSION:2.0
PRODID:-//jEvents 2.0 for Joomla//EN
CALSCALE:GREGORIAN
METHOD:PUBLISH
BEGIN:VTIMEZONE
TZID:Europe/Paris
BEGIN:STANDARD
DTSTART:20150219T080000
RDATE:20150329T030000
TZOFFSETFROM:+0200
TZOFFSETTO:+0100
TZNAME:Europe/Paris CET
END:STANDARD
BEGIN:STANDARD
DTSTART:20151025T020000
RDATE:20160327T030000
TZOFFSETFROM:+0200
TZOFFSETTO:+0100
TZNAME:Europe/Paris CET
END:STANDARD
BEGIN:STANDARD
DTSTART:20161030T020000
RDATE:20170326T030000
TZOFFSETFROM:+0200
TZOFFSETTO:+0100
TZNAME:Europe/Paris CET
END:STANDARD
BEGIN:STANDARD
DTSTART:20171029T020000
RDATE:20180325T030000
TZOFFSETFROM:+0200
TZOFFSETTO:+0100
TZNAME:Europe/Paris CET
END:STANDARD
BEGIN:STANDARD
DTSTART:20181028T020000
RDATE:20190331T030000
TZOFFSETFROM:+0200
TZOFFSETTO:+0100
TZNAME:Europe/Paris CET
END:STANDARD
BEGIN:STANDARD
DTSTART:20191027T020000
RDATE:20200329T030000
TZOFFSETFROM:+0200
TZOFFSETTO:+0100
TZNAME:Europe/Paris CET
END:STANDARD
BEGIN:STANDARD
DTSTART:20201025T020000
RDATE:20210328T030000
TZOFFSETFROM:+0200
TZOFFSETTO:+0100
TZNAME:Europe/Paris CET
END:STANDARD
BEGIN:STANDARD
DTSTART:20211031T020000
RDATE:20220327T030000
TZOFFSETFROM:+0200
TZOFFSETTO:+0100
TZNAME:Europe/Paris CET
END:STANDARD
BEGIN:STANDARD
DTSTART:20221030T020000
RDATE:20230326T030000
TZOFFSETFROM:+0200
TZOFFSETTO:+0100
TZNAME:Europe/Paris CET
END:STANDARD
BEGIN:STANDARD
DTSTART:20231029T020000
RDATE:20240331T030000
TZOFFSETFROM:+0200
TZOFFSETTO:+0100
TZNAME:Europe/Paris CET
END:STANDARD
BEGIN:STANDARD
DTSTART:20241027T020000
RDATE:20250330T030000
TZOFFSETFROM:+0200
TZOFFSETTO:+0100
TZNAME:Europe/Paris CET
END:STANDARD
BEGIN:STANDARD
DTSTART:20251026T020000
RDATE:20260329T030000
TZOFFSETFROM:+0200
TZOFFSETTO:+0100
TZNAME:Europe/Paris CET
END:STANDARD
BEGIN:STANDARD
DTSTART:20261025T020000
RDATE:20270328T030000
TZOFFSETFROM:+0200
TZOFFSETTO:+0100
TZNAME:Europe/Paris CET
END:STANDARD
BEGIN:DAYLIGHT
DTSTART:20150329T030000
RDATE:20151025T020000
TZOFFSETFROM:+0100
TZOFFSETTO:+0200
TZNAME:Europe/Paris CEST
END:DAYLIGHT
BEGIN:DAYLIGHT
DTSTART:20160327T030000
RDATE:20161030T020000
TZOFFSETFROM:+0100
TZOFFSETTO:+0200
TZNAME:Europe/Paris CEST
END:DAYLIGHT
BEGIN:DAYLIGHT
DTSTART:20170326T030000
RDATE:20171029T020000
TZOFFSETFROM:+0100
TZOFFSETTO:+0200
TZNAME:Europe/Paris CEST
END:DAYLIGHT
BEGIN:DAYLIGHT
DTSTART:20180325T030000
RDATE:20181028T020000
TZOFFSETFROM:+0100
TZOFFSETTO:+0200
TZNAME:Europe/Paris CEST
END:DAYLIGHT
BEGIN:DAYLIGHT
DTSTART:20190331T030000
RDATE:20191027T020000
TZOFFSETFROM:+0100
TZOFFSETTO:+0200
TZNAME:Europe/Paris CEST
END:DAYLIGHT
BEGIN:DAYLIGHT
DTSTART:20200329T030000
RDATE:20201025T020000
TZOFFSETFROM:+0100
TZOFFSETTO:+0200
TZNAME:Europe/Paris CEST
END:DAYLIGHT
BEGIN:DAYLIGHT
DTSTART:20210328T030000
RDATE:20211031T020000
TZOFFSETFROM:+0100
TZOFFSETTO:+0200
TZNAME:Europe/Paris CEST
END:DAYLIGHT
BEGIN:DAYLIGHT
DTSTART:20220327T030000
RDATE:20221030T020000
TZOFFSETFROM:+0100
TZOFFSETTO:+0200
TZNAME:Europe/Paris CEST
END:DAYLIGHT
BEGIN:DAYLIGHT
DTSTART:20230326T030000
RDATE:20231029T020000
TZOFFSETFROM:+0100
TZOFFSETTO:+0200
TZNAME:Europe/Paris CEST
END:DAYLIGHT
BEGIN:DAYLIGHT
DTSTART:20240331T030000
RDATE:20241027T020000
TZOFFSETFROM:+0100
TZOFFSETTO:+0200
TZNAME:Europe/Paris CEST
END:DAYLIGHT
BEGIN:DAYLIGHT
DTSTART:20250330T030000
RDATE:20251026T020000
TZOFFSETFROM:+0100
TZOFFSETTO:+0200
TZNAME:Europe/Paris CEST
END:DAYLIGHT
BEGIN:DAYLIGHT
DTSTART:20260329T030000
RDATE:20261025T020000
TZOFFSETFROM:+0100
TZOFFSETTO:+0200
TZNAME:Europe/Paris CEST
END:DAYLIGHT
END:VTIMEZONE
BEGIN:VEVENT
UID:9040412edd9faa8ce1754647f8403c15
CATEGORIES:Opens et Promos (alpin)
CREATED:20151110T133952
SUMMARY:OPEN  U8 à U14    Coupe Vola
URL;VALUE=URI:https://skivosges.net/agenda/export-synchronisation/detailevenement/527/-/o
 pen-u8-a-u14-coupe-vola?tmpl=component
DESCRIPTION:OPEN  U8 à U14    Coupe Vola\n\nLieu : MARKSTEIN\nPiste : Stade de Slalom\n
 Organisateur : S.C.O.S.E.G. GUEBWILLER (14356 S.C.O.S.E.G. GUEBWILLER)\nEma
 il : RegularLabs.EmailProtector.unCloak("ep_d4ba014b");\nTelecopie : 06 81 
 99 73 62\n\nInscriptions en cours sur ce site\n - AMVM0551  Slalom Geant U8
 /U10 Garçons\n  OPEN  U8 à U14    Coupe Vola\n - AMVM0552  Slalom Geant U12
 /U14 Garçons\n  OPEN  U8 à U14    Coupe Vola\n - AMVF0551  Slalom Geant U8/
 U10 Filles\n  OPEN  U8 à U14    Coupe Vola\n - AMVF0552  Slalom Geant U12/U
 14 Filles\n  OPEN  U8 à U14    Coupe Vola Cet évènement a été importé depui
 s :https://skivosges.net/agenda/export-synchronisation/detailevenement/527/
 -/open-u8-a-u14-coupe-vola?tmpl=component
X-ALT-DESC;FMTTYPE=text/html:<strong>OPEN  U8 à U14    Coupe Vola</strong><br /><br />Lieu : MARKSTEIN<b
 r />Piste : Stade de Slalom<br />Organisateur : S.C.O.S.E.G. GUEBWILLER <sm
 all>(14356 S.C.O.S.E.G. GUEBWILLER)</small><br />Email : <!-- Cette adresse
  électronique est protégée contre les robots spammeurs. --><span class="clo
 aked_email ep_d4ba014b"><span data-ep-b="&#109;" data-ep-a="&#115;cvw"><spa
 n data-ep-b="l&#46;c&#111;" data-ep-a="es&#115;&#101;"><span data-ep-a="&#1
 14;&#108;&#105;&#110;" data-ep-b="&#103;&#64;&#97;&#111;"></span></span></s
 pan></span><script>RegularLabs.EmailProtector.unCloak("ep_d4ba014b");</scri
 pt><br />Telecopie : 06 81 99 73 62<br /><br />Inscriptions en cours sur ce
  site<ul type="disc"><li>AMVM0551  Slalom Geant <nobr>U8/U10</nobr> Garçons
 <br />&nbsp;&nbsp;OPEN  U8 à U14    Coupe Vola</li><li>AMVM0552  Slalom Gea
 nt <nobr>U12/U14</nobr> Garçons<br />&nbsp;&nbsp;OPEN  U8 à U14    Coupe Vo
 la</li><li>AMVF0551  Slalom Geant <nobr>U8/U10</nobr> Filles<br />&nbsp;&nb
 sp;OPEN  U8 à U14    Coupe Vola</li><li>AMVF0552  Slalom Geant <nobr>U12/U1
 4</nobr> Filles<br />&nbsp;&nbsp;OPEN  U8 à U14    Coupe Vola</li></ul> <a 
 href="https://skivosges.net/agenda/export-synchronisation/detailevenement/5
 27/-/open-u8-a-u14-coupe-vola?tmpl=component">Cet évènement a été importé d
 epuis :https://skivosges.net/agenda/export-synchronisation/detailevenement/
 527/-/open-u8-a-u14-coupe-vola?tmpl=component</a>DTSTAMP:20260420T220721
DTSTART;TZID=Europe/Paris:20160220T080000
DTEND;TZID=Europe/Paris:20160220T170000
SEQUENCE:0
TRANSP:OPAQUE
END:VEVENT
END:VCALENDAR