BEGIN:VCALENDAR
VERSION:2.0
PRODID:-//jEvents 2.0 for Joomla//EN
CALSCALE:GREGORIAN
METHOD:PUBLISH
BEGIN:VTIMEZONE
TZID:Europe/Paris
BEGIN:STANDARD
DTSTART:20150219T080000
RDATE:20150329T030000
TZOFFSETFROM:+0200
TZOFFSETTO:+0100
TZNAME:Europe/Paris CET
END:STANDARD
BEGIN:STANDARD
DTSTART:20151025T020000
RDATE:20160327T030000
TZOFFSETFROM:+0200
TZOFFSETTO:+0100
TZNAME:Europe/Paris CET
END:STANDARD
BEGIN:STANDARD
DTSTART:20161030T020000
RDATE:20170326T030000
TZOFFSETFROM:+0200
TZOFFSETTO:+0100
TZNAME:Europe/Paris CET
END:STANDARD
BEGIN:STANDARD
DTSTART:20171029T020000
RDATE:20180325T030000
TZOFFSETFROM:+0200
TZOFFSETTO:+0100
TZNAME:Europe/Paris CET
END:STANDARD
BEGIN:STANDARD
DTSTART:20181028T020000
RDATE:20190331T030000
TZOFFSETFROM:+0200
TZOFFSETTO:+0100
TZNAME:Europe/Paris CET
END:STANDARD
BEGIN:STANDARD
DTSTART:20191027T020000
RDATE:20200329T030000
TZOFFSETFROM:+0200
TZOFFSETTO:+0100
TZNAME:Europe/Paris CET
END:STANDARD
BEGIN:STANDARD
DTSTART:20201025T020000
RDATE:20210328T030000
TZOFFSETFROM:+0200
TZOFFSETTO:+0100
TZNAME:Europe/Paris CET
END:STANDARD
BEGIN:STANDARD
DTSTART:20211031T020000
RDATE:20220327T030000
TZOFFSETFROM:+0200
TZOFFSETTO:+0100
TZNAME:Europe/Paris CET
END:STANDARD
BEGIN:STANDARD
DTSTART:20221030T020000
RDATE:20230326T030000
TZOFFSETFROM:+0200
TZOFFSETTO:+0100
TZNAME:Europe/Paris CET
END:STANDARD
BEGIN:STANDARD
DTSTART:20231029T020000
RDATE:20240331T030000
TZOFFSETFROM:+0200
TZOFFSETTO:+0100
TZNAME:Europe/Paris CET
END:STANDARD
BEGIN:STANDARD
DTSTART:20241027T020000
RDATE:20250330T030000
TZOFFSETFROM:+0200
TZOFFSETTO:+0100
TZNAME:Europe/Paris CET
END:STANDARD
BEGIN:STANDARD
DTSTART:20251026T020000
RDATE:20260329T030000
TZOFFSETFROM:+0200
TZOFFSETTO:+0100
TZNAME:Europe/Paris CET
END:STANDARD
BEGIN:STANDARD
DTSTART:20261025T020000
RDATE:20270328T030000
TZOFFSETFROM:+0200
TZOFFSETTO:+0100
TZNAME:Europe/Paris CET
END:STANDARD
BEGIN:DAYLIGHT
DTSTART:20150329T030000
RDATE:20151025T020000
TZOFFSETFROM:+0100
TZOFFSETTO:+0200
TZNAME:Europe/Paris CEST
END:DAYLIGHT
BEGIN:DAYLIGHT
DTSTART:20160327T030000
RDATE:20161030T020000
TZOFFSETFROM:+0100
TZOFFSETTO:+0200
TZNAME:Europe/Paris CEST
END:DAYLIGHT
BEGIN:DAYLIGHT
DTSTART:20170326T030000
RDATE:20171029T020000
TZOFFSETFROM:+0100
TZOFFSETTO:+0200
TZNAME:Europe/Paris CEST
END:DAYLIGHT
BEGIN:DAYLIGHT
DTSTART:20180325T030000
RDATE:20181028T020000
TZOFFSETFROM:+0100
TZOFFSETTO:+0200
TZNAME:Europe/Paris CEST
END:DAYLIGHT
BEGIN:DAYLIGHT
DTSTART:20190331T030000
RDATE:20191027T020000
TZOFFSETFROM:+0100
TZOFFSETTO:+0200
TZNAME:Europe/Paris CEST
END:DAYLIGHT
BEGIN:DAYLIGHT
DTSTART:20200329T030000
RDATE:20201025T020000
TZOFFSETFROM:+0100
TZOFFSETTO:+0200
TZNAME:Europe/Paris CEST
END:DAYLIGHT
BEGIN:DAYLIGHT
DTSTART:20210328T030000
RDATE:20211031T020000
TZOFFSETFROM:+0100
TZOFFSETTO:+0200
TZNAME:Europe/Paris CEST
END:DAYLIGHT
BEGIN:DAYLIGHT
DTSTART:20220327T030000
RDATE:20221030T020000
TZOFFSETFROM:+0100
TZOFFSETTO:+0200
TZNAME:Europe/Paris CEST
END:DAYLIGHT
BEGIN:DAYLIGHT
DTSTART:20230326T030000
RDATE:20231029T020000
TZOFFSETFROM:+0100
TZOFFSETTO:+0200
TZNAME:Europe/Paris CEST
END:DAYLIGHT
BEGIN:DAYLIGHT
DTSTART:20240331T030000
RDATE:20241027T020000
TZOFFSETFROM:+0100
TZOFFSETTO:+0200
TZNAME:Europe/Paris CEST
END:DAYLIGHT
BEGIN:DAYLIGHT
DTSTART:20250330T030000
RDATE:20251026T020000
TZOFFSETFROM:+0100
TZOFFSETTO:+0200
TZNAME:Europe/Paris CEST
END:DAYLIGHT
BEGIN:DAYLIGHT
DTSTART:20260329T030000
RDATE:20261025T020000
TZOFFSETFROM:+0100
TZOFFSETTO:+0200
TZNAME:Europe/Paris CEST
END:DAYLIGHT
END:VTIMEZONE
BEGIN:VEVENT
UID:040cfdf7d8bcf34ed293ccbd3f0a2b99
CATEGORIES:Compétition Biathlon
CREATED:20151110T133952
SUMMARY:02 Biathlon Régional 50m **REPORTE**
URL;VALUE=URI:https://skivosges.net/agenda/export-synchronisation/detailevenement/528/-/0
 2-biathlon-regional-50m-reporte?tmpl=component
DESCRIPTION:02 Biathlon Régional 50m (Epreuve reportée)\n\nLieu : CHAMP DU FEU\nOrganis
 ateur : MOLSHEIM SKI NORDIQUE (14448 MOLSHEIM SKI NORDIQUE)\nTelecopie : 06
  73 43 64 09\n\nInscriptions en cours sur ce site\n - BMVF0041  Sprint U16 
 a SEN (Cadet a Senior) Dames\n  02 Biathlon Régional 50m\n - BMVM0041  Spri
 nt U16 a SEN (Cadet a Senior) Hommes\n  02 Biathlon Régional 50m Cet évènem
 ent a été importé depuis :https://skivosges.net/agenda/export-synchronisati
 on/detailevenement/528/-/02-biathlon-regional-50m-reporte?tmpl=component (h
 ttps://skivosges.net/agenda/export-synchronisation/detailevenement/528/-/02
 -biathlon-regional-50m-reporte?tmpl=component)
X-ALT-DESC;FMTTYPE=text/html:<strong>02 Biathlon Régional 50m</strong> <font class="attention4">(Epreuve
  reportée)</font><br /><br />Lieu : CHAMP DU FEU<br />Organisateur : MOLSHE
 IM SKI NORDIQUE <small>(14448 MOLSHEIM SKI NORDIQUE)</small><br />Telecopie
  : 06 73 43 64 09<br /><br />Inscriptions en cours sur ce site<ul type="dis
 c"><li>BMVF0041  Sprint <nobr>U16 a SEN (Cadet a Senior)</nobr> Dames<br />
 &nbsp;&nbsp;02 Biathlon Régional 50m</li><li>BMVM0041  Sprint <nobr>U16 a S
 EN (Cadet a Senior)</nobr> Hommes<br />&nbsp;&nbsp;02 Biathlon Régional 50m
 </li></ul> <a href="https://skivosges.net/agenda/export-synchronisation/det
 ailevenement/528/-/02-biathlon-regional-50m-reporte?tmpl=component">Cet évè
 nement a été importé depuis :https://skivosges.net/agenda/export-synchronis
 ation/detailevenement/528/-/02-biathlon-regional-50m-reporte?tmpl=component
 </a>DTSTAMP:20260421T014248
DTSTART;TZID=Europe/Paris:20160220T080000
DTEND;TZID=Europe/Paris:20160220T170000
SEQUENCE:0
TRANSP:OPAQUE
END:VEVENT
END:VCALENDAR