BEGIN:VCALENDAR
VERSION:2.0
PRODID:-//jEvents 2.0 for Joomla//EN
CALSCALE:GREGORIAN
METHOD:PUBLISH
BEGIN:VTIMEZONE
TZID:Europe/Paris
BEGIN:STANDARD
DTSTART:20150220T080000
RDATE:20150329T030000
TZOFFSETFROM:+0200
TZOFFSETTO:+0100
TZNAME:Europe/Paris CET
END:STANDARD
BEGIN:STANDARD
DTSTART:20151025T020000
RDATE:20160327T030000
TZOFFSETFROM:+0200
TZOFFSETTO:+0100
TZNAME:Europe/Paris CET
END:STANDARD
BEGIN:STANDARD
DTSTART:20161030T020000
RDATE:20170326T030000
TZOFFSETFROM:+0200
TZOFFSETTO:+0100
TZNAME:Europe/Paris CET
END:STANDARD
BEGIN:STANDARD
DTSTART:20171029T020000
RDATE:20180325T030000
TZOFFSETFROM:+0200
TZOFFSETTO:+0100
TZNAME:Europe/Paris CET
END:STANDARD
BEGIN:STANDARD
DTSTART:20181028T020000
RDATE:20190331T030000
TZOFFSETFROM:+0200
TZOFFSETTO:+0100
TZNAME:Europe/Paris CET
END:STANDARD
BEGIN:STANDARD
DTSTART:20191027T020000
RDATE:20200329T030000
TZOFFSETFROM:+0200
TZOFFSETTO:+0100
TZNAME:Europe/Paris CET
END:STANDARD
BEGIN:STANDARD
DTSTART:20201025T020000
RDATE:20210328T030000
TZOFFSETFROM:+0200
TZOFFSETTO:+0100
TZNAME:Europe/Paris CET
END:STANDARD
BEGIN:STANDARD
DTSTART:20211031T020000
RDATE:20220327T030000
TZOFFSETFROM:+0200
TZOFFSETTO:+0100
TZNAME:Europe/Paris CET
END:STANDARD
BEGIN:STANDARD
DTSTART:20221030T020000
RDATE:20230326T030000
TZOFFSETFROM:+0200
TZOFFSETTO:+0100
TZNAME:Europe/Paris CET
END:STANDARD
BEGIN:STANDARD
DTSTART:20231029T020000
RDATE:20240331T030000
TZOFFSETFROM:+0200
TZOFFSETTO:+0100
TZNAME:Europe/Paris CET
END:STANDARD
BEGIN:STANDARD
DTSTART:20241027T020000
RDATE:20250330T030000
TZOFFSETFROM:+0200
TZOFFSETTO:+0100
TZNAME:Europe/Paris CET
END:STANDARD
BEGIN:STANDARD
DTSTART:20251026T020000
RDATE:20260329T030000
TZOFFSETFROM:+0200
TZOFFSETTO:+0100
TZNAME:Europe/Paris CET
END:STANDARD
BEGIN:STANDARD
DTSTART:20261025T020000
RDATE:20270328T030000
TZOFFSETFROM:+0200
TZOFFSETTO:+0100
TZNAME:Europe/Paris CET
END:STANDARD
BEGIN:DAYLIGHT
DTSTART:20150329T030000
RDATE:20151025T020000
TZOFFSETFROM:+0100
TZOFFSETTO:+0200
TZNAME:Europe/Paris CEST
END:DAYLIGHT
BEGIN:DAYLIGHT
DTSTART:20160327T030000
RDATE:20161030T020000
TZOFFSETFROM:+0100
TZOFFSETTO:+0200
TZNAME:Europe/Paris CEST
END:DAYLIGHT
BEGIN:DAYLIGHT
DTSTART:20170326T030000
RDATE:20171029T020000
TZOFFSETFROM:+0100
TZOFFSETTO:+0200
TZNAME:Europe/Paris CEST
END:DAYLIGHT
BEGIN:DAYLIGHT
DTSTART:20180325T030000
RDATE:20181028T020000
TZOFFSETFROM:+0100
TZOFFSETTO:+0200
TZNAME:Europe/Paris CEST
END:DAYLIGHT
BEGIN:DAYLIGHT
DTSTART:20190331T030000
RDATE:20191027T020000
TZOFFSETFROM:+0100
TZOFFSETTO:+0200
TZNAME:Europe/Paris CEST
END:DAYLIGHT
BEGIN:DAYLIGHT
DTSTART:20200329T030000
RDATE:20201025T020000
TZOFFSETFROM:+0100
TZOFFSETTO:+0200
TZNAME:Europe/Paris CEST
END:DAYLIGHT
BEGIN:DAYLIGHT
DTSTART:20210328T030000
RDATE:20211031T020000
TZOFFSETFROM:+0100
TZOFFSETTO:+0200
TZNAME:Europe/Paris CEST
END:DAYLIGHT
BEGIN:DAYLIGHT
DTSTART:20220327T030000
RDATE:20221030T020000
TZOFFSETFROM:+0100
TZOFFSETTO:+0200
TZNAME:Europe/Paris CEST
END:DAYLIGHT
BEGIN:DAYLIGHT
DTSTART:20230326T030000
RDATE:20231029T020000
TZOFFSETFROM:+0100
TZOFFSETTO:+0200
TZNAME:Europe/Paris CEST
END:DAYLIGHT
BEGIN:DAYLIGHT
DTSTART:20240331T030000
RDATE:20241027T020000
TZOFFSETFROM:+0100
TZOFFSETTO:+0200
TZNAME:Europe/Paris CEST
END:DAYLIGHT
BEGIN:DAYLIGHT
DTSTART:20250330T030000
RDATE:20251026T020000
TZOFFSETFROM:+0100
TZOFFSETTO:+0200
TZNAME:Europe/Paris CEST
END:DAYLIGHT
BEGIN:DAYLIGHT
DTSTART:20260329T030000
RDATE:20261025T020000
TZOFFSETFROM:+0100
TZOFFSETTO:+0200
TZNAME:Europe/Paris CEST
END:DAYLIGHT
END:VTIMEZONE
BEGIN:VEVENT
UID:179d1d5158a589472fa474916a4c19c7
CATEGORIES:Circuit Alsace Jeunes (alpin)
CREATED:20151110T133952
SUMMARY:CAJ  U8 à U10 / U12 à U14  Coupe des Téleskis du Champ du Feu
URL;VALUE=URI:https://skivosges.net/agenda/export-synchronisation/detailevenement/530/-/c
 aj-u8-a-u10-u12-a-u14-coupe-des-teleskis-du-champ-du-feu?tmpl=component
DESCRIPTION:CAJ  U8 à U10 / U12 à U14  Coupe des Téleskis du Champ du Feu \n(Coupe d'Al
 sace Jeunes)\n\nLieu : CHAMP DU FEU\nOrganisateur : A.S DES CHEMINOTS STRAS
 BOURG (14071 A.S DES CHEMINOTS STRASBOURG)\nEmail : RegularLabs.EmailProtec
 tor.unCloak("ep_e45c45ef");\nTelecopie : 03 88 97 72 85\nTelecopie : 03 88 
 97 72 85\n\nInscriptions closes, tirage des dossards en cours\n - AMVM0571 
  Slalom (Micro Coupe) U8/U10 Garçons\n  CAJ  U8 à U10 / U12 à U14  Coupe de
 s Téleskis du Champ du Feu\n - AMVM0572  Slalom (Coupe de Bronze) U12/U14 G
 arçons\n  CAJ  U8 à U10 / U12 à U14  Coupe des Téleskis du Champ du Feu\n -
  AMVM0573  Slalom (Micro Coupe) U8/U10 Garçons\n  CAJ  U8 à U10 / U12 à U14
   Coupe des Téleskis du Champ du Feu\n - AMVM0574  Slalom (Coupe de Bronze)
  U12/U14 Garçons\n  CAJ  U8 à U10 / U12 à U14  Coupe des Téleskis du Champ 
 du Feu Cet évènement a été importé depuis :https://skivosges.net/agenda/exp
 ort-synchronisation/detailevenement/530/-/caj-u8-a-u10-u12-a-u14-coupe-des-
 teleskis-du-champ-du-feu?tmpl=component
X-ALT-DESC;FMTTYPE=text/html:<strong>CAJ  U8 à U10 / U12 à U14  Coupe des Téleskis du Champ du Feu</stro
 ng> <br /><i>(Coupe d'Alsace Jeunes)</i><br /><br />Lieu : CHAMP DU FEU<br 
 />Organisateur : A.S DES CHEMINOTS STRASBOURG <small>(14071 A.S DES CHEMINO
 TS STRASBOURG)</small><br />Email : <!-- Cette adresse électronique est pro
 tégée contre les robots spammeurs. --><span class="cloaked_email ep_e45c45e
 f"><span data-ep-a="&#104;&#101;&#114;v" data-ep-b="&#46;net"><span data-ep
 -a="&#101;.&#98;r" data-ep-b="&#111;&#115;t&#101;"><span data-ep-b="&#64;l&
 #97;&#112;" data-ep-a="&#105;g&#111;n"></span></span></span></span><script>
 RegularLabs.EmailProtector.unCloak("ep_e45c45ef");</script><br />Telecopie 
 : 03 88 97 72 85<br />Telecopie : 03 88 97 72 85<br /><br />Inscriptions cl
 oses, tirage des dossards en cours<ul type="disc"><li>AMVM0571  Slalom <nob
 r><i>(Micro Coupe)</i></nobr> <nobr>U8/U10</nobr> Garçons<br />&nbsp;&nbsp;
 CAJ  U8 à U10 / U12 à U14  Coupe des Téleskis du Champ du Feu</li><li>AMVM0
 572  Slalom <nobr><i>(Coupe de Bronze)</i></nobr> <nobr>U12/U14</nobr> Garç
 ons<br />&nbsp;&nbsp;CAJ  U8 à U10 / U12 à U14  Coupe des Téleskis du Champ
  du Feu</li><li>AMVM0573  Slalom <nobr><i>(Micro Coupe)</i></nobr> <nobr>U8
 /U10</nobr> Garçons<br />&nbsp;&nbsp;CAJ  U8 à U10 / U12 à U14  Coupe des T
 éleskis du Champ du Feu</li><li>AMVM0574  Slalom <nobr><i>(Coupe de Bronze)
 </i></nobr> <nobr>U12/U14</nobr> Garçons<br />&nbsp;&nbsp;CAJ  U8 à U10 / U
 12 à U14  Coupe des Téleskis du Champ du Feu</li></ul> <a href="https://ski
 vosges.net/agenda/export-synchronisation/detailevenement/530/-/caj-u8-a-u10
 -u12-a-u14-coupe-des-teleskis-du-champ-du-feu?tmpl=component">Cet évènement
  a été importé depuis :https://skivosges.net/agenda/export-synchronisation/
 detailevenement/530/-/caj-u8-a-u10-u12-a-u14-coupe-des-teleskis-du-champ-du
 -feu?tmpl=component</a>DTSTAMP:20260420T220913
DTSTART;TZID=Europe/Paris:20160221T080000
DTEND;TZID=Europe/Paris:20160221T170000
SEQUENCE:0
TRANSP:OPAQUE
END:VEVENT
END:VCALENDAR