BEGIN:VCALENDAR
VERSION:2.0
PRODID:-//jEvents 2.0 for Joomla//EN
CALSCALE:GREGORIAN
METHOD:PUBLISH
BEGIN:VTIMEZONE
TZID:Europe/Paris
BEGIN:STANDARD
DTSTART:20150220T080000
RDATE:20150329T030000
TZOFFSETFROM:+0200
TZOFFSETTO:+0100
TZNAME:Europe/Paris CET
END:STANDARD
BEGIN:STANDARD
DTSTART:20151025T020000
RDATE:20160327T030000
TZOFFSETFROM:+0200
TZOFFSETTO:+0100
TZNAME:Europe/Paris CET
END:STANDARD
BEGIN:STANDARD
DTSTART:20161030T020000
RDATE:20170326T030000
TZOFFSETFROM:+0200
TZOFFSETTO:+0100
TZNAME:Europe/Paris CET
END:STANDARD
BEGIN:STANDARD
DTSTART:20171029T020000
RDATE:20180325T030000
TZOFFSETFROM:+0200
TZOFFSETTO:+0100
TZNAME:Europe/Paris CET
END:STANDARD
BEGIN:STANDARD
DTSTART:20181028T020000
RDATE:20190331T030000
TZOFFSETFROM:+0200
TZOFFSETTO:+0100
TZNAME:Europe/Paris CET
END:STANDARD
BEGIN:STANDARD
DTSTART:20191027T020000
RDATE:20200329T030000
TZOFFSETFROM:+0200
TZOFFSETTO:+0100
TZNAME:Europe/Paris CET
END:STANDARD
BEGIN:STANDARD
DTSTART:20201025T020000
RDATE:20210328T030000
TZOFFSETFROM:+0200
TZOFFSETTO:+0100
TZNAME:Europe/Paris CET
END:STANDARD
BEGIN:STANDARD
DTSTART:20211031T020000
RDATE:20220327T030000
TZOFFSETFROM:+0200
TZOFFSETTO:+0100
TZNAME:Europe/Paris CET
END:STANDARD
BEGIN:STANDARD
DTSTART:20221030T020000
RDATE:20230326T030000
TZOFFSETFROM:+0200
TZOFFSETTO:+0100
TZNAME:Europe/Paris CET
END:STANDARD
BEGIN:STANDARD
DTSTART:20231029T020000
RDATE:20240331T030000
TZOFFSETFROM:+0200
TZOFFSETTO:+0100
TZNAME:Europe/Paris CET
END:STANDARD
BEGIN:STANDARD
DTSTART:20241027T020000
RDATE:20250330T030000
TZOFFSETFROM:+0200
TZOFFSETTO:+0100
TZNAME:Europe/Paris CET
END:STANDARD
BEGIN:STANDARD
DTSTART:20251026T020000
RDATE:20260329T030000
TZOFFSETFROM:+0200
TZOFFSETTO:+0100
TZNAME:Europe/Paris CET
END:STANDARD
BEGIN:STANDARD
DTSTART:20261025T020000
RDATE:20270328T030000
TZOFFSETFROM:+0200
TZOFFSETTO:+0100
TZNAME:Europe/Paris CET
END:STANDARD
BEGIN:DAYLIGHT
DTSTART:20150329T030000
RDATE:20151025T020000
TZOFFSETFROM:+0100
TZOFFSETTO:+0200
TZNAME:Europe/Paris CEST
END:DAYLIGHT
BEGIN:DAYLIGHT
DTSTART:20160327T030000
RDATE:20161030T020000
TZOFFSETFROM:+0100
TZOFFSETTO:+0200
TZNAME:Europe/Paris CEST
END:DAYLIGHT
BEGIN:DAYLIGHT
DTSTART:20170326T030000
RDATE:20171029T020000
TZOFFSETFROM:+0100
TZOFFSETTO:+0200
TZNAME:Europe/Paris CEST
END:DAYLIGHT
BEGIN:DAYLIGHT
DTSTART:20180325T030000
RDATE:20181028T020000
TZOFFSETFROM:+0100
TZOFFSETTO:+0200
TZNAME:Europe/Paris CEST
END:DAYLIGHT
BEGIN:DAYLIGHT
DTSTART:20190331T030000
RDATE:20191027T020000
TZOFFSETFROM:+0100
TZOFFSETTO:+0200
TZNAME:Europe/Paris CEST
END:DAYLIGHT
BEGIN:DAYLIGHT
DTSTART:20200329T030000
RDATE:20201025T020000
TZOFFSETFROM:+0100
TZOFFSETTO:+0200
TZNAME:Europe/Paris CEST
END:DAYLIGHT
BEGIN:DAYLIGHT
DTSTART:20210328T030000
RDATE:20211031T020000
TZOFFSETFROM:+0100
TZOFFSETTO:+0200
TZNAME:Europe/Paris CEST
END:DAYLIGHT
BEGIN:DAYLIGHT
DTSTART:20220327T030000
RDATE:20221030T020000
TZOFFSETFROM:+0100
TZOFFSETTO:+0200
TZNAME:Europe/Paris CEST
END:DAYLIGHT
BEGIN:DAYLIGHT
DTSTART:20230326T030000
RDATE:20231029T020000
TZOFFSETFROM:+0100
TZOFFSETTO:+0200
TZNAME:Europe/Paris CEST
END:DAYLIGHT
BEGIN:DAYLIGHT
DTSTART:20240331T030000
RDATE:20241027T020000
TZOFFSETFROM:+0100
TZOFFSETTO:+0200
TZNAME:Europe/Paris CEST
END:DAYLIGHT
BEGIN:DAYLIGHT
DTSTART:20250330T030000
RDATE:20251026T020000
TZOFFSETFROM:+0100
TZOFFSETTO:+0200
TZNAME:Europe/Paris CEST
END:DAYLIGHT
BEGIN:DAYLIGHT
DTSTART:20260329T030000
RDATE:20261025T020000
TZOFFSETFROM:+0100
TZOFFSETTO:+0200
TZNAME:Europe/Paris CEST
END:DAYLIGHT
END:VTIMEZONE
BEGIN:VEVENT
UID:bfdfde43c269c81c6d857061148c69b0
CATEGORIES:Opens et Promos (alpin)
CREATED:20151110T133952
SUMMARY:PROMO  U8 à U16     Les dimanches de la Glisse  Prix du SC Breitenbach
URL;VALUE=URI:https://skivosges.net/agenda/export-synchronisation/detailevenement/531/-/p
 romo-u8-a-u16-les-dimanches-de-la-glisse-prix-du-sc-breitenbach?tmpl=compon
 ent
DESCRIPTION:PROMO  U8 à U16     Les dimanches de la Glisse  Prix du SC Breitenbach\n\nL
 ieu : CHAMP DU FEU\nOrganisateur : SKI CLUB BREITENBACH (14227 SKI CLUB BRE
 ITENBACH)\nEmail : RegularLabs.EmailProtector.unCloak("ep_3ef4282f");\n\nIn
 scriptions closes, tirage des dossards en cours\n - AMVM0581  Slalom Geant 
 U8/U10 Garçons\n  PROMO  U8 à U16     Les dimanches de la Glisse  Prix du S
 C Breitenbach\n - AMVM0582  Slalom Geant U12/U14 Garçons\n  PROMO  U8 à U16
      Les dimanches de la Glisse  Prix du SC Breitenbach\n - AMVF0581  Slalo
 m Geant U8/U10 Filles\n  PROMO  U8 à U16     Les dimanches de la Glisse  Pr
 ix du SC Breitenbach\n - AMVF0582  Slalom Geant U12/U14 Filles\n  PROMO  U8
  à U16     Les dimanches de la Glisse  Prix du SC Breitenbach Cet évènement
  a été importé depuis :https://skivosges.net/agenda/export-synchronisation/
 detailevenement/531/-/promo-u8-a-u16-les-dimanches-de-la-glisse-prix-du-sc-
 breitenbach?tmpl=component
X-ALT-DESC;FMTTYPE=text/html:<strong>PROMO  U8 à U16     Les dimanches de la Glisse  Prix du SC Breitenb
 ach</strong><br /><br />Lieu : CHAMP DU FEU<br />Organisateur : SKI CLUB BR
 EITENBACH <small>(14227 SKI CLUB BREITENBACH)</small><br />Email : <!-- Cet
 te adresse électronique est protégée contre les robots spammeurs. --><span 
 class="cloaked_email ep_3ef4282f"><span data-ep-a="&#106;&#45;p&#104;" data
 -ep-b="&#114;"><span data-ep-b="&#103;&#101;.f" data-ep-a="&#46;&#104;&#111
 ;l"><span data-ep-a="&#119;&#101;&#103;&#64;" data-ep-b="or&#97;&#110;"></s
 pan></span></span></span><script>RegularLabs.EmailProtector.unCloak("ep_3ef
 4282f");</script><br /><br />Inscriptions closes, tirage des dossards en co
 urs<ul type="disc"><li>AMVM0581  Slalom Geant <nobr>U8/U10</nobr> Garçons<b
 r />&nbsp;&nbsp;PROMO  U8 à U16     Les dimanches de la Glisse  Prix du SC 
 Breitenbach</li><li>AMVM0582  Slalom Geant <nobr>U12/U14</nobr> Garçons<br 
 />&nbsp;&nbsp;PROMO  U8 à U16     Les dimanches de la Glisse  Prix du SC Br
 eitenbach</li><li>AMVF0581  Slalom Geant <nobr>U8/U10</nobr> Filles<br />&n
 bsp;&nbsp;PROMO  U8 à U16     Les dimanches de la Glisse  Prix du SC Breite
 nbach</li><li>AMVF0582  Slalom Geant <nobr>U12/U14</nobr> Filles<br />&nbsp
 ;&nbsp;PROMO  U8 à U16     Les dimanches de la Glisse  Prix du SC Breitenba
 ch</li></ul> <a href="https://skivosges.net/agenda/export-synchronisation/d
 etailevenement/531/-/promo-u8-a-u16-les-dimanches-de-la-glisse-prix-du-sc-b
 reitenbach?tmpl=component">Cet évènement a été importé depuis :https://skiv
 osges.net/agenda/export-synchronisation/detailevenement/531/-/promo-u8-a-u1
 6-les-dimanches-de-la-glisse-prix-du-sc-breitenbach?tmpl=component</a>DTSTAMP:20260420T220721
DTSTART;TZID=Europe/Paris:20160221T080000
DTEND;TZID=Europe/Paris:20160221T170000
SEQUENCE:0
TRANSP:OPAQUE
END:VEVENT
END:VCALENDAR