BEGIN:VCALENDAR
VERSION:2.0
PRODID:-//jEvents 2.0 for Joomla//EN
CALSCALE:GREGORIAN
METHOD:PUBLISH
BEGIN:VTIMEZONE
TZID:Europe/Paris
BEGIN:STANDARD
DTSTART:20150220T080000
RDATE:20150329T030000
TZOFFSETFROM:+0200
TZOFFSETTO:+0100
TZNAME:Europe/Paris CET
END:STANDARD
BEGIN:STANDARD
DTSTART:20151025T020000
RDATE:20160327T030000
TZOFFSETFROM:+0200
TZOFFSETTO:+0100
TZNAME:Europe/Paris CET
END:STANDARD
BEGIN:STANDARD
DTSTART:20161030T020000
RDATE:20170326T030000
TZOFFSETFROM:+0200
TZOFFSETTO:+0100
TZNAME:Europe/Paris CET
END:STANDARD
BEGIN:STANDARD
DTSTART:20171029T020000
RDATE:20180325T030000
TZOFFSETFROM:+0200
TZOFFSETTO:+0100
TZNAME:Europe/Paris CET
END:STANDARD
BEGIN:STANDARD
DTSTART:20181028T020000
RDATE:20190331T030000
TZOFFSETFROM:+0200
TZOFFSETTO:+0100
TZNAME:Europe/Paris CET
END:STANDARD
BEGIN:STANDARD
DTSTART:20191027T020000
RDATE:20200329T030000
TZOFFSETFROM:+0200
TZOFFSETTO:+0100
TZNAME:Europe/Paris CET
END:STANDARD
BEGIN:STANDARD
DTSTART:20201025T020000
RDATE:20210328T030000
TZOFFSETFROM:+0200
TZOFFSETTO:+0100
TZNAME:Europe/Paris CET
END:STANDARD
BEGIN:STANDARD
DTSTART:20211031T020000
RDATE:20220327T030000
TZOFFSETFROM:+0200
TZOFFSETTO:+0100
TZNAME:Europe/Paris CET
END:STANDARD
BEGIN:STANDARD
DTSTART:20221030T020000
RDATE:20230326T030000
TZOFFSETFROM:+0200
TZOFFSETTO:+0100
TZNAME:Europe/Paris CET
END:STANDARD
BEGIN:STANDARD
DTSTART:20231029T020000
RDATE:20240331T030000
TZOFFSETFROM:+0200
TZOFFSETTO:+0100
TZNAME:Europe/Paris CET
END:STANDARD
BEGIN:STANDARD
DTSTART:20241027T020000
RDATE:20250330T030000
TZOFFSETFROM:+0200
TZOFFSETTO:+0100
TZNAME:Europe/Paris CET
END:STANDARD
BEGIN:STANDARD
DTSTART:20251026T020000
RDATE:20260329T030000
TZOFFSETFROM:+0200
TZOFFSETTO:+0100
TZNAME:Europe/Paris CET
END:STANDARD
BEGIN:STANDARD
DTSTART:20261025T020000
RDATE:20270328T030000
TZOFFSETFROM:+0200
TZOFFSETTO:+0100
TZNAME:Europe/Paris CET
END:STANDARD
BEGIN:DAYLIGHT
DTSTART:20150329T030000
RDATE:20151025T020000
TZOFFSETFROM:+0100
TZOFFSETTO:+0200
TZNAME:Europe/Paris CEST
END:DAYLIGHT
BEGIN:DAYLIGHT
DTSTART:20160327T030000
RDATE:20161030T020000
TZOFFSETFROM:+0100
TZOFFSETTO:+0200
TZNAME:Europe/Paris CEST
END:DAYLIGHT
BEGIN:DAYLIGHT
DTSTART:20170326T030000
RDATE:20171029T020000
TZOFFSETFROM:+0100
TZOFFSETTO:+0200
TZNAME:Europe/Paris CEST
END:DAYLIGHT
BEGIN:DAYLIGHT
DTSTART:20180325T030000
RDATE:20181028T020000
TZOFFSETFROM:+0100
TZOFFSETTO:+0200
TZNAME:Europe/Paris CEST
END:DAYLIGHT
BEGIN:DAYLIGHT
DTSTART:20190331T030000
RDATE:20191027T020000
TZOFFSETFROM:+0100
TZOFFSETTO:+0200
TZNAME:Europe/Paris CEST
END:DAYLIGHT
BEGIN:DAYLIGHT
DTSTART:20200329T030000
RDATE:20201025T020000
TZOFFSETFROM:+0100
TZOFFSETTO:+0200
TZNAME:Europe/Paris CEST
END:DAYLIGHT
BEGIN:DAYLIGHT
DTSTART:20210328T030000
RDATE:20211031T020000
TZOFFSETFROM:+0100
TZOFFSETTO:+0200
TZNAME:Europe/Paris CEST
END:DAYLIGHT
BEGIN:DAYLIGHT
DTSTART:20220327T030000
RDATE:20221030T020000
TZOFFSETFROM:+0100
TZOFFSETTO:+0200
TZNAME:Europe/Paris CEST
END:DAYLIGHT
BEGIN:DAYLIGHT
DTSTART:20230326T030000
RDATE:20231029T020000
TZOFFSETFROM:+0100
TZOFFSETTO:+0200
TZNAME:Europe/Paris CEST
END:DAYLIGHT
BEGIN:DAYLIGHT
DTSTART:20240331T030000
RDATE:20241027T020000
TZOFFSETFROM:+0100
TZOFFSETTO:+0200
TZNAME:Europe/Paris CEST
END:DAYLIGHT
BEGIN:DAYLIGHT
DTSTART:20250330T030000
RDATE:20251026T020000
TZOFFSETFROM:+0100
TZOFFSETTO:+0200
TZNAME:Europe/Paris CEST
END:DAYLIGHT
BEGIN:DAYLIGHT
DTSTART:20260329T030000
RDATE:20261025T020000
TZOFFSETFROM:+0100
TZOFFSETTO:+0200
TZNAME:Europe/Paris CEST
END:DAYLIGHT
END:VTIMEZONE
BEGIN:VEVENT
UID:1a98353b8f657ea5299d9c14310da1f4
CATEGORIES:Circuit Lorraine Jeunes (alpin)
CREATED:20151110T133952
SUMMARY:CLJ    U8 à U10 / U12 à U14   Prix Rouge Gazon
URL;VALUE=URI:https://skivosges.net/agenda/export-synchronisation/detailevenement/532/-/c
 lj-u8-a-u10-u12-a-u14-prix-rouge-gazon?tmpl=component
DESCRIPTION:CLJ    U8 à U10 / U12 à U14   Prix Rouge Gazon \n(Coupe de Lorraine Jeunes)
 \n\nLieu : ROUGE GAZON\nOrganisateur : SKIEURS DE ST MAURICE/MOSELLE (14063
  SKIEURS DE ST MAURICE/MOSELLE)\nEmail : RegularLabs.EmailProtector.unCloak
 ("ep_ba6ba2d9");\n\nAttention épreuve transformée en slalom et non géant co
 mme prévu initialement\n\n\nInscriptions closes, les listes de départ sont 
 visualisables sur ce site\n - AMVM0591  Slalom (Micro Coupe) U8/U10 Garçons
 \n  CLJ    U8 à U10 / U12 à U14   Prix Rouge Gazon\n - AMVM0592  Slalom (Co
 upe de Bronze) U12/U14 Garçons\n  CLJ    U8 à U10 / U12 à U14   Prix Rouge 
 Gazon\n - AMVF0591  Slalom (Micro Coupe) U8/U10 Filles\n  CLJ    U8 à U10 /
  U12 à U14   Prix Rouge Gazon\n - AMVF0592  Slalom (Coupe de Bronze) U12/U1
 4 Filles\n  CLJ    U8 à U10 / U12 à U14   Prix Rouge Gazon Cet évènement a 
 été importé depuis :https://skivosges.net/agenda/export-synchronisation/det
 ailevenement/532/-/clj-u8-a-u10-u12-a-u14-prix-rouge-gazon?tmpl=component
X-ALT-DESC;FMTTYPE=text/html:<strong>CLJ    U8 à U10 / U12 à U14   Prix Rouge Gazon</strong> <br /><i>(C
 oupe de Lorraine Jeunes)</i><br /><br />Lieu : ROUGE GAZON<br />Organisateu
 r : SKIEURS DE ST MAURICE/MOSELLE <small>(14063 SKIEURS DE ST MAURICE/MOSEL
 LE)</small><br />Email : <!-- Cette adresse électronique est protégée contr
 e les robots spammeurs. --><span class="cloaked_email ep_ba6ba2d9"><span da
 ta-ep-b="" data-ep-a="d&#97;&#110;&#105;&#101;"><span data-ep-a="l&#46;&#10
 9;o&#114;" data-ep-b="&#111;&#111;&#46;&#102;&#114;"><span data-ep-b="&#119
 ;&#97;&#110;&#97;&#100;" data-ep-a="&#101;&#108;2&#53;&#64;"></span></span>
 </span></span><script>RegularLabs.EmailProtector.unCloak("ep_ba6ba2d9");</s
 cript><br /><br />Attention épreuve transformée en slalom et non géant comm
 e prévu initialement<br><br /><br />Inscriptions closes, les listes de dépa
 rt sont visualisables sur ce site<ul type="disc"><li>AMVM0591  Slalom <nobr
 ><i>(Micro Coupe)</i></nobr> <nobr>U8/U10</nobr> Garçons<br />&nbsp;&nbsp;C
 LJ    U8 à U10 / U12 à U14   Prix Rouge Gazon</li><li>AMVM0592  Slalom <nob
 r><i>(Coupe de Bronze)</i></nobr> <nobr>U12/U14</nobr> Garçons<br />&nbsp;&
 nbsp;CLJ    U8 à U10 / U12 à U14   Prix Rouge Gazon</li><li>AMVF0591  Slalo
 m <nobr><i>(Micro Coupe)</i></nobr> <nobr>U8/U10</nobr> Filles<br />&nbsp;&
 nbsp;CLJ    U8 à U10 / U12 à U14   Prix Rouge Gazon</li><li>AMVF0592  Slalo
 m <nobr><i>(Coupe de Bronze)</i></nobr> <nobr>U12/U14</nobr> Filles<br />&n
 bsp;&nbsp;CLJ    U8 à U10 / U12 à U14   Prix Rouge Gazon</li></ul> <a href=
 "https://skivosges.net/agenda/export-synchronisation/detailevenement/532/-/
 clj-u8-a-u10-u12-a-u14-prix-rouge-gazon?tmpl=component">Cet évènement a été
  importé depuis :https://skivosges.net/agenda/export-synchronisation/detail
 evenement/532/-/clj-u8-a-u10-u12-a-u14-prix-rouge-gazon?tmpl=component</a>DTSTAMP:20260420T220532
DTSTART;TZID=Europe/Paris:20160221T080000
DTEND;TZID=Europe/Paris:20160221T170000
SEQUENCE:0
TRANSP:OPAQUE
END:VEVENT
END:VCALENDAR