BEGIN:VCALENDAR
VERSION:2.0
PRODID:-//jEvents 2.0 for Joomla//EN
CALSCALE:GREGORIAN
METHOD:PUBLISH
BEGIN:VTIMEZONE
TZID:Europe/Paris
BEGIN:STANDARD
DTSTART:20150220T080000
RDATE:20150329T030000
TZOFFSETFROM:+0200
TZOFFSETTO:+0100
TZNAME:Europe/Paris CET
END:STANDARD
BEGIN:STANDARD
DTSTART:20151025T020000
RDATE:20160327T030000
TZOFFSETFROM:+0200
TZOFFSETTO:+0100
TZNAME:Europe/Paris CET
END:STANDARD
BEGIN:STANDARD
DTSTART:20161030T020000
RDATE:20170326T030000
TZOFFSETFROM:+0200
TZOFFSETTO:+0100
TZNAME:Europe/Paris CET
END:STANDARD
BEGIN:STANDARD
DTSTART:20171029T020000
RDATE:20180325T030000
TZOFFSETFROM:+0200
TZOFFSETTO:+0100
TZNAME:Europe/Paris CET
END:STANDARD
BEGIN:STANDARD
DTSTART:20181028T020000
RDATE:20190331T030000
TZOFFSETFROM:+0200
TZOFFSETTO:+0100
TZNAME:Europe/Paris CET
END:STANDARD
BEGIN:STANDARD
DTSTART:20191027T020000
RDATE:20200329T030000
TZOFFSETFROM:+0200
TZOFFSETTO:+0100
TZNAME:Europe/Paris CET
END:STANDARD
BEGIN:STANDARD
DTSTART:20201025T020000
RDATE:20210328T030000
TZOFFSETFROM:+0200
TZOFFSETTO:+0100
TZNAME:Europe/Paris CET
END:STANDARD
BEGIN:STANDARD
DTSTART:20211031T020000
RDATE:20220327T030000
TZOFFSETFROM:+0200
TZOFFSETTO:+0100
TZNAME:Europe/Paris CET
END:STANDARD
BEGIN:STANDARD
DTSTART:20221030T020000
RDATE:20230326T030000
TZOFFSETFROM:+0200
TZOFFSETTO:+0100
TZNAME:Europe/Paris CET
END:STANDARD
BEGIN:STANDARD
DTSTART:20231029T020000
RDATE:20240331T030000
TZOFFSETFROM:+0200
TZOFFSETTO:+0100
TZNAME:Europe/Paris CET
END:STANDARD
BEGIN:STANDARD
DTSTART:20241027T020000
RDATE:20250330T030000
TZOFFSETFROM:+0200
TZOFFSETTO:+0100
TZNAME:Europe/Paris CET
END:STANDARD
BEGIN:STANDARD
DTSTART:20251026T020000
RDATE:20260329T030000
TZOFFSETFROM:+0200
TZOFFSETTO:+0100
TZNAME:Europe/Paris CET
END:STANDARD
BEGIN:STANDARD
DTSTART:20261025T020000
RDATE:20270328T030000
TZOFFSETFROM:+0200
TZOFFSETTO:+0100
TZNAME:Europe/Paris CET
END:STANDARD
BEGIN:DAYLIGHT
DTSTART:20150329T030000
RDATE:20151025T020000
TZOFFSETFROM:+0100
TZOFFSETTO:+0200
TZNAME:Europe/Paris CEST
END:DAYLIGHT
BEGIN:DAYLIGHT
DTSTART:20160327T030000
RDATE:20161030T020000
TZOFFSETFROM:+0100
TZOFFSETTO:+0200
TZNAME:Europe/Paris CEST
END:DAYLIGHT
BEGIN:DAYLIGHT
DTSTART:20170326T030000
RDATE:20171029T020000
TZOFFSETFROM:+0100
TZOFFSETTO:+0200
TZNAME:Europe/Paris CEST
END:DAYLIGHT
BEGIN:DAYLIGHT
DTSTART:20180325T030000
RDATE:20181028T020000
TZOFFSETFROM:+0100
TZOFFSETTO:+0200
TZNAME:Europe/Paris CEST
END:DAYLIGHT
BEGIN:DAYLIGHT
DTSTART:20190331T030000
RDATE:20191027T020000
TZOFFSETFROM:+0100
TZOFFSETTO:+0200
TZNAME:Europe/Paris CEST
END:DAYLIGHT
BEGIN:DAYLIGHT
DTSTART:20200329T030000
RDATE:20201025T020000
TZOFFSETFROM:+0100
TZOFFSETTO:+0200
TZNAME:Europe/Paris CEST
END:DAYLIGHT
BEGIN:DAYLIGHT
DTSTART:20210328T030000
RDATE:20211031T020000
TZOFFSETFROM:+0100
TZOFFSETTO:+0200
TZNAME:Europe/Paris CEST
END:DAYLIGHT
BEGIN:DAYLIGHT
DTSTART:20220327T030000
RDATE:20221030T020000
TZOFFSETFROM:+0100
TZOFFSETTO:+0200
TZNAME:Europe/Paris CEST
END:DAYLIGHT
BEGIN:DAYLIGHT
DTSTART:20230326T030000
RDATE:20231029T020000
TZOFFSETFROM:+0100
TZOFFSETTO:+0200
TZNAME:Europe/Paris CEST
END:DAYLIGHT
BEGIN:DAYLIGHT
DTSTART:20240331T030000
RDATE:20241027T020000
TZOFFSETFROM:+0100
TZOFFSETTO:+0200
TZNAME:Europe/Paris CEST
END:DAYLIGHT
BEGIN:DAYLIGHT
DTSTART:20250330T030000
RDATE:20251026T020000
TZOFFSETFROM:+0100
TZOFFSETTO:+0200
TZNAME:Europe/Paris CEST
END:DAYLIGHT
BEGIN:DAYLIGHT
DTSTART:20260329T030000
RDATE:20261025T020000
TZOFFSETFROM:+0100
TZOFFSETTO:+0200
TZNAME:Europe/Paris CEST
END:DAYLIGHT
END:VTIMEZONE
BEGIN:VEVENT
UID:9e28154d786281baf61683d63ccd0c22
CATEGORIES:Compétition Ski de Fond
CREATED:20151110T133952
SUMMARY:Coupe Bleu Forêt/Chall M DIDIERLAURENT/BigMat Atomic n°6
URL;VALUE=URI:https://skivosges.net/agenda/export-synchronisation/detailevenement/533/-/c
 oupe-bleu-foret-chall-m-didierlaurent-bigmat-atomic-n-6?tmpl=component
DESCRIPTION:Coupe Bleu Forêt/Chall M DIDIERLAURENT/BigMat Atomic n°6\n\nLieu : GERARDME
 R\nPiste : HAUTES VANNES\nOrganisateur : CLUB VOSGIEN VAGNEY ROCHESSON (143
 29 CLUB VOSGIEN VAGNEY ROCHESSON)\nTelecopie : 0608347483\n\nprologue skate
  (1km) suivit d´une poursuite skate:\nU14: 3km\nU16 et dames: 6km\nU18 à se
 n hommes: 9km\nattention: départ prologue 9h pour toutes les catégories, po
 ursuite U14 à 10h, U16 et dames à 10h15 et hommes à 10h45;\nremise des prix
  11h45\n\nMerci aux U14 et U16 d´inscrire leurs noms sur les skis pour faci
 liter la récupération au parc fermé après FLUORCLEAN.\n\nInscriptions en co
 urs sur ce site\n  Lieu:ROCHESSON\n - FMVF0171  Depart Individuel U14 a SEN
  (Minime a Senior) Dames\n  Coupe Bleu Forêt PROLOGUE Challenge Michel DIDI
 ERLAURENT BigMat Atomic n°6\n  Lieu:ROCHESSON\n - FMVM0171  Depart Individu
 el U14 a SEN (Minime a Senior) Hommes\n  Coupe Bleu Forêt PROLOGUE Challeng
 e Michel DIDIERLAURENT BigMat Atomic n°6 Cet évènement a été importé depuis
  :https://skivosges.net/agenda/export-synchronisation/detailevenement/533/-
 /coupe-bleu-foret-chall-m-didierlaurent-bigmat-atomic-n-6?tmpl=component (h
 ttps://skivosges.net/agenda/export-synchronisation/detailevenement/533/-/co
 upe-bleu-foret-chall-m-didierlaurent-bigmat-atomic-n-6?tmpl=component)
X-ALT-DESC;FMTTYPE=text/html:<strong>Coupe Bleu Forêt/Chall M DIDIERLAURENT/BigMat Atomic n°6</strong><b
 r /><br />Lieu : GERARDMER<br />Piste : HAUTES VANNES<br />Organisateur : C
 LUB VOSGIEN VAGNEY ROCHESSON <small>(14329 CLUB VOSGIEN VAGNEY ROCHESSON)</
 small><br />Telecopie : 0608347483<br /><br />prologue skate (1km) suivit d
 ´une poursuite skate:<br>U14: 3km<br>U16 et dames: 6km<br>U18 à sen hommes:
  9km<br>attention: départ prologue 9h pour toutes les catégories, poursuite
  U14 à 10h, U16 et dames à 10h15 et hommes à 10h45;<br>remise des prix 11h4
 5<br><br>Merci aux U14 et U16 d´inscrire leurs noms sur les skis pour facil
 iter la récupération au parc fermé après FLUORCLEAN.<br /><br />Inscription
 s en cours sur ce site<ul type="disc"><br />&nbsp;&nbsp;Lieu:ROCHESSON<li>F
 MVF0171  Depart Individuel <nobr>U14 a SEN (Minime a Senior)</nobr> Dames<b
 r />&nbsp;&nbsp;Coupe Bleu Forêt PROLOGUE Challenge Michel DIDIERLAURENT Bi
 gMat Atomic n°6</li><br />&nbsp;&nbsp;Lieu:ROCHESSON<li>FMVM0171  Depart In
 dividuel <nobr>U14 a SEN (Minime a Senior)</nobr> Hommes<br />&nbsp;&nbsp;C
 oupe Bleu Forêt PROLOGUE Challenge Michel DIDIERLAURENT BigMat Atomic n°6</
 li></ul> <a href="https://skivosges.net/agenda/export-synchronisation/detai
 levenement/533/-/coupe-bleu-foret-chall-m-didierlaurent-bigmat-atomic-n-6?t
 mpl=component">Cet évènement a été importé depuis :https://skivosges.net/ag
 enda/export-synchronisation/detailevenement/533/-/coupe-bleu-foret-chall-m-
 didierlaurent-bigmat-atomic-n-6?tmpl=component</a>DTSTAMP:20260420T220556
DTSTART;TZID=Europe/Paris:20160221T080000
DTEND;TZID=Europe/Paris:20160221T170000
SEQUENCE:0
TRANSP:OPAQUE
END:VEVENT
END:VCALENDAR