BEGIN:VCALENDAR
VERSION:2.0
PRODID:-//jEvents 2.0 for Joomla//EN
CALSCALE:GREGORIAN
METHOD:PUBLISH
BEGIN:VTIMEZONE
TZID:Europe/Paris
BEGIN:STANDARD
DTSTART:20150221T080000
RDATE:20150329T030000
TZOFFSETFROM:+0200
TZOFFSETTO:+0100
TZNAME:Europe/Paris CET
END:STANDARD
BEGIN:STANDARD
DTSTART:20151025T020000
RDATE:20160327T030000
TZOFFSETFROM:+0200
TZOFFSETTO:+0100
TZNAME:Europe/Paris CET
END:STANDARD
BEGIN:STANDARD
DTSTART:20161030T020000
RDATE:20170326T030000
TZOFFSETFROM:+0200
TZOFFSETTO:+0100
TZNAME:Europe/Paris CET
END:STANDARD
BEGIN:STANDARD
DTSTART:20171029T020000
RDATE:20180325T030000
TZOFFSETFROM:+0200
TZOFFSETTO:+0100
TZNAME:Europe/Paris CET
END:STANDARD
BEGIN:STANDARD
DTSTART:20181028T020000
RDATE:20190331T030000
TZOFFSETFROM:+0200
TZOFFSETTO:+0100
TZNAME:Europe/Paris CET
END:STANDARD
BEGIN:STANDARD
DTSTART:20191027T020000
RDATE:20200329T030000
TZOFFSETFROM:+0200
TZOFFSETTO:+0100
TZNAME:Europe/Paris CET
END:STANDARD
BEGIN:STANDARD
DTSTART:20201025T020000
RDATE:20210328T030000
TZOFFSETFROM:+0200
TZOFFSETTO:+0100
TZNAME:Europe/Paris CET
END:STANDARD
BEGIN:STANDARD
DTSTART:20211031T020000
RDATE:20220327T030000
TZOFFSETFROM:+0200
TZOFFSETTO:+0100
TZNAME:Europe/Paris CET
END:STANDARD
BEGIN:STANDARD
DTSTART:20221030T020000
RDATE:20230326T030000
TZOFFSETFROM:+0200
TZOFFSETTO:+0100
TZNAME:Europe/Paris CET
END:STANDARD
BEGIN:STANDARD
DTSTART:20231029T020000
RDATE:20240331T030000
TZOFFSETFROM:+0200
TZOFFSETTO:+0100
TZNAME:Europe/Paris CET
END:STANDARD
BEGIN:STANDARD
DTSTART:20241027T020000
RDATE:20250330T030000
TZOFFSETFROM:+0200
TZOFFSETTO:+0100
TZNAME:Europe/Paris CET
END:STANDARD
BEGIN:STANDARD
DTSTART:20251026T020000
RDATE:20260329T030000
TZOFFSETFROM:+0200
TZOFFSETTO:+0100
TZNAME:Europe/Paris CET
END:STANDARD
BEGIN:STANDARD
DTSTART:20261025T020000
RDATE:20270328T030000
TZOFFSETFROM:+0200
TZOFFSETTO:+0100
TZNAME:Europe/Paris CET
END:STANDARD
BEGIN:DAYLIGHT
DTSTART:20150329T030000
RDATE:20151025T020000
TZOFFSETFROM:+0100
TZOFFSETTO:+0200
TZNAME:Europe/Paris CEST
END:DAYLIGHT
BEGIN:DAYLIGHT
DTSTART:20160327T030000
RDATE:20161030T020000
TZOFFSETFROM:+0100
TZOFFSETTO:+0200
TZNAME:Europe/Paris CEST
END:DAYLIGHT
BEGIN:DAYLIGHT
DTSTART:20170326T030000
RDATE:20171029T020000
TZOFFSETFROM:+0100
TZOFFSETTO:+0200
TZNAME:Europe/Paris CEST
END:DAYLIGHT
BEGIN:DAYLIGHT
DTSTART:20180325T030000
RDATE:20181028T020000
TZOFFSETFROM:+0100
TZOFFSETTO:+0200
TZNAME:Europe/Paris CEST
END:DAYLIGHT
BEGIN:DAYLIGHT
DTSTART:20190331T030000
RDATE:20191027T020000
TZOFFSETFROM:+0100
TZOFFSETTO:+0200
TZNAME:Europe/Paris CEST
END:DAYLIGHT
BEGIN:DAYLIGHT
DTSTART:20200329T030000
RDATE:20201025T020000
TZOFFSETFROM:+0100
TZOFFSETTO:+0200
TZNAME:Europe/Paris CEST
END:DAYLIGHT
BEGIN:DAYLIGHT
DTSTART:20210328T030000
RDATE:20211031T020000
TZOFFSETFROM:+0100
TZOFFSETTO:+0200
TZNAME:Europe/Paris CEST
END:DAYLIGHT
BEGIN:DAYLIGHT
DTSTART:20220327T030000
RDATE:20221030T020000
TZOFFSETFROM:+0100
TZOFFSETTO:+0200
TZNAME:Europe/Paris CEST
END:DAYLIGHT
BEGIN:DAYLIGHT
DTSTART:20230326T030000
RDATE:20231029T020000
TZOFFSETFROM:+0100
TZOFFSETTO:+0200
TZNAME:Europe/Paris CEST
END:DAYLIGHT
BEGIN:DAYLIGHT
DTSTART:20240331T030000
RDATE:20241027T020000
TZOFFSETFROM:+0100
TZOFFSETTO:+0200
TZNAME:Europe/Paris CEST
END:DAYLIGHT
BEGIN:DAYLIGHT
DTSTART:20250330T030000
RDATE:20251026T020000
TZOFFSETFROM:+0100
TZOFFSETTO:+0200
TZNAME:Europe/Paris CEST
END:DAYLIGHT
BEGIN:DAYLIGHT
DTSTART:20260329T030000
RDATE:20261025T020000
TZOFFSETFROM:+0100
TZOFFSETTO:+0200
TZNAME:Europe/Paris CEST
END:DAYLIGHT
END:VTIMEZONE
BEGIN:VEVENT
UID:c7afbc0b98553c28cb5e224e0ac351da
CATEGORIES:Autres Épreuves (alpin)
CREATED:20151110T133952
SUMMARY:Ski Chrono National Tour Technique Markstein - Gerardmer
URL;VALUE=URI:https://skivosges.net/agenda/export-synchronisation/detailevenement/536/-/s
 ki-chrono-national-tour-technique-markstein-gerardmer?tmpl=component
DESCRIPTION:Ski Chrono National Tour Technique Markstein - Gerardmer\nEmail : RegularLa
 bs.EmailProtector.unCloak("ep_2cee6283");\nTelecopie : 33(389) 82 72 6\nTel
 ecopie : 33(389) 82 71 2\n  Piste:Markstein - Gerardmer\n - Le 22/02/2016\n
 6773  Slalom Toutes les Categories Dames\n  Ski Chrono National Tour Techni
 que Markstein - Gerardmer\n  Piste:Markstein - Gerardmer\n - Le 23/02/2016\
 n6774  Slalom Toutes les Categories Dames\n  Ski Chrono National Tour Techn
 ique Markstein - Gerardmer\n  Piste:Markstein - Gerardmer\n - Le 24/02/2016
 \n6775  Slalom Geant Toutes les Categories Dames\n  Ski Chrono National Tou
 r Technique Markstein - Gerardmer Cet évènement a été importé depuis :https
 ://skivosges.net/agenda/export-synchronisation/detailevenement/536/-/ski-ch
 rono-national-tour-technique-markstein-gerardmer?tmpl=component (https://sk
 ivosges.net/agenda/export-synchronisation/detailevenement/536/-/ski-chrono-
 national-tour-technique-markstein-gerardmer?tmpl=component)
X-ALT-DESC;FMTTYPE=text/html:<strong>Ski Chrono National Tour Technique Markstein - Gerardmer</strong><b
 r />Email : <!-- Cette adresse électronique est protégée contre les robots 
 spammeurs. --><span class="cloaked_email ep_2cee6283"><span data-ep-a="&#10
 5;sa&#107;" data-ep-b=""><span data-ep-a="&#101;s&#115;&#108;" data-ep-b="&
 #101;&#46;fr"><span data-ep-a="er&#64;&#111;" data-ep-b="&#114;&#97;ng"></s
 pan></span></span></span><script>RegularLabs.EmailProtector.unCloak("ep_2ce
 e6283");</script><br />Telecopie : 33(389) 82 72 6<br />Telecopie : 33(389)
  82 71 2<ul type="disc"><br />&nbsp;&nbsp;Piste:Markstein - Gerardmer<li><n
 obr>Le 22/02/2016</nobr><br />6773  Slalom <nobr>Toutes les Categories</nob
 r> Dames<br />&nbsp;&nbsp;Ski Chrono National Tour Technique Markstein - Ge
 rardmer</li><br />&nbsp;&nbsp;Piste:Markstein - Gerardmer<li><nobr>Le 23/02
 /2016</nobr><br />6774  Slalom <nobr>Toutes les Categories</nobr> Dames<br 
 />&nbsp;&nbsp;Ski Chrono National Tour Technique Markstein - Gerardmer</li>
 <br />&nbsp;&nbsp;Piste:Markstein - Gerardmer<li><nobr>Le 24/02/2016</nobr>
 <br />6775  Slalom Geant <nobr>Toutes les Categories</nobr> Dames<br />&nbs
 p;&nbsp;Ski Chrono National Tour Technique Markstein - Gerardmer</li></ul> 
 <a href="https://skivosges.net/agenda/export-synchronisation/detailevenemen
 t/536/-/ski-chrono-national-tour-technique-markstein-gerardmer?tmpl=compone
 nt">Cet évènement a été importé depuis :https://skivosges.net/agenda/export
 -synchronisation/detailevenement/536/-/ski-chrono-national-tour-technique-m
 arkstein-gerardmer?tmpl=component</a>DTSTAMP:20260420T220621
DTSTART;TZID=Europe/Paris:20160222T080000
DTEND;TZID=Europe/Paris:20160224T170000
SEQUENCE:0
TRANSP:OPAQUE
END:VEVENT
END:VCALENDAR