BEGIN:VCALENDAR
VERSION:2.0
PRODID:-//jEvents 2.0 for Joomla//EN
CALSCALE:GREGORIAN
METHOD:PUBLISH
BEGIN:VTIMEZONE
TZID:Europe/Paris
BEGIN:STANDARD
DTSTART:20150226T080000
RDATE:20150329T030000
TZOFFSETFROM:+0200
TZOFFSETTO:+0100
TZNAME:Europe/Paris CET
END:STANDARD
BEGIN:STANDARD
DTSTART:20151025T020000
RDATE:20160327T030000
TZOFFSETFROM:+0200
TZOFFSETTO:+0100
TZNAME:Europe/Paris CET
END:STANDARD
BEGIN:STANDARD
DTSTART:20161030T020000
RDATE:20170326T030000
TZOFFSETFROM:+0200
TZOFFSETTO:+0100
TZNAME:Europe/Paris CET
END:STANDARD
BEGIN:STANDARD
DTSTART:20171029T020000
RDATE:20180325T030000
TZOFFSETFROM:+0200
TZOFFSETTO:+0100
TZNAME:Europe/Paris CET
END:STANDARD
BEGIN:STANDARD
DTSTART:20181028T020000
RDATE:20190331T030000
TZOFFSETFROM:+0200
TZOFFSETTO:+0100
TZNAME:Europe/Paris CET
END:STANDARD
BEGIN:STANDARD
DTSTART:20191027T020000
RDATE:20200329T030000
TZOFFSETFROM:+0200
TZOFFSETTO:+0100
TZNAME:Europe/Paris CET
END:STANDARD
BEGIN:STANDARD
DTSTART:20201025T020000
RDATE:20210328T030000
TZOFFSETFROM:+0200
TZOFFSETTO:+0100
TZNAME:Europe/Paris CET
END:STANDARD
BEGIN:STANDARD
DTSTART:20211031T020000
RDATE:20220327T030000
TZOFFSETFROM:+0200
TZOFFSETTO:+0100
TZNAME:Europe/Paris CET
END:STANDARD
BEGIN:STANDARD
DTSTART:20221030T020000
RDATE:20230326T030000
TZOFFSETFROM:+0200
TZOFFSETTO:+0100
TZNAME:Europe/Paris CET
END:STANDARD
BEGIN:STANDARD
DTSTART:20231029T020000
RDATE:20240331T030000
TZOFFSETFROM:+0200
TZOFFSETTO:+0100
TZNAME:Europe/Paris CET
END:STANDARD
BEGIN:STANDARD
DTSTART:20241027T020000
RDATE:20250330T030000
TZOFFSETFROM:+0200
TZOFFSETTO:+0100
TZNAME:Europe/Paris CET
END:STANDARD
BEGIN:STANDARD
DTSTART:20251026T020000
RDATE:20260329T030000
TZOFFSETFROM:+0200
TZOFFSETTO:+0100
TZNAME:Europe/Paris CET
END:STANDARD
BEGIN:STANDARD
DTSTART:20261025T020000
RDATE:20270328T030000
TZOFFSETFROM:+0200
TZOFFSETTO:+0100
TZNAME:Europe/Paris CET
END:STANDARD
BEGIN:DAYLIGHT
DTSTART:20150329T030000
RDATE:20151025T020000
TZOFFSETFROM:+0100
TZOFFSETTO:+0200
TZNAME:Europe/Paris CEST
END:DAYLIGHT
BEGIN:DAYLIGHT
DTSTART:20160327T030000
RDATE:20161030T020000
TZOFFSETFROM:+0100
TZOFFSETTO:+0200
TZNAME:Europe/Paris CEST
END:DAYLIGHT
BEGIN:DAYLIGHT
DTSTART:20170326T030000
RDATE:20171029T020000
TZOFFSETFROM:+0100
TZOFFSETTO:+0200
TZNAME:Europe/Paris CEST
END:DAYLIGHT
BEGIN:DAYLIGHT
DTSTART:20180325T030000
RDATE:20181028T020000
TZOFFSETFROM:+0100
TZOFFSETTO:+0200
TZNAME:Europe/Paris CEST
END:DAYLIGHT
BEGIN:DAYLIGHT
DTSTART:20190331T030000
RDATE:20191027T020000
TZOFFSETFROM:+0100
TZOFFSETTO:+0200
TZNAME:Europe/Paris CEST
END:DAYLIGHT
BEGIN:DAYLIGHT
DTSTART:20200329T030000
RDATE:20201025T020000
TZOFFSETFROM:+0100
TZOFFSETTO:+0200
TZNAME:Europe/Paris CEST
END:DAYLIGHT
BEGIN:DAYLIGHT
DTSTART:20210328T030000
RDATE:20211031T020000
TZOFFSETFROM:+0100
TZOFFSETTO:+0200
TZNAME:Europe/Paris CEST
END:DAYLIGHT
BEGIN:DAYLIGHT
DTSTART:20220327T030000
RDATE:20221030T020000
TZOFFSETFROM:+0100
TZOFFSETTO:+0200
TZNAME:Europe/Paris CEST
END:DAYLIGHT
BEGIN:DAYLIGHT
DTSTART:20230326T030000
RDATE:20231029T020000
TZOFFSETFROM:+0100
TZOFFSETTO:+0200
TZNAME:Europe/Paris CEST
END:DAYLIGHT
BEGIN:DAYLIGHT
DTSTART:20240331T030000
RDATE:20241027T020000
TZOFFSETFROM:+0100
TZOFFSETTO:+0200
TZNAME:Europe/Paris CEST
END:DAYLIGHT
BEGIN:DAYLIGHT
DTSTART:20250330T030000
RDATE:20251026T020000
TZOFFSETFROM:+0100
TZOFFSETTO:+0200
TZNAME:Europe/Paris CEST
END:DAYLIGHT
BEGIN:DAYLIGHT
DTSTART:20260329T030000
RDATE:20261025T020000
TZOFFSETFROM:+0100
TZOFFSETTO:+0200
TZNAME:Europe/Paris CEST
END:DAYLIGHT
END:VTIMEZONE
BEGIN:VEVENT
UID:b9ecbf444cf0c08eceefce0ed19195e7
CATEGORIES:Autres Épreuves (alpin)
CREATED:20151110T133952
SUMMARY:Ski Chrono National Tour Technique le lac Blanc *** ANNULE(E) ***
URL;VALUE=URI:https://skivosges.net/agenda/export-synchronisation/detailevenement/539/-/s
 ki-chrono-national-tour-technique-le-lac-blanc-annule-e?tmpl=component
DESCRIPTION:Ski Chrono National Tour Technique le lac Blanc (Epreuve annulée)\nEmail : 
 RegularLabs.EmailProtector.unCloak("ep_d4c5037d");\nTelecopie : 33(388) 33 
 08 6\nTelecopie : 33(388) 81 16 6\n  Piste:Le lac Blanc\n - Le 27/02/2016\n
 1752  Slalom Geant Toutes les Categories Hommes\n  Ski Chrono National Tour
  Technique le lac Blanc\n  Piste:Le lac Blanc\n - Le 28/02/2016\n1754  Slal
 om Geant Toutes les Categories Hommes\n  Ski Chrono National Tour Technique
  le lac Blanc\n  Piste:Le lac Blanc\n - Le 29/02/2016\n1756  Slalom Toutes 
 les Categories Hommes\n  Ski Chrono National Tour Technique le lac Blanc\n 
  Piste:Le lac Blanc\n - Le 01/03/2016\n1757  Slalom Toutes les Categories H
 ommes\n  Ski Chrono National Tour Technique le lac Blanc Cet évènement a ét
 é importé depuis :https://skivosges.net/agenda/export-synchronisation/detai
 levenement/539/-/ski-chrono-national-tour-technique-le-lac-blanc-annule-e?t
 mpl=component (https://skivosges.net/agenda/export-synchronisation/detailev
 enement/539/-/ski-chrono-national-tour-technique-le-lac-blanc-annule-e?tmpl
 =component)
X-ALT-DESC;FMTTYPE=text/html:<strong>Ski Chrono National Tour Technique le lac Blanc</strong> <font clas
 s="attention4">(Epreuve annulée)</font><br />Email : <!-- Cette adresse éle
 ctronique est protégée contre les robots spammeurs. --><span class="cloaked
 _email ep_d4c5037d"><span data-ep-b="&#46;&#102;r" data-ep-a="&#106;&#101;&
 #97;&#110;&#45;"><span data-ep-b="r&#97;&#110;&#103;e" data-ep-a="c&#108;&#
 97;&#117;d"><span data-ep-b="w&#101;&#103;&#64;&#111;" data-ep-a="&#101;&#4
 6;&#104;&#111;&#108;"></span></span></span></span><script>RegularLabs.Email
 Protector.unCloak("ep_d4c5037d");</script><br />Telecopie : 33(388) 33 08 6
 <br />Telecopie : 33(388) 81 16 6<ul type="disc"><br />&nbsp;&nbsp;Piste:Le
  lac Blanc<li><nobr>Le 27/02/2016</nobr><br />1752  Slalom Geant <nobr>Tout
 es les Categories</nobr> Hommes<br />&nbsp;&nbsp;Ski Chrono National Tour T
 echnique le lac Blanc</li><br />&nbsp;&nbsp;Piste:Le lac Blanc<li><nobr>Le 
 28/02/2016</nobr><br />1754  Slalom Geant <nobr>Toutes les Categories</nobr
 > Hommes<br />&nbsp;&nbsp;Ski Chrono National Tour Technique le lac Blanc</
 li><br />&nbsp;&nbsp;Piste:Le lac Blanc<li><nobr>Le 29/02/2016</nobr><br />
 1756  Slalom <nobr>Toutes les Categories</nobr> Hommes<br />&nbsp;&nbsp;Ski
  Chrono National Tour Technique le lac Blanc</li><br />&nbsp;&nbsp;Piste:Le
  lac Blanc<li><nobr>Le 01/03/2016</nobr><br />1757  Slalom <nobr>Toutes les
  Categories</nobr> Hommes<br />&nbsp;&nbsp;Ski Chrono National Tour Techniq
 ue le lac Blanc</li></ul> <a href="https://skivosges.net/agenda/export-sync
 hronisation/detailevenement/539/-/ski-chrono-national-tour-technique-le-lac
 -blanc-annule-e?tmpl=component">Cet évènement a été importé depuis :https:/
 /skivosges.net/agenda/export-synchronisation/detailevenement/539/-/ski-chro
 no-national-tour-technique-le-lac-blanc-annule-e?tmpl=component</a>DTSTAMP:20260420T220750
DTSTART;TZID=Europe/Paris:20160227T080000
DTEND;TZID=Europe/Paris:20160301T170000
SEQUENCE:0
TRANSP:OPAQUE
END:VEVENT
END:VCALENDAR