BEGIN:VCALENDAR
VERSION:2.0
PRODID:-//jEvents 2.0 for Joomla//EN
CALSCALE:GREGORIAN
METHOD:PUBLISH
BEGIN:VTIMEZONE
TZID:Europe/Paris
BEGIN:STANDARD
DTSTART:20121214T080000
RDATE:20130331T030000
TZOFFSETFROM:+0200
TZOFFSETTO:+0100
TZNAME:Europe/Paris CET
END:STANDARD
BEGIN:STANDARD
DTSTART:20131027T020000
RDATE:20140330T030000
TZOFFSETFROM:+0200
TZOFFSETTO:+0100
TZNAME:Europe/Paris CET
END:STANDARD
BEGIN:STANDARD
DTSTART:20141026T020000
RDATE:20150329T030000
TZOFFSETFROM:+0200
TZOFFSETTO:+0100
TZNAME:Europe/Paris CET
END:STANDARD
BEGIN:STANDARD
DTSTART:20151025T020000
RDATE:20160327T030000
TZOFFSETFROM:+0200
TZOFFSETTO:+0100
TZNAME:Europe/Paris CET
END:STANDARD
BEGIN:STANDARD
DTSTART:20161030T020000
RDATE:20170326T030000
TZOFFSETFROM:+0200
TZOFFSETTO:+0100
TZNAME:Europe/Paris CET
END:STANDARD
BEGIN:STANDARD
DTSTART:20171029T020000
RDATE:20180325T030000
TZOFFSETFROM:+0200
TZOFFSETTO:+0100
TZNAME:Europe/Paris CET
END:STANDARD
BEGIN:STANDARD
DTSTART:20181028T020000
RDATE:20190331T030000
TZOFFSETFROM:+0200
TZOFFSETTO:+0100
TZNAME:Europe/Paris CET
END:STANDARD
BEGIN:STANDARD
DTSTART:20191027T020000
RDATE:20200329T030000
TZOFFSETFROM:+0200
TZOFFSETTO:+0100
TZNAME:Europe/Paris CET
END:STANDARD
BEGIN:STANDARD
DTSTART:20201025T020000
RDATE:20210328T030000
TZOFFSETFROM:+0200
TZOFFSETTO:+0100
TZNAME:Europe/Paris CET
END:STANDARD
BEGIN:STANDARD
DTSTART:20211031T020000
RDATE:20220327T030000
TZOFFSETFROM:+0200
TZOFFSETTO:+0100
TZNAME:Europe/Paris CET
END:STANDARD
BEGIN:STANDARD
DTSTART:20221030T020000
RDATE:20230326T030000
TZOFFSETFROM:+0200
TZOFFSETTO:+0100
TZNAME:Europe/Paris CET
END:STANDARD
BEGIN:STANDARD
DTSTART:20231029T020000
RDATE:20240331T030000
TZOFFSETFROM:+0200
TZOFFSETTO:+0100
TZNAME:Europe/Paris CET
END:STANDARD
BEGIN:STANDARD
DTSTART:20241027T020000
RDATE:20250330T030000
TZOFFSETFROM:+0200
TZOFFSETTO:+0100
TZNAME:Europe/Paris CET
END:STANDARD
BEGIN:STANDARD
DTSTART:20251026T020000
RDATE:20260329T030000
TZOFFSETFROM:+0200
TZOFFSETTO:+0100
TZNAME:Europe/Paris CET
END:STANDARD
BEGIN:STANDARD
DTSTART:20261025T020000
RDATE:20270328T030000
TZOFFSETFROM:+0200
TZOFFSETTO:+0100
TZNAME:Europe/Paris CET
END:STANDARD
BEGIN:DAYLIGHT
DTSTART:20130331T030000
RDATE:20131027T020000
TZOFFSETFROM:+0100
TZOFFSETTO:+0200
TZNAME:Europe/Paris CEST
END:DAYLIGHT
BEGIN:DAYLIGHT
DTSTART:20140330T030000
RDATE:20141026T020000
TZOFFSETFROM:+0100
TZOFFSETTO:+0200
TZNAME:Europe/Paris CEST
END:DAYLIGHT
BEGIN:DAYLIGHT
DTSTART:20150329T030000
RDATE:20151025T020000
TZOFFSETFROM:+0100
TZOFFSETTO:+0200
TZNAME:Europe/Paris CEST
END:DAYLIGHT
BEGIN:DAYLIGHT
DTSTART:20160327T030000
RDATE:20161030T020000
TZOFFSETFROM:+0100
TZOFFSETTO:+0200
TZNAME:Europe/Paris CEST
END:DAYLIGHT
BEGIN:DAYLIGHT
DTSTART:20170326T030000
RDATE:20171029T020000
TZOFFSETFROM:+0100
TZOFFSETTO:+0200
TZNAME:Europe/Paris CEST
END:DAYLIGHT
BEGIN:DAYLIGHT
DTSTART:20180325T030000
RDATE:20181028T020000
TZOFFSETFROM:+0100
TZOFFSETTO:+0200
TZNAME:Europe/Paris CEST
END:DAYLIGHT
BEGIN:DAYLIGHT
DTSTART:20190331T030000
RDATE:20191027T020000
TZOFFSETFROM:+0100
TZOFFSETTO:+0200
TZNAME:Europe/Paris CEST
END:DAYLIGHT
BEGIN:DAYLIGHT
DTSTART:20200329T030000
RDATE:20201025T020000
TZOFFSETFROM:+0100
TZOFFSETTO:+0200
TZNAME:Europe/Paris CEST
END:DAYLIGHT
BEGIN:DAYLIGHT
DTSTART:20210328T030000
RDATE:20211031T020000
TZOFFSETFROM:+0100
TZOFFSETTO:+0200
TZNAME:Europe/Paris CEST
END:DAYLIGHT
BEGIN:DAYLIGHT
DTSTART:20220327T030000
RDATE:20221030T020000
TZOFFSETFROM:+0100
TZOFFSETTO:+0200
TZNAME:Europe/Paris CEST
END:DAYLIGHT
BEGIN:DAYLIGHT
DTSTART:20230326T030000
RDATE:20231029T020000
TZOFFSETFROM:+0100
TZOFFSETTO:+0200
TZNAME:Europe/Paris CEST
END:DAYLIGHT
BEGIN:DAYLIGHT
DTSTART:20240331T030000
RDATE:20241027T020000
TZOFFSETFROM:+0100
TZOFFSETTO:+0200
TZNAME:Europe/Paris CEST
END:DAYLIGHT
BEGIN:DAYLIGHT
DTSTART:20250330T030000
RDATE:20251026T020000
TZOFFSETFROM:+0100
TZOFFSETTO:+0200
TZNAME:Europe/Paris CEST
END:DAYLIGHT
BEGIN:DAYLIGHT
DTSTART:20260329T030000
RDATE:20261025T020000
TZOFFSETFROM:+0100
TZOFFSETTO:+0200
TZNAME:Europe/Paris CEST
END:DAYLIGHT
END:VTIMEZONE
BEGIN:VEVENT
UID:0682e5eb07dfe0bad7b9be08930c48f3
CATEGORIES:Circuit Lorraine Adultes (alpin)
CREATED:20131203T122059
SUMMARY:CLA       Prix de la Ville de St Maurice **REPORTE**
URL;VALUE=URI:https://skivosges.net/agenda/export-synchronisation/detailevenement/54/-/cl
 a-prix-de-la-ville-de-st-maurice-reporte?tmpl=component
DESCRIPTION:CLA       Prix de la Ville de St Maurice (Epreuve reportée) \n(Coupe de Lor
 raine Adultes)\n\nLieu : ROUGE GAZON \nOrganisateur : SKIEURS DE ST MAURICE
 /MOSELLE  (14063 SKIEURS DE ST MAURICE/MOSELLE)\nEmail : RegularLabs.EmailP
 rotector.unCloak("ep_90ebdc48");\nTelecopie : 03 29 25 25 00\n - AMVF0031  
 Slalom Geant (Courses FFS) U16-&gt;Mas (Min à Mast/Vet) Dames\n  CLA       
 Prix de la Ville de St Maurice\n - AMVM0031  Slalom Geant (Courses FFS) U16
 -&gt;Mas (Min à Mast/Vet) Hommes\n  CLA       Prix de la Ville de St Mauric
 e Cet évènement a été importé depuis :https://skivosges.net/agenda/export-s
 ynchronisation/detailevenement/54/-/cla-prix-de-la-ville-de-st-maurice-repo
 rte?tmpl=component (https://skivosges.net/agenda/export-synchronisation/det
 ailevenement/54/-/cla-prix-de-la-ville-de-st-maurice-reporte?tmpl=component
 )
X-ALT-DESC;FMTTYPE=text/html:<strong>CLA       Prix de la Ville de St Maurice</strong> <font class="atte
 ntion4">(Epreuve reportée)</font> <br /><i>(Coupe de Lorraine Adultes)</i><
 br /><br />Lieu : ROUGE GAZON <br />Organisateur : SKIEURS DE ST MAURICE/MO
 SELLE  <small>(14063 SKIEURS DE ST MAURICE/MOSELLE)</small><br />Email : <!
 -- Cette adresse électronique est protégée contre les robots spammeurs. -->
 <span class="cloaked_email ep_90ebdc48"><span data-ep-a="&#100;&#97;&#110;i
 " data-ep-b=""><span data-ep-a="&#101;l.&#109;" data-ep-b="&#114;.f&#114;">
 <span data-ep-b="5&#64;s&#102;" data-ep-a="&#111;r&#101;&#108;"></span></sp
 an></span></span><script>RegularLabs.EmailProtector.unCloak("ep_90ebdc48");
 </script><br />Telecopie : 03 29 25 25 00<ul type="disc"><li>AMVF0031  Slal
 om Geant <nobr><i>(Courses FFS)</i></nobr> <nobr>U16->Mas (Min à Mast/Vet)<
 /nobr> Dames<br />&nbsp;&nbsp;CLA       Prix de la Ville de St Maurice</li>
 <li>AMVM0031  Slalom Geant <nobr><i>(Courses FFS)</i></nobr> <nobr>U16->Mas
  (Min à Mast/Vet)</nobr> Hommes<br />&nbsp;&nbsp;CLA       Prix de la Ville
  de St Maurice</li></ul> <a href="https://skivosges.net/agenda/export-synch
 ronisation/detailevenement/54/-/cla-prix-de-la-ville-de-st-maurice-reporte?
 tmpl=component">Cet évènement a été importé depuis :https://skivosges.net/a
 genda/export-synchronisation/detailevenement/54/-/cla-prix-de-la-ville-de-s
 t-maurice-reporte?tmpl=component</a>DTSTAMP:20260423T142044
DTSTART;TZID=Europe/Paris:20131215T080000
DTEND;TZID=Europe/Paris:20131215T170000
SEQUENCE:0
TRANSP:OPAQUE
END:VEVENT
END:VCALENDAR