BEGIN:VCALENDAR
VERSION:2.0
PRODID:-//jEvents 2.0 for Joomla//EN
CALSCALE:GREGORIAN
METHOD:PUBLISH
BEGIN:VTIMEZONE
TZID:Europe/Paris
BEGIN:STANDARD
DTSTART:20150227T080000
RDATE:20150329T030000
TZOFFSETFROM:+0200
TZOFFSETTO:+0100
TZNAME:Europe/Paris CET
END:STANDARD
BEGIN:STANDARD
DTSTART:20151025T020000
RDATE:20160327T030000
TZOFFSETFROM:+0200
TZOFFSETTO:+0100
TZNAME:Europe/Paris CET
END:STANDARD
BEGIN:STANDARD
DTSTART:20161030T020000
RDATE:20170326T030000
TZOFFSETFROM:+0200
TZOFFSETTO:+0100
TZNAME:Europe/Paris CET
END:STANDARD
BEGIN:STANDARD
DTSTART:20171029T020000
RDATE:20180325T030000
TZOFFSETFROM:+0200
TZOFFSETTO:+0100
TZNAME:Europe/Paris CET
END:STANDARD
BEGIN:STANDARD
DTSTART:20181028T020000
RDATE:20190331T030000
TZOFFSETFROM:+0200
TZOFFSETTO:+0100
TZNAME:Europe/Paris CET
END:STANDARD
BEGIN:STANDARD
DTSTART:20191027T020000
RDATE:20200329T030000
TZOFFSETFROM:+0200
TZOFFSETTO:+0100
TZNAME:Europe/Paris CET
END:STANDARD
BEGIN:STANDARD
DTSTART:20201025T020000
RDATE:20210328T030000
TZOFFSETFROM:+0200
TZOFFSETTO:+0100
TZNAME:Europe/Paris CET
END:STANDARD
BEGIN:STANDARD
DTSTART:20211031T020000
RDATE:20220327T030000
TZOFFSETFROM:+0200
TZOFFSETTO:+0100
TZNAME:Europe/Paris CET
END:STANDARD
BEGIN:STANDARD
DTSTART:20221030T020000
RDATE:20230326T030000
TZOFFSETFROM:+0200
TZOFFSETTO:+0100
TZNAME:Europe/Paris CET
END:STANDARD
BEGIN:STANDARD
DTSTART:20231029T020000
RDATE:20240331T030000
TZOFFSETFROM:+0200
TZOFFSETTO:+0100
TZNAME:Europe/Paris CET
END:STANDARD
BEGIN:STANDARD
DTSTART:20241027T020000
RDATE:20250330T030000
TZOFFSETFROM:+0200
TZOFFSETTO:+0100
TZNAME:Europe/Paris CET
END:STANDARD
BEGIN:STANDARD
DTSTART:20251026T020000
RDATE:20260329T030000
TZOFFSETFROM:+0200
TZOFFSETTO:+0100
TZNAME:Europe/Paris CET
END:STANDARD
BEGIN:STANDARD
DTSTART:20261025T020000
RDATE:20270328T030000
TZOFFSETFROM:+0200
TZOFFSETTO:+0100
TZNAME:Europe/Paris CET
END:STANDARD
BEGIN:DAYLIGHT
DTSTART:20150329T030000
RDATE:20151025T020000
TZOFFSETFROM:+0100
TZOFFSETTO:+0200
TZNAME:Europe/Paris CEST
END:DAYLIGHT
BEGIN:DAYLIGHT
DTSTART:20160327T030000
RDATE:20161030T020000
TZOFFSETFROM:+0100
TZOFFSETTO:+0200
TZNAME:Europe/Paris CEST
END:DAYLIGHT
BEGIN:DAYLIGHT
DTSTART:20170326T030000
RDATE:20171029T020000
TZOFFSETFROM:+0100
TZOFFSETTO:+0200
TZNAME:Europe/Paris CEST
END:DAYLIGHT
BEGIN:DAYLIGHT
DTSTART:20180325T030000
RDATE:20181028T020000
TZOFFSETFROM:+0100
TZOFFSETTO:+0200
TZNAME:Europe/Paris CEST
END:DAYLIGHT
BEGIN:DAYLIGHT
DTSTART:20190331T030000
RDATE:20191027T020000
TZOFFSETFROM:+0100
TZOFFSETTO:+0200
TZNAME:Europe/Paris CEST
END:DAYLIGHT
BEGIN:DAYLIGHT
DTSTART:20200329T030000
RDATE:20201025T020000
TZOFFSETFROM:+0100
TZOFFSETTO:+0200
TZNAME:Europe/Paris CEST
END:DAYLIGHT
BEGIN:DAYLIGHT
DTSTART:20210328T030000
RDATE:20211031T020000
TZOFFSETFROM:+0100
TZOFFSETTO:+0200
TZNAME:Europe/Paris CEST
END:DAYLIGHT
BEGIN:DAYLIGHT
DTSTART:20220327T030000
RDATE:20221030T020000
TZOFFSETFROM:+0100
TZOFFSETTO:+0200
TZNAME:Europe/Paris CEST
END:DAYLIGHT
BEGIN:DAYLIGHT
DTSTART:20230326T030000
RDATE:20231029T020000
TZOFFSETFROM:+0100
TZOFFSETTO:+0200
TZNAME:Europe/Paris CEST
END:DAYLIGHT
BEGIN:DAYLIGHT
DTSTART:20240331T030000
RDATE:20241027T020000
TZOFFSETFROM:+0100
TZOFFSETTO:+0200
TZNAME:Europe/Paris CEST
END:DAYLIGHT
BEGIN:DAYLIGHT
DTSTART:20250330T030000
RDATE:20251026T020000
TZOFFSETFROM:+0100
TZOFFSETTO:+0200
TZNAME:Europe/Paris CEST
END:DAYLIGHT
BEGIN:DAYLIGHT
DTSTART:20260329T030000
RDATE:20261025T020000
TZOFFSETFROM:+0100
TZOFFSETTO:+0200
TZNAME:Europe/Paris CEST
END:DAYLIGHT
END:VTIMEZONE
BEGIN:VEVENT
UID:bfc63ee69490ae46cbb5d440f5e2a6e3
CATEGORIES:Circuit Massif Jeunes (alpin)
CREATED:20151110T133952
SUMMARY:GPJ     U12 et U14  Grand Prix de la Ville de St. Amarin
URL;VALUE=URI:https://skivosges.net/agenda/export-synchronisation/detailevenement/540/-/g
 pj-u12-et-u14-grand-prix-de-la-ville-de-st-amarin?tmpl=component
DESCRIPTION:GPJ     U12 et U14  Grand Prix de la Ville de St. Amarin \n(Grand Prix Jeun
 es)\n\nLieu : MARKSTEIN\nOrganisateur : SKI CLUB EDELWEISS SAINT AMARIN (14
 058 SKI CLUB EDELWEISS SAINT AMARIN)\nEmail : RegularLabs.EmailProtector.un
 Cloak("ep_67a69e3d");\nTelecopie : 06 28 36 22 53\n\nInscriptions closes, l
 es listes de départ sont visualisables sur ce site\n  Organisateur:SKI CLUB
  EDELWEISS SAINT AMARI\n - AMVM0611  Slalom (Coupe de Bronze) U12/U14 Garço
 ns\n  GPJ     U12 et U14  Grand Prix de la Ville de St. Amarin\n  Organisat
 eur:SKI CLUB EDELWEISS SAINT AMARI\n - AMVF0611  Slalom (Coupe de Bronze) U
 12/U14 Filles\n  GPJ     U12 et U14  Grand Prix de la Ville de St. Amarin C
 et évènement a été importé depuis :https://skivosges.net/agenda/export-sync
 hronisation/detailevenement/540/-/gpj-u12-et-u14-grand-prix-de-la-ville-de-
 st-amarin?tmpl=component
X-ALT-DESC;FMTTYPE=text/html:<strong>GPJ     U12 et U14  Grand Prix de la Ville de St. Amarin</strong> <
 br /><i>(Grand Prix Jeunes)</i><br /><br />Lieu : MARKSTEIN<br />Organisate
 ur : SKI CLUB EDELWEISS SAINT AMARIN <small>(14058 SKI CLUB EDELWEISS SAINT
  AMARIN)</small><br />Email : <!-- Cette adresse électronique est protégée 
 contre les robots spammeurs. --><span class="cloaked_email ep_67a69e3d"><sp
 an data-ep-a="&#107;&#108;&#105;&#110;" data-ep-b="e.&#102;&#114;"><span da
 ta-ep-b="&#64;&#102;&#114;&#101;" data-ep-a="&#103;&#101;&#108;s"><span dat
 a-ep-b="d&#116;&#46;g" data-ep-a="&#99;&#104;&#109;&#105;"></span></span></
 span></span><script>RegularLabs.EmailProtector.unCloak("ep_67a69e3d");</scr
 ipt><br />Telecopie : 06 28 36 22 53<br /><br />Inscriptions closes, les li
 stes de départ sont visualisables sur ce site<ul type="disc"><br />&nbsp;&n
 bsp;Organisateur:SKI CLUB EDELWEISS SAINT AMARI<li>AMVM0611  Slalom <nobr><
 i>(Coupe de Bronze)</i></nobr> <nobr>U12/U14</nobr> Garçons<br />&nbsp;&nbs
 p;GPJ     U12 et U14  Grand Prix de la Ville de St. Amarin</li><br />&nbsp;
 &nbsp;Organisateur:SKI CLUB EDELWEISS SAINT AMARI<li>AMVF0611  Slalom <nobr
 ><i>(Coupe de Bronze)</i></nobr> <nobr>U12/U14</nobr> Filles<br />&nbsp;&nb
 sp;GPJ     U12 et U14  Grand Prix de la Ville de St. Amarin</li></ul> <a hr
 ef="https://skivosges.net/agenda/export-synchronisation/detailevenement/540
 /-/gpj-u12-et-u14-grand-prix-de-la-ville-de-st-amarin?tmpl=component">Cet é
 vènement a été importé depuis :https://skivosges.net/agenda/export-synchron
 isation/detailevenement/540/-/gpj-u12-et-u14-grand-prix-de-la-ville-de-st-a
 marin?tmpl=component</a>DTSTAMP:20260420T220509
DTSTART;TZID=Europe/Paris:20160228T080000
DTEND;TZID=Europe/Paris:20160228T170000
SEQUENCE:0
TRANSP:OPAQUE
END:VEVENT
END:VCALENDAR