BEGIN:VCALENDAR
VERSION:2.0
PRODID:-//jEvents 2.0 for Joomla//EN
CALSCALE:GREGORIAN
METHOD:PUBLISH
BEGIN:VTIMEZONE
TZID:Europe/Paris
BEGIN:STANDARD
DTSTART:20150227T080000
RDATE:20150329T030000
TZOFFSETFROM:+0200
TZOFFSETTO:+0100
TZNAME:Europe/Paris CET
END:STANDARD
BEGIN:STANDARD
DTSTART:20151025T020000
RDATE:20160327T030000
TZOFFSETFROM:+0200
TZOFFSETTO:+0100
TZNAME:Europe/Paris CET
END:STANDARD
BEGIN:STANDARD
DTSTART:20161030T020000
RDATE:20170326T030000
TZOFFSETFROM:+0200
TZOFFSETTO:+0100
TZNAME:Europe/Paris CET
END:STANDARD
BEGIN:STANDARD
DTSTART:20171029T020000
RDATE:20180325T030000
TZOFFSETFROM:+0200
TZOFFSETTO:+0100
TZNAME:Europe/Paris CET
END:STANDARD
BEGIN:STANDARD
DTSTART:20181028T020000
RDATE:20190331T030000
TZOFFSETFROM:+0200
TZOFFSETTO:+0100
TZNAME:Europe/Paris CET
END:STANDARD
BEGIN:STANDARD
DTSTART:20191027T020000
RDATE:20200329T030000
TZOFFSETFROM:+0200
TZOFFSETTO:+0100
TZNAME:Europe/Paris CET
END:STANDARD
BEGIN:STANDARD
DTSTART:20201025T020000
RDATE:20210328T030000
TZOFFSETFROM:+0200
TZOFFSETTO:+0100
TZNAME:Europe/Paris CET
END:STANDARD
BEGIN:STANDARD
DTSTART:20211031T020000
RDATE:20220327T030000
TZOFFSETFROM:+0200
TZOFFSETTO:+0100
TZNAME:Europe/Paris CET
END:STANDARD
BEGIN:STANDARD
DTSTART:20221030T020000
RDATE:20230326T030000
TZOFFSETFROM:+0200
TZOFFSETTO:+0100
TZNAME:Europe/Paris CET
END:STANDARD
BEGIN:STANDARD
DTSTART:20231029T020000
RDATE:20240331T030000
TZOFFSETFROM:+0200
TZOFFSETTO:+0100
TZNAME:Europe/Paris CET
END:STANDARD
BEGIN:STANDARD
DTSTART:20241027T020000
RDATE:20250330T030000
TZOFFSETFROM:+0200
TZOFFSETTO:+0100
TZNAME:Europe/Paris CET
END:STANDARD
BEGIN:STANDARD
DTSTART:20251026T020000
RDATE:20260329T030000
TZOFFSETFROM:+0200
TZOFFSETTO:+0100
TZNAME:Europe/Paris CET
END:STANDARD
BEGIN:STANDARD
DTSTART:20261025T020000
RDATE:20270328T030000
TZOFFSETFROM:+0200
TZOFFSETTO:+0100
TZNAME:Europe/Paris CET
END:STANDARD
BEGIN:DAYLIGHT
DTSTART:20150329T030000
RDATE:20151025T020000
TZOFFSETFROM:+0100
TZOFFSETTO:+0200
TZNAME:Europe/Paris CEST
END:DAYLIGHT
BEGIN:DAYLIGHT
DTSTART:20160327T030000
RDATE:20161030T020000
TZOFFSETFROM:+0100
TZOFFSETTO:+0200
TZNAME:Europe/Paris CEST
END:DAYLIGHT
BEGIN:DAYLIGHT
DTSTART:20170326T030000
RDATE:20171029T020000
TZOFFSETFROM:+0100
TZOFFSETTO:+0200
TZNAME:Europe/Paris CEST
END:DAYLIGHT
BEGIN:DAYLIGHT
DTSTART:20180325T030000
RDATE:20181028T020000
TZOFFSETFROM:+0100
TZOFFSETTO:+0200
TZNAME:Europe/Paris CEST
END:DAYLIGHT
BEGIN:DAYLIGHT
DTSTART:20190331T030000
RDATE:20191027T020000
TZOFFSETFROM:+0100
TZOFFSETTO:+0200
TZNAME:Europe/Paris CEST
END:DAYLIGHT
BEGIN:DAYLIGHT
DTSTART:20200329T030000
RDATE:20201025T020000
TZOFFSETFROM:+0100
TZOFFSETTO:+0200
TZNAME:Europe/Paris CEST
END:DAYLIGHT
BEGIN:DAYLIGHT
DTSTART:20210328T030000
RDATE:20211031T020000
TZOFFSETFROM:+0100
TZOFFSETTO:+0200
TZNAME:Europe/Paris CEST
END:DAYLIGHT
BEGIN:DAYLIGHT
DTSTART:20220327T030000
RDATE:20221030T020000
TZOFFSETFROM:+0100
TZOFFSETTO:+0200
TZNAME:Europe/Paris CEST
END:DAYLIGHT
BEGIN:DAYLIGHT
DTSTART:20230326T030000
RDATE:20231029T020000
TZOFFSETFROM:+0100
TZOFFSETTO:+0200
TZNAME:Europe/Paris CEST
END:DAYLIGHT
BEGIN:DAYLIGHT
DTSTART:20240331T030000
RDATE:20241027T020000
TZOFFSETFROM:+0100
TZOFFSETTO:+0200
TZNAME:Europe/Paris CEST
END:DAYLIGHT
BEGIN:DAYLIGHT
DTSTART:20250330T030000
RDATE:20251026T020000
TZOFFSETFROM:+0100
TZOFFSETTO:+0200
TZNAME:Europe/Paris CEST
END:DAYLIGHT
BEGIN:DAYLIGHT
DTSTART:20260329T030000
RDATE:20261025T020000
TZOFFSETFROM:+0100
TZOFFSETTO:+0200
TZNAME:Europe/Paris CEST
END:DAYLIGHT
END:VTIMEZONE
BEGIN:VEVENT
UID:5f6ec5f86de20026fa5c4ab5ceacc4c7
CATEGORIES:Opens et Promos (alpin)
CREATED:20151110T133952
SUMMARY:PROMO  U8 à U16     Les dimanches de la Glisse  Prix des Cheminots
URL;VALUE=URI:https://skivosges.net/agenda/export-synchronisation/detailevenement/543/-/p
 romo-u8-a-u16-les-dimanches-de-la-glisse-prix-des-cheminots?tmpl=component
DESCRIPTION:PROMO  U8 à U16     Les dimanches de la Glisse  Prix des Cheminots\n\nLieu 
 : CHAMP DU FEU\nOrganisateur : A.S DES CHEMINOTS STRASBOURG (14071 A.S DES 
 CHEMINOTS STRASBOURG)\nEmail : RegularLabs.EmailProtector.unCloak("ep_c4d58
 174");\nTelecopie : 03 88 97 74 30\n\nles dossards seront à récupérer au ch
 alet des skieurs.\n\nInscriptions en cours sur ce site\n - AMVM0631  Slalom
  Geant U8/U10 Garçons\n  PROMO  U8 à U16     Les dimanches de la Glisse  Pr
 ix des Cheminots\n - AMVM0632  Slalom Geant U12 a U16 Garçons\n  PROMO  U8 
 à U16     Les dimanches de la Glisse  Prix des Cheminots\n - AMVF0631  Slal
 om Geant U8/U10 Filles\n  PROMO  U8 à U16     Les dimanches de la Glisse  P
 rix des Cheminots\n - AMVF0632  Slalom Geant U12 a U16 Filles\n  PROMO  U8 
 à U16     Les dimanches de la Glisse  Prix des Cheminots Cet évènement a ét
 é importé depuis :https://skivosges.net/agenda/export-synchronisation/detai
 levenement/543/-/promo-u8-a-u16-les-dimanches-de-la-glisse-prix-des-chemino
 ts?tmpl=component
X-ALT-DESC;FMTTYPE=text/html:<strong>PROMO  U8 à U16     Les dimanches de la Glisse  Prix des Cheminots<
 /strong><br /><br />Lieu : CHAMP DU FEU<br />Organisateur : A.S DES CHEMINO
 TS STRASBOURG <small>(14071 A.S DES CHEMINOTS STRASBOURG)</small><br />Emai
 l : <!-- Cette adresse électronique est protégée contre les robots spammeur
 s. --><span class="cloaked_email ep_c4d58174"><span data-ep-b="&#116;" data
 -ep-a="&#109;&#97;r&#116;&#105;"><span data-ep-b="t&#101;&#46;n&#101;" data
 -ep-a="n&#46;&#98;&#114;&#105;"><span data-ep-a="&#103;&#110;o&#110;&#64;" 
 data-ep-b="&#108;a&#112;&#111;&#115;"></span></span></span></span><script>R
 egularLabs.EmailProtector.unCloak("ep_c4d58174");</script><br />Telecopie :
  03 88 97 74 30<br /><br />les dossards seront à récupérer au chalet des sk
 ieurs.<br /><br />Inscriptions en cours sur ce site<ul type="disc"><li>AMVM
 0631  Slalom Geant <nobr>U8/U10</nobr> Garçons<br />&nbsp;&nbsp;PROMO  U8 à
  U16     Les dimanches de la Glisse  Prix des Cheminots</li><li>AMVM0632  S
 lalom Geant <nobr>U12 a U16</nobr> Garçons<br />&nbsp;&nbsp;PROMO  U8 à U16
      Les dimanches de la Glisse  Prix des Cheminots</li><li>AMVF0631  Slalo
 m Geant <nobr>U8/U10</nobr> Filles<br />&nbsp;&nbsp;PROMO  U8 à U16     Les
  dimanches de la Glisse  Prix des Cheminots</li><li>AMVF0632  Slalom Geant 
 <nobr>U12 a U16</nobr> Filles<br />&nbsp;&nbsp;PROMO  U8 à U16     Les dima
 nches de la Glisse  Prix des Cheminots</li></ul> <a href="https://skivosges
 .net/agenda/export-synchronisation/detailevenement/543/-/promo-u8-a-u16-les
 -dimanches-de-la-glisse-prix-des-cheminots?tmpl=component">Cet évènement a 
 été importé depuis :https://skivosges.net/agenda/export-synchronisation/det
 ailevenement/543/-/promo-u8-a-u16-les-dimanches-de-la-glisse-prix-des-chemi
 nots?tmpl=component</a>DTSTAMP:20260420T220751
DTSTART;TZID=Europe/Paris:20160228T080000
DTEND;TZID=Europe/Paris:20160228T170000
SEQUENCE:0
TRANSP:OPAQUE
END:VEVENT
END:VCALENDAR