BEGIN:VCALENDAR
VERSION:2.0
PRODID:-//jEvents 2.0 for Joomla//EN
CALSCALE:GREGORIAN
METHOD:PUBLISH
BEGIN:VTIMEZONE
TZID:Europe/Paris
BEGIN:STANDARD
DTSTART:20150305T080000
RDATE:20150329T030000
TZOFFSETFROM:+0200
TZOFFSETTO:+0100
TZNAME:Europe/Paris CET
END:STANDARD
BEGIN:STANDARD
DTSTART:20151025T020000
RDATE:20160327T030000
TZOFFSETFROM:+0200
TZOFFSETTO:+0100
TZNAME:Europe/Paris CET
END:STANDARD
BEGIN:STANDARD
DTSTART:20161030T020000
RDATE:20170326T030000
TZOFFSETFROM:+0200
TZOFFSETTO:+0100
TZNAME:Europe/Paris CET
END:STANDARD
BEGIN:STANDARD
DTSTART:20171029T020000
RDATE:20180325T030000
TZOFFSETFROM:+0200
TZOFFSETTO:+0100
TZNAME:Europe/Paris CET
END:STANDARD
BEGIN:STANDARD
DTSTART:20181028T020000
RDATE:20190331T030000
TZOFFSETFROM:+0200
TZOFFSETTO:+0100
TZNAME:Europe/Paris CET
END:STANDARD
BEGIN:STANDARD
DTSTART:20191027T020000
RDATE:20200329T030000
TZOFFSETFROM:+0200
TZOFFSETTO:+0100
TZNAME:Europe/Paris CET
END:STANDARD
BEGIN:STANDARD
DTSTART:20201025T020000
RDATE:20210328T030000
TZOFFSETFROM:+0200
TZOFFSETTO:+0100
TZNAME:Europe/Paris CET
END:STANDARD
BEGIN:STANDARD
DTSTART:20211031T020000
RDATE:20220327T030000
TZOFFSETFROM:+0200
TZOFFSETTO:+0100
TZNAME:Europe/Paris CET
END:STANDARD
BEGIN:STANDARD
DTSTART:20221030T020000
RDATE:20230326T030000
TZOFFSETFROM:+0200
TZOFFSETTO:+0100
TZNAME:Europe/Paris CET
END:STANDARD
BEGIN:STANDARD
DTSTART:20231029T020000
RDATE:20240331T030000
TZOFFSETFROM:+0200
TZOFFSETTO:+0100
TZNAME:Europe/Paris CET
END:STANDARD
BEGIN:STANDARD
DTSTART:20241027T020000
RDATE:20250330T030000
TZOFFSETFROM:+0200
TZOFFSETTO:+0100
TZNAME:Europe/Paris CET
END:STANDARD
BEGIN:STANDARD
DTSTART:20251026T020000
RDATE:20260329T030000
TZOFFSETFROM:+0200
TZOFFSETTO:+0100
TZNAME:Europe/Paris CET
END:STANDARD
BEGIN:STANDARD
DTSTART:20261025T020000
RDATE:20270328T030000
TZOFFSETFROM:+0200
TZOFFSETTO:+0100
TZNAME:Europe/Paris CET
END:STANDARD
BEGIN:DAYLIGHT
DTSTART:20150329T030000
RDATE:20151025T020000
TZOFFSETFROM:+0100
TZOFFSETTO:+0200
TZNAME:Europe/Paris CEST
END:DAYLIGHT
BEGIN:DAYLIGHT
DTSTART:20160327T030000
RDATE:20161030T020000
TZOFFSETFROM:+0100
TZOFFSETTO:+0200
TZNAME:Europe/Paris CEST
END:DAYLIGHT
BEGIN:DAYLIGHT
DTSTART:20170326T030000
RDATE:20171029T020000
TZOFFSETFROM:+0100
TZOFFSETTO:+0200
TZNAME:Europe/Paris CEST
END:DAYLIGHT
BEGIN:DAYLIGHT
DTSTART:20180325T030000
RDATE:20181028T020000
TZOFFSETFROM:+0100
TZOFFSETTO:+0200
TZNAME:Europe/Paris CEST
END:DAYLIGHT
BEGIN:DAYLIGHT
DTSTART:20190331T030000
RDATE:20191027T020000
TZOFFSETFROM:+0100
TZOFFSETTO:+0200
TZNAME:Europe/Paris CEST
END:DAYLIGHT
BEGIN:DAYLIGHT
DTSTART:20200329T030000
RDATE:20201025T020000
TZOFFSETFROM:+0100
TZOFFSETTO:+0200
TZNAME:Europe/Paris CEST
END:DAYLIGHT
BEGIN:DAYLIGHT
DTSTART:20210328T030000
RDATE:20211031T020000
TZOFFSETFROM:+0100
TZOFFSETTO:+0200
TZNAME:Europe/Paris CEST
END:DAYLIGHT
BEGIN:DAYLIGHT
DTSTART:20220327T030000
RDATE:20221030T020000
TZOFFSETFROM:+0100
TZOFFSETTO:+0200
TZNAME:Europe/Paris CEST
END:DAYLIGHT
BEGIN:DAYLIGHT
DTSTART:20230326T030000
RDATE:20231029T020000
TZOFFSETFROM:+0100
TZOFFSETTO:+0200
TZNAME:Europe/Paris CEST
END:DAYLIGHT
BEGIN:DAYLIGHT
DTSTART:20240331T030000
RDATE:20241027T020000
TZOFFSETFROM:+0100
TZOFFSETTO:+0200
TZNAME:Europe/Paris CEST
END:DAYLIGHT
BEGIN:DAYLIGHT
DTSTART:20250330T030000
RDATE:20251026T020000
TZOFFSETFROM:+0100
TZOFFSETTO:+0200
TZNAME:Europe/Paris CEST
END:DAYLIGHT
BEGIN:DAYLIGHT
DTSTART:20260329T030000
RDATE:20261025T020000
TZOFFSETFROM:+0100
TZOFFSETTO:+0200
TZNAME:Europe/Paris CEST
END:DAYLIGHT
END:VTIMEZONE
BEGIN:VEVENT
UID:bd3127c983b2aff83f5f6a5c3f64dfaf
CATEGORIES:Autres Épreuves (alpin)
CREATED:20151110T133952
SUMMARY:GP du Caveau et de la  table du pére Jules
URL;VALUE=URI:https://skivosges.net/agenda/export-synchronisation/detailevenement/546/-/g
 p-du-caveau-et-de-la-table-du-pere-jules?tmpl=component
DESCRIPTION:GP du Caveau et de la  table du pére Jules\n\nLieu : GERARDMER\nOrganisateu
 r : GERARDMER SKI ALPIN (14089 GERARDMER SKI ALPIN)\nEmail : RegularLabs.Em
 ailProtector.unCloak("ep_703ee494");\nTelecopie : 03 29 60 98 04\nTelecopie
  : 03 29 60 98 04\n\nGÉANT OU SLALOM DÉCISION PRISE VENDREDI EN COMITE DE C
 OURSE \n\nInscriptions closes, les listes de départ sont visualisables sur 
 ce site\n - AMVM0651  Slalom Geant Tous les Masters Hommes Hommes\n  GP du 
 Caveau et de la  table du pére Jules\n - AMVF0651  Slalom Geant Tous les Ma
 sters Dames Dames\n  GP du Caveau et de la  table du pére Jules Cet évèneme
 nt a été importé depuis :https://skivosges.net/agenda/export-synchronisatio
 n/detailevenement/546/-/gp-du-caveau-et-de-la-table-du-pere-jules?tmpl=comp
 onent (https://skivosges.net/agenda/export-synchronisation/detailevenement/
 546/-/gp-du-caveau-et-de-la-table-du-pere-jules?tmpl=component)
X-ALT-DESC;FMTTYPE=text/html:<strong>GP du Caveau et de la  table du pére Jules</strong><br /><br />Lieu
  : GERARDMER<br />Organisateur : GERARDMER SKI ALPIN <small>(14089 GERARDME
 R SKI ALPIN)</small><br />Email : <!-- Cette adresse électronique est proté
 gée contre les robots spammeurs. --><span class="cloaked_email ep_703ee494"
 ><span data-ep-b="r" data-ep-a="a&#115;&#103;&#115;&#107;"><span data-ep-b=
 "&#110;&#103;e.&#102;" data-ep-a="&#105;.&#103;&#101;&#114;"><span data-ep-
 b="&#114;&#64;&#111;&#114;a" data-ep-a="ar&#100;me"></span></span></span></
 span><script>RegularLabs.EmailProtector.unCloak("ep_703ee494");</script><br
  />Telecopie : 03 29 60 98 04<br />Telecopie : 03 29 60 98 04<br /><br />GÉ
 ANT OU SLALOM DÉCISION PRISE VENDREDI EN COMITE DE COURSE <br /><br />Inscr
 iptions closes, les listes de départ sont visualisables sur ce site<ul type
 ="disc"><li>AMVM0651  Slalom Geant <nobr>Tous les Masters Hommes</nobr> Hom
 mes<br />&nbsp;&nbsp;GP du Caveau et de la  table du pére Jules</li><li>AMV
 F0651  Slalom Geant <nobr>Tous les Masters Dames</nobr> Dames<br />&nbsp;&n
 bsp;GP du Caveau et de la  table du pére Jules</li></ul> <a href="https://s
 kivosges.net/agenda/export-synchronisation/detailevenement/546/-/gp-du-cave
 au-et-de-la-table-du-pere-jules?tmpl=component">Cet évènement a été importé
  depuis :https://skivosges.net/agenda/export-synchronisation/detailevenemen
 t/546/-/gp-du-caveau-et-de-la-table-du-pere-jules?tmpl=component</a>DTSTAMP:20260420T220830
DTSTART;TZID=Europe/Paris:20160305T080000
DTEND;TZID=Europe/Paris:20160305T170000
SEQUENCE:0
TRANSP:OPAQUE
END:VEVENT
END:VCALENDAR