BEGIN:VCALENDAR
VERSION:2.0
PRODID:-//jEvents 2.0 for Joomla//EN
CALSCALE:GREGORIAN
METHOD:PUBLISH
BEGIN:VTIMEZONE
TZID:Europe/Paris
BEGIN:STANDARD
DTSTART:20150305T080000
RDATE:20150329T030000
TZOFFSETFROM:+0200
TZOFFSETTO:+0100
TZNAME:Europe/Paris CET
END:STANDARD
BEGIN:STANDARD
DTSTART:20151025T020000
RDATE:20160327T030000
TZOFFSETFROM:+0200
TZOFFSETTO:+0100
TZNAME:Europe/Paris CET
END:STANDARD
BEGIN:STANDARD
DTSTART:20161030T020000
RDATE:20170326T030000
TZOFFSETFROM:+0200
TZOFFSETTO:+0100
TZNAME:Europe/Paris CET
END:STANDARD
BEGIN:STANDARD
DTSTART:20171029T020000
RDATE:20180325T030000
TZOFFSETFROM:+0200
TZOFFSETTO:+0100
TZNAME:Europe/Paris CET
END:STANDARD
BEGIN:STANDARD
DTSTART:20181028T020000
RDATE:20190331T030000
TZOFFSETFROM:+0200
TZOFFSETTO:+0100
TZNAME:Europe/Paris CET
END:STANDARD
BEGIN:STANDARD
DTSTART:20191027T020000
RDATE:20200329T030000
TZOFFSETFROM:+0200
TZOFFSETTO:+0100
TZNAME:Europe/Paris CET
END:STANDARD
BEGIN:STANDARD
DTSTART:20201025T020000
RDATE:20210328T030000
TZOFFSETFROM:+0200
TZOFFSETTO:+0100
TZNAME:Europe/Paris CET
END:STANDARD
BEGIN:STANDARD
DTSTART:20211031T020000
RDATE:20220327T030000
TZOFFSETFROM:+0200
TZOFFSETTO:+0100
TZNAME:Europe/Paris CET
END:STANDARD
BEGIN:STANDARD
DTSTART:20221030T020000
RDATE:20230326T030000
TZOFFSETFROM:+0200
TZOFFSETTO:+0100
TZNAME:Europe/Paris CET
END:STANDARD
BEGIN:STANDARD
DTSTART:20231029T020000
RDATE:20240331T030000
TZOFFSETFROM:+0200
TZOFFSETTO:+0100
TZNAME:Europe/Paris CET
END:STANDARD
BEGIN:STANDARD
DTSTART:20241027T020000
RDATE:20250330T030000
TZOFFSETFROM:+0200
TZOFFSETTO:+0100
TZNAME:Europe/Paris CET
END:STANDARD
BEGIN:STANDARD
DTSTART:20251026T020000
RDATE:20260329T030000
TZOFFSETFROM:+0200
TZOFFSETTO:+0100
TZNAME:Europe/Paris CET
END:STANDARD
BEGIN:STANDARD
DTSTART:20261025T020000
RDATE:20270328T030000
TZOFFSETFROM:+0200
TZOFFSETTO:+0100
TZNAME:Europe/Paris CET
END:STANDARD
BEGIN:DAYLIGHT
DTSTART:20150329T030000
RDATE:20151025T020000
TZOFFSETFROM:+0100
TZOFFSETTO:+0200
TZNAME:Europe/Paris CEST
END:DAYLIGHT
BEGIN:DAYLIGHT
DTSTART:20160327T030000
RDATE:20161030T020000
TZOFFSETFROM:+0100
TZOFFSETTO:+0200
TZNAME:Europe/Paris CEST
END:DAYLIGHT
BEGIN:DAYLIGHT
DTSTART:20170326T030000
RDATE:20171029T020000
TZOFFSETFROM:+0100
TZOFFSETTO:+0200
TZNAME:Europe/Paris CEST
END:DAYLIGHT
BEGIN:DAYLIGHT
DTSTART:20180325T030000
RDATE:20181028T020000
TZOFFSETFROM:+0100
TZOFFSETTO:+0200
TZNAME:Europe/Paris CEST
END:DAYLIGHT
BEGIN:DAYLIGHT
DTSTART:20190331T030000
RDATE:20191027T020000
TZOFFSETFROM:+0100
TZOFFSETTO:+0200
TZNAME:Europe/Paris CEST
END:DAYLIGHT
BEGIN:DAYLIGHT
DTSTART:20200329T030000
RDATE:20201025T020000
TZOFFSETFROM:+0100
TZOFFSETTO:+0200
TZNAME:Europe/Paris CEST
END:DAYLIGHT
BEGIN:DAYLIGHT
DTSTART:20210328T030000
RDATE:20211031T020000
TZOFFSETFROM:+0100
TZOFFSETTO:+0200
TZNAME:Europe/Paris CEST
END:DAYLIGHT
BEGIN:DAYLIGHT
DTSTART:20220327T030000
RDATE:20221030T020000
TZOFFSETFROM:+0100
TZOFFSETTO:+0200
TZNAME:Europe/Paris CEST
END:DAYLIGHT
BEGIN:DAYLIGHT
DTSTART:20230326T030000
RDATE:20231029T020000
TZOFFSETFROM:+0100
TZOFFSETTO:+0200
TZNAME:Europe/Paris CEST
END:DAYLIGHT
BEGIN:DAYLIGHT
DTSTART:20240331T030000
RDATE:20241027T020000
TZOFFSETFROM:+0100
TZOFFSETTO:+0200
TZNAME:Europe/Paris CEST
END:DAYLIGHT
BEGIN:DAYLIGHT
DTSTART:20250330T030000
RDATE:20251026T020000
TZOFFSETFROM:+0100
TZOFFSETTO:+0200
TZNAME:Europe/Paris CEST
END:DAYLIGHT
BEGIN:DAYLIGHT
DTSTART:20260329T030000
RDATE:20261025T020000
TZOFFSETFROM:+0100
TZOFFSETTO:+0200
TZNAME:Europe/Paris CEST
END:DAYLIGHT
END:VTIMEZONE
BEGIN:VEVENT
UID:e73b8c4561de296b24e7a6135c82ed77
CATEGORIES:Circuit Massif Masters (alpin)
CREATED:20151110T133952
SUMMARY:GPM  Masters  Scott Fertiligène
URL;VALUE=URI:https://skivosges.net/agenda/export-synchronisation/detailevenement/547/-/g
 pm-masters-scott-fertiligene?tmpl=component
DESCRIPTION:GPM  Masters  Scott Fertiligène \n(Grand Prix Masters)\n\nLieu : GERARDMER\
 nOrganisateur : A.S DU VALTIN (14409 A.S DU VALTIN)\nEmail : RegularLabs.Em
 ailProtector.unCloak("ep_ec3ba3f0");\nTelecopie : 03 29 60 98 04\nTelecopie
  : 03 29 60 98 04\n\nSLALOM\n\nInscriptions closes, les listes de départ so
 nt visualisables sur ce site\n - AMVM0661  Slalom (Courses Masters) Tous le
 s Masters Hommes Hommes\n  GPM  Masters  initule non communiqué\n - AMVF066
 1  Slalom (Courses Masters) Tous les Masters Dames Dames\n  GPM  Masters  i
 nitule non communiqué Cet évènement a été importé depuis :https://skivosges
 .net/agenda/export-synchronisation/detailevenement/547/-/gpm-masters-scott-
 fertiligene?tmpl=component (https://skivosges.net/agenda/export-synchronisa
 tion/detailevenement/547/-/gpm-masters-scott-fertiligene?tmpl=component)
X-ALT-DESC;FMTTYPE=text/html:<strong>GPM  Masters  Scott Fertiligène</strong> <br /><i>(Grand Prix Maste
 rs)</i><br /><br />Lieu : GERARDMER<br />Organisateur : A.S DU VALTIN <smal
 l>(14409 A.S DU VALTIN)</small><br />Email : <!-- Cette adresse électroniqu
 e est protégée contre les robots spammeurs. --><span class="cloaked_email e
 p_ec3ba3f0"><span data-ep-a="a&#115;gs&#107;" data-ep-b="r"><span data-ep-b
 ="n&#103;&#101;&#46;&#102;" data-ep-a="&#105;&#46;&#103;e&#114;"><span data
 -ep-b="r&#64;&#111;r&#97;" data-ep-a="&#97;&#114;&#100;m&#101;"></span></sp
 an></span></span><script>RegularLabs.EmailProtector.unCloak("ep_ec3ba3f0");
 </script><br />Telecopie : 03 29 60 98 04<br />Telecopie : 03 29 60 98 04<b
 r /><br />SLALOM<br /><br />Inscriptions closes, les listes de départ sont 
 visualisables sur ce site<ul type="disc"><li>AMVM0661  Slalom <nobr><i>(Cou
 rses Masters)</i></nobr> <nobr>Tous les Masters Hommes</nobr> Hommes<br />&
 nbsp;&nbsp;GPM  Masters  initule non communiqué</li><li>AMVF0661  Slalom <n
 obr><i>(Courses Masters)</i></nobr> <nobr>Tous les Masters Dames</nobr> Dam
 es<br />&nbsp;&nbsp;GPM  Masters  initule non communiqué</li></ul> <a href=
 "https://skivosges.net/agenda/export-synchronisation/detailevenement/547/-/
 gpm-masters-scott-fertiligene?tmpl=component">Cet évènement a été importé d
 epuis :https://skivosges.net/agenda/export-synchronisation/detailevenement/
 547/-/gpm-masters-scott-fertiligene?tmpl=component</a>DTSTAMP:20260420T220505
DTSTART;TZID=Europe/Paris:20160305T080000
DTEND;TZID=Europe/Paris:20160305T170000
SEQUENCE:0
TRANSP:OPAQUE
END:VEVENT
END:VCALENDAR