BEGIN:VCALENDAR
VERSION:2.0
PRODID:-//jEvents 2.0 for Joomla//EN
CALSCALE:GREGORIAN
METHOD:PUBLISH
BEGIN:VTIMEZONE
TZID:Europe/Paris
BEGIN:STANDARD
DTSTART:20150305T080000
RDATE:20150329T030000
TZOFFSETFROM:+0200
TZOFFSETTO:+0100
TZNAME:Europe/Paris CET
END:STANDARD
BEGIN:STANDARD
DTSTART:20151025T020000
RDATE:20160327T030000
TZOFFSETFROM:+0200
TZOFFSETTO:+0100
TZNAME:Europe/Paris CET
END:STANDARD
BEGIN:STANDARD
DTSTART:20161030T020000
RDATE:20170326T030000
TZOFFSETFROM:+0200
TZOFFSETTO:+0100
TZNAME:Europe/Paris CET
END:STANDARD
BEGIN:STANDARD
DTSTART:20171029T020000
RDATE:20180325T030000
TZOFFSETFROM:+0200
TZOFFSETTO:+0100
TZNAME:Europe/Paris CET
END:STANDARD
BEGIN:STANDARD
DTSTART:20181028T020000
RDATE:20190331T030000
TZOFFSETFROM:+0200
TZOFFSETTO:+0100
TZNAME:Europe/Paris CET
END:STANDARD
BEGIN:STANDARD
DTSTART:20191027T020000
RDATE:20200329T030000
TZOFFSETFROM:+0200
TZOFFSETTO:+0100
TZNAME:Europe/Paris CET
END:STANDARD
BEGIN:STANDARD
DTSTART:20201025T020000
RDATE:20210328T030000
TZOFFSETFROM:+0200
TZOFFSETTO:+0100
TZNAME:Europe/Paris CET
END:STANDARD
BEGIN:STANDARD
DTSTART:20211031T020000
RDATE:20220327T030000
TZOFFSETFROM:+0200
TZOFFSETTO:+0100
TZNAME:Europe/Paris CET
END:STANDARD
BEGIN:STANDARD
DTSTART:20221030T020000
RDATE:20230326T030000
TZOFFSETFROM:+0200
TZOFFSETTO:+0100
TZNAME:Europe/Paris CET
END:STANDARD
BEGIN:STANDARD
DTSTART:20231029T020000
RDATE:20240331T030000
TZOFFSETFROM:+0200
TZOFFSETTO:+0100
TZNAME:Europe/Paris CET
END:STANDARD
BEGIN:STANDARD
DTSTART:20241027T020000
RDATE:20250330T030000
TZOFFSETFROM:+0200
TZOFFSETTO:+0100
TZNAME:Europe/Paris CET
END:STANDARD
BEGIN:STANDARD
DTSTART:20251026T020000
RDATE:20260329T030000
TZOFFSETFROM:+0200
TZOFFSETTO:+0100
TZNAME:Europe/Paris CET
END:STANDARD
BEGIN:STANDARD
DTSTART:20261025T020000
RDATE:20270328T030000
TZOFFSETFROM:+0200
TZOFFSETTO:+0100
TZNAME:Europe/Paris CET
END:STANDARD
BEGIN:DAYLIGHT
DTSTART:20150329T030000
RDATE:20151025T020000
TZOFFSETFROM:+0100
TZOFFSETTO:+0200
TZNAME:Europe/Paris CEST
END:DAYLIGHT
BEGIN:DAYLIGHT
DTSTART:20160327T030000
RDATE:20161030T020000
TZOFFSETFROM:+0100
TZOFFSETTO:+0200
TZNAME:Europe/Paris CEST
END:DAYLIGHT
BEGIN:DAYLIGHT
DTSTART:20170326T030000
RDATE:20171029T020000
TZOFFSETFROM:+0100
TZOFFSETTO:+0200
TZNAME:Europe/Paris CEST
END:DAYLIGHT
BEGIN:DAYLIGHT
DTSTART:20180325T030000
RDATE:20181028T020000
TZOFFSETFROM:+0100
TZOFFSETTO:+0200
TZNAME:Europe/Paris CEST
END:DAYLIGHT
BEGIN:DAYLIGHT
DTSTART:20190331T030000
RDATE:20191027T020000
TZOFFSETFROM:+0100
TZOFFSETTO:+0200
TZNAME:Europe/Paris CEST
END:DAYLIGHT
BEGIN:DAYLIGHT
DTSTART:20200329T030000
RDATE:20201025T020000
TZOFFSETFROM:+0100
TZOFFSETTO:+0200
TZNAME:Europe/Paris CEST
END:DAYLIGHT
BEGIN:DAYLIGHT
DTSTART:20210328T030000
RDATE:20211031T020000
TZOFFSETFROM:+0100
TZOFFSETTO:+0200
TZNAME:Europe/Paris CEST
END:DAYLIGHT
BEGIN:DAYLIGHT
DTSTART:20220327T030000
RDATE:20221030T020000
TZOFFSETFROM:+0100
TZOFFSETTO:+0200
TZNAME:Europe/Paris CEST
END:DAYLIGHT
BEGIN:DAYLIGHT
DTSTART:20230326T030000
RDATE:20231029T020000
TZOFFSETFROM:+0100
TZOFFSETTO:+0200
TZNAME:Europe/Paris CEST
END:DAYLIGHT
BEGIN:DAYLIGHT
DTSTART:20240331T030000
RDATE:20241027T020000
TZOFFSETFROM:+0100
TZOFFSETTO:+0200
TZNAME:Europe/Paris CEST
END:DAYLIGHT
BEGIN:DAYLIGHT
DTSTART:20250330T030000
RDATE:20251026T020000
TZOFFSETFROM:+0100
TZOFFSETTO:+0200
TZNAME:Europe/Paris CEST
END:DAYLIGHT
BEGIN:DAYLIGHT
DTSTART:20260329T030000
RDATE:20261025T020000
TZOFFSETFROM:+0100
TZOFFSETTO:+0200
TZNAME:Europe/Paris CEST
END:DAYLIGHT
END:VTIMEZONE
BEGIN:VEVENT
UID:be2bdd87db4be62e5e3a4fb9d00e4600
CATEGORIES:Circuit Lorraine Jeunes (alpin)
CREATED:20151110T133952
SUMMARY:CLJ    U8  à U 14    Finale des club de Lorraine
URL;VALUE=URI:https://skivosges.net/agenda/export-synchronisation/detailevenement/548/-/c
 lj-u8-a-u-14-finale-des-club-de-lorraine?tmpl=component
DESCRIPTION:<strong>CLJ    U8  à U 14    Finale des club de Lorraine</strong> <br /><i>
 (Coupe de Lorraine Jeunes)</i><br /><br />Lieu : GERARDMER<br />Organisateu
 r : GERARDMER SKI ALPIN <small>(14089 GERARDMER SKI ALPIN)</small><br />Ema
 il : <!-- Cette adresse électronique est protégée contre les robots spammeu
 rs. --><span class="cloaked_email ep_2b1fbde0"><span data-ep-b="&#114;" dat
 a-ep-a="&#97;sg&#115;k"><span data-ep-b="&#110;ge&#46;f" data-ep-a="&#105;&
 #46;&#103;er"><span data-ep-b="&#114;&#64;&#111;r&#97;" data-ep-a="a&#114;&
 #100;&#109;&#101;"></span></span></span></span><script>RegularLabs.EmailPro
 tector.unCloak("ep_2b1fbde0");</script><br />Telecopie : 03 29 60 98 04<br 
 />Telecopie : 03 29 60 98 04<br /><br />COURSE OUVERTE DE U8 A U14<br /><br
  />Inscriptions closes, les listes de départ sont visualisables sur ce site
 <ul type="disc"><li>AMVM0681  Slalom Geant <nobr><i>(Micro Coupe)</i></nobr
 > <nobr>U8/U10</nobr> Garçons<br />&nbsp;&nbsp;CLJ    U8 à U10 / U12 à U16 
    Final des club de Lorraine</li><li>AMVM0682  Slalom Geant <nobr><i>(Coup
 e de Bronze)</i></nobr> <nobr>U12/U14</nobr> Garçons<br />&nbsp;&nbsp;CLJ  
   U8 à U10 / U12 à U16    Final des club de Lorraine</li><li>AMVF0681  Slal
 om Geant <nobr><i>(Micro Coupe)</i></nobr> <nobr>U8/U10</nobr> Filles<br />
 &nbsp;&nbsp;CLJ    U8 à U10 / U12 à U16    Final des club de Lorraine</li><
 li>AMVF0682  Slalom Geant <nobr><i>(Coupe de Bronze)</i></nobr> <nobr>U12/U
 14</nobr> Filles<br />&nbsp;&nbsp;CLJ    U8 à U10 / U12 à U16    Final des 
 club de Lorraine</li></ul> <a href="https://skivosges.net/agenda/export-syn
 chronisation/detailevenement/548/-/clj-u8-a-u-14-finale-des-club-de-lorrain
 e?tmpl=component">Cet évènement a été importé depuis :https://skivosges.net
 /agenda/export-synchronisation/detailevenement/548/-/clj-u8-a-u-14-finale-d
 es-club-de-lorraine?tmpl=component</a>DTSTAMP:20260420T221359
DTSTART;TZID=Europe/Paris:20160305T080000
DTEND;TZID=Europe/Paris:20160305T170000
SEQUENCE:0
TRANSP:OPAQUE
END:VEVENT
END:VCALENDAR