BEGIN:VCALENDAR
VERSION:2.0
PRODID:-//jEvents 2.0 for Joomla//EN
CALSCALE:GREGORIAN
METHOD:PUBLISH
BEGIN:VTIMEZONE
TZID:Europe/Paris
BEGIN:STANDARD
DTSTART:20150306T080000
RDATE:20150329T030000
TZOFFSETFROM:+0200
TZOFFSETTO:+0100
TZNAME:Europe/Paris CET
END:STANDARD
BEGIN:STANDARD
DTSTART:20151025T020000
RDATE:20160327T030000
TZOFFSETFROM:+0200
TZOFFSETTO:+0100
TZNAME:Europe/Paris CET
END:STANDARD
BEGIN:STANDARD
DTSTART:20161030T020000
RDATE:20170326T030000
TZOFFSETFROM:+0200
TZOFFSETTO:+0100
TZNAME:Europe/Paris CET
END:STANDARD
BEGIN:STANDARD
DTSTART:20171029T020000
RDATE:20180325T030000
TZOFFSETFROM:+0200
TZOFFSETTO:+0100
TZNAME:Europe/Paris CET
END:STANDARD
BEGIN:STANDARD
DTSTART:20181028T020000
RDATE:20190331T030000
TZOFFSETFROM:+0200
TZOFFSETTO:+0100
TZNAME:Europe/Paris CET
END:STANDARD
BEGIN:STANDARD
DTSTART:20191027T020000
RDATE:20200329T030000
TZOFFSETFROM:+0200
TZOFFSETTO:+0100
TZNAME:Europe/Paris CET
END:STANDARD
BEGIN:STANDARD
DTSTART:20201025T020000
RDATE:20210328T030000
TZOFFSETFROM:+0200
TZOFFSETTO:+0100
TZNAME:Europe/Paris CET
END:STANDARD
BEGIN:STANDARD
DTSTART:20211031T020000
RDATE:20220327T030000
TZOFFSETFROM:+0200
TZOFFSETTO:+0100
TZNAME:Europe/Paris CET
END:STANDARD
BEGIN:STANDARD
DTSTART:20221030T020000
RDATE:20230326T030000
TZOFFSETFROM:+0200
TZOFFSETTO:+0100
TZNAME:Europe/Paris CET
END:STANDARD
BEGIN:STANDARD
DTSTART:20231029T020000
RDATE:20240331T030000
TZOFFSETFROM:+0200
TZOFFSETTO:+0100
TZNAME:Europe/Paris CET
END:STANDARD
BEGIN:STANDARD
DTSTART:20241027T020000
RDATE:20250330T030000
TZOFFSETFROM:+0200
TZOFFSETTO:+0100
TZNAME:Europe/Paris CET
END:STANDARD
BEGIN:STANDARD
DTSTART:20251026T020000
RDATE:20260329T030000
TZOFFSETFROM:+0200
TZOFFSETTO:+0100
TZNAME:Europe/Paris CET
END:STANDARD
BEGIN:STANDARD
DTSTART:20261025T020000
RDATE:20270328T030000
TZOFFSETFROM:+0200
TZOFFSETTO:+0100
TZNAME:Europe/Paris CET
END:STANDARD
BEGIN:DAYLIGHT
DTSTART:20150329T030000
RDATE:20151025T020000
TZOFFSETFROM:+0100
TZOFFSETTO:+0200
TZNAME:Europe/Paris CEST
END:DAYLIGHT
BEGIN:DAYLIGHT
DTSTART:20160327T030000
RDATE:20161030T020000
TZOFFSETFROM:+0100
TZOFFSETTO:+0200
TZNAME:Europe/Paris CEST
END:DAYLIGHT
BEGIN:DAYLIGHT
DTSTART:20170326T030000
RDATE:20171029T020000
TZOFFSETFROM:+0100
TZOFFSETTO:+0200
TZNAME:Europe/Paris CEST
END:DAYLIGHT
BEGIN:DAYLIGHT
DTSTART:20180325T030000
RDATE:20181028T020000
TZOFFSETFROM:+0100
TZOFFSETTO:+0200
TZNAME:Europe/Paris CEST
END:DAYLIGHT
BEGIN:DAYLIGHT
DTSTART:20190331T030000
RDATE:20191027T020000
TZOFFSETFROM:+0100
TZOFFSETTO:+0200
TZNAME:Europe/Paris CEST
END:DAYLIGHT
BEGIN:DAYLIGHT
DTSTART:20200329T030000
RDATE:20201025T020000
TZOFFSETFROM:+0100
TZOFFSETTO:+0200
TZNAME:Europe/Paris CEST
END:DAYLIGHT
BEGIN:DAYLIGHT
DTSTART:20210328T030000
RDATE:20211031T020000
TZOFFSETFROM:+0100
TZOFFSETTO:+0200
TZNAME:Europe/Paris CEST
END:DAYLIGHT
BEGIN:DAYLIGHT
DTSTART:20220327T030000
RDATE:20221030T020000
TZOFFSETFROM:+0100
TZOFFSETTO:+0200
TZNAME:Europe/Paris CEST
END:DAYLIGHT
BEGIN:DAYLIGHT
DTSTART:20230326T030000
RDATE:20231029T020000
TZOFFSETFROM:+0100
TZOFFSETTO:+0200
TZNAME:Europe/Paris CEST
END:DAYLIGHT
BEGIN:DAYLIGHT
DTSTART:20240331T030000
RDATE:20241027T020000
TZOFFSETFROM:+0100
TZOFFSETTO:+0200
TZNAME:Europe/Paris CEST
END:DAYLIGHT
BEGIN:DAYLIGHT
DTSTART:20250330T030000
RDATE:20251026T020000
TZOFFSETFROM:+0100
TZOFFSETTO:+0200
TZNAME:Europe/Paris CEST
END:DAYLIGHT
BEGIN:DAYLIGHT
DTSTART:20260329T030000
RDATE:20261025T020000
TZOFFSETFROM:+0100
TZOFFSETTO:+0200
TZNAME:Europe/Paris CEST
END:DAYLIGHT
END:VTIMEZONE
BEGIN:VEVENT
UID:fe2e59f4a0f7e908f52ae208b77cb392
CATEGORIES:Circuit Massif Adultes (alpin)
CREATED:20151110T133952
SUMMARY:GPA   U16 à Masters   Grand Prix Challenge Gaby Curien **REPORTE**
URL;VALUE=URI:https://skivosges.net/agenda/export-synchronisation/detailevenement/552/-/g
 pa-u16-a-masters-grand-prix-challenge-gaby-curien-reporte?tmpl=component
DESCRIPTION:GPA   U16 à Masters   Grand Prix Challenge Gaby Curien (Epreuve reportée) \
 n(Grand Prix Adultes)\n\nLieu : LA BRESSE\nOrganisateur : LA BRESSAUDE SECT
 ION SKI (14024 LA BRESSAUDE SECTION SKI)\nEmail : RegularLabs.EmailProtecto
 r.unCloak("ep_6cc5ae3d");\nTelecopie : 0608855252\n - AMVM0751  Slalom Gean
 t (Courses FFS) U16 a Masters Hommes\n  GPA   U16 à Masters   Grand Prix Ch
 allenge Gaby Curien\n - AMVF0751  Slalom Geant (Courses FFS) U16 a Masters 
 Dames\n  GPA   U16 à Masters   Grand Prix Challenge Gaby Curien Cet évèneme
 nt a été importé depuis :https://skivosges.net/agenda/export-synchronisatio
 n/detailevenement/552/-/gpa-u16-a-masters-grand-prix-challenge-gaby-curien-
 reporte?tmpl=component
X-ALT-DESC;FMTTYPE=text/html:<strong>GPA   U16 à Masters   Grand Prix Challenge Gaby Curien</strong> <fo
 nt class="attention4">(Epreuve reportée)</font> <br /><i>(Grand Prix Adulte
 s)</i><br /><br />Lieu : LA BRESSE<br />Organisateur : LA BRESSAUDE SECTION
  SKI <small>(14024 LA BRESSAUDE SECTION SKI)</small><br />Email : <!-- Cett
 e adresse électronique est protégée contre les robots spammeurs. --><span c
 lass="cloaked_email ep_6cc5ae3d"><span data-ep-b="&#102;r" data-ep-a="o&#10
 0;i&#108;&#101;"><span data-ep-a="&#46;&#109;u&#110;&#115;" data-ep-b="&#97
 ;&#110;g&#101;."><span data-ep-b="&#108;&#98;&#64;&#111;&#114;" data-ep-a="
 &#99;h.&#115;&#99;"></span></span></span></span><script>RegularLabs.EmailPr
 otector.unCloak("ep_6cc5ae3d");</script><br />Telecopie : 0608855252<ul typ
 e="disc"><li>AMVM0751  Slalom Geant <nobr><i>(Courses FFS)</i></nobr> <nobr
 >U16 a Masters</nobr> Hommes<br />&nbsp;&nbsp;GPA   U16 à Masters   Grand P
 rix Challenge Gaby Curien</li><li>AMVF0751  Slalom Geant <nobr><i>(Courses 
 FFS)</i></nobr> <nobr>U16 a Masters</nobr> Dames<br />&nbsp;&nbsp;GPA   U16
  à Masters   Grand Prix Challenge Gaby Curien</li></ul> <a href="https://sk
 ivosges.net/agenda/export-synchronisation/detailevenement/552/-/gpa-u16-a-m
 asters-grand-prix-challenge-gaby-curien-reporte?tmpl=component">Cet évèneme
 nt a été importé depuis :https://skivosges.net/agenda/export-synchronisatio
 n/detailevenement/552/-/gpa-u16-a-masters-grand-prix-challenge-gaby-curien-
 reporte?tmpl=component</a>DTSTAMP:20260420T220451
DTSTART;TZID=Europe/Paris:20160306T080000
DTEND;TZID=Europe/Paris:20160306T170000
SEQUENCE:0
TRANSP:OPAQUE
END:VEVENT
END:VCALENDAR