BEGIN:VCALENDAR
VERSION:2.0
PRODID:-//jEvents 2.0 for Joomla//EN
CALSCALE:GREGORIAN
METHOD:PUBLISH
BEGIN:VTIMEZONE
TZID:Europe/Paris
BEGIN:STANDARD
DTSTART:20150306T080000
RDATE:20150329T030000
TZOFFSETFROM:+0200
TZOFFSETTO:+0100
TZNAME:Europe/Paris CET
END:STANDARD
BEGIN:STANDARD
DTSTART:20151025T020000
RDATE:20160327T030000
TZOFFSETFROM:+0200
TZOFFSETTO:+0100
TZNAME:Europe/Paris CET
END:STANDARD
BEGIN:STANDARD
DTSTART:20161030T020000
RDATE:20170326T030000
TZOFFSETFROM:+0200
TZOFFSETTO:+0100
TZNAME:Europe/Paris CET
END:STANDARD
BEGIN:STANDARD
DTSTART:20171029T020000
RDATE:20180325T030000
TZOFFSETFROM:+0200
TZOFFSETTO:+0100
TZNAME:Europe/Paris CET
END:STANDARD
BEGIN:STANDARD
DTSTART:20181028T020000
RDATE:20190331T030000
TZOFFSETFROM:+0200
TZOFFSETTO:+0100
TZNAME:Europe/Paris CET
END:STANDARD
BEGIN:STANDARD
DTSTART:20191027T020000
RDATE:20200329T030000
TZOFFSETFROM:+0200
TZOFFSETTO:+0100
TZNAME:Europe/Paris CET
END:STANDARD
BEGIN:STANDARD
DTSTART:20201025T020000
RDATE:20210328T030000
TZOFFSETFROM:+0200
TZOFFSETTO:+0100
TZNAME:Europe/Paris CET
END:STANDARD
BEGIN:STANDARD
DTSTART:20211031T020000
RDATE:20220327T030000
TZOFFSETFROM:+0200
TZOFFSETTO:+0100
TZNAME:Europe/Paris CET
END:STANDARD
BEGIN:STANDARD
DTSTART:20221030T020000
RDATE:20230326T030000
TZOFFSETFROM:+0200
TZOFFSETTO:+0100
TZNAME:Europe/Paris CET
END:STANDARD
BEGIN:STANDARD
DTSTART:20231029T020000
RDATE:20240331T030000
TZOFFSETFROM:+0200
TZOFFSETTO:+0100
TZNAME:Europe/Paris CET
END:STANDARD
BEGIN:STANDARD
DTSTART:20241027T020000
RDATE:20250330T030000
TZOFFSETFROM:+0200
TZOFFSETTO:+0100
TZNAME:Europe/Paris CET
END:STANDARD
BEGIN:STANDARD
DTSTART:20251026T020000
RDATE:20260329T030000
TZOFFSETFROM:+0200
TZOFFSETTO:+0100
TZNAME:Europe/Paris CET
END:STANDARD
BEGIN:STANDARD
DTSTART:20261025T020000
RDATE:20270328T030000
TZOFFSETFROM:+0200
TZOFFSETTO:+0100
TZNAME:Europe/Paris CET
END:STANDARD
BEGIN:DAYLIGHT
DTSTART:20150329T030000
RDATE:20151025T020000
TZOFFSETFROM:+0100
TZOFFSETTO:+0200
TZNAME:Europe/Paris CEST
END:DAYLIGHT
BEGIN:DAYLIGHT
DTSTART:20160327T030000
RDATE:20161030T020000
TZOFFSETFROM:+0100
TZOFFSETTO:+0200
TZNAME:Europe/Paris CEST
END:DAYLIGHT
BEGIN:DAYLIGHT
DTSTART:20170326T030000
RDATE:20171029T020000
TZOFFSETFROM:+0100
TZOFFSETTO:+0200
TZNAME:Europe/Paris CEST
END:DAYLIGHT
BEGIN:DAYLIGHT
DTSTART:20180325T030000
RDATE:20181028T020000
TZOFFSETFROM:+0100
TZOFFSETTO:+0200
TZNAME:Europe/Paris CEST
END:DAYLIGHT
BEGIN:DAYLIGHT
DTSTART:20190331T030000
RDATE:20191027T020000
TZOFFSETFROM:+0100
TZOFFSETTO:+0200
TZNAME:Europe/Paris CEST
END:DAYLIGHT
BEGIN:DAYLIGHT
DTSTART:20200329T030000
RDATE:20201025T020000
TZOFFSETFROM:+0100
TZOFFSETTO:+0200
TZNAME:Europe/Paris CEST
END:DAYLIGHT
BEGIN:DAYLIGHT
DTSTART:20210328T030000
RDATE:20211031T020000
TZOFFSETFROM:+0100
TZOFFSETTO:+0200
TZNAME:Europe/Paris CEST
END:DAYLIGHT
BEGIN:DAYLIGHT
DTSTART:20220327T030000
RDATE:20221030T020000
TZOFFSETFROM:+0100
TZOFFSETTO:+0200
TZNAME:Europe/Paris CEST
END:DAYLIGHT
BEGIN:DAYLIGHT
DTSTART:20230326T030000
RDATE:20231029T020000
TZOFFSETFROM:+0100
TZOFFSETTO:+0200
TZNAME:Europe/Paris CEST
END:DAYLIGHT
BEGIN:DAYLIGHT
DTSTART:20240331T030000
RDATE:20241027T020000
TZOFFSETFROM:+0100
TZOFFSETTO:+0200
TZNAME:Europe/Paris CEST
END:DAYLIGHT
BEGIN:DAYLIGHT
DTSTART:20250330T030000
RDATE:20251026T020000
TZOFFSETFROM:+0100
TZOFFSETTO:+0200
TZNAME:Europe/Paris CEST
END:DAYLIGHT
BEGIN:DAYLIGHT
DTSTART:20260329T030000
RDATE:20261025T020000
TZOFFSETFROM:+0100
TZOFFSETTO:+0200
TZNAME:Europe/Paris CEST
END:DAYLIGHT
END:VTIMEZONE
BEGIN:VEVENT
UID:d2a6ff29650e79aae24197c42bee8616
CATEGORIES:Circuit Massif Jeunes (alpin)
CREATED:20151110T133952
SUMMARY:GPJ     U12 et U14  Grand Prix de la Ville de Strasbourg
URL;VALUE=URI:https://skivosges.net/agenda/export-synchronisation/detailevenement/553/-/g
 pj-u12-et-u14-grand-prix-de-la-ville-de-strasbourg?tmpl=component
DESCRIPTION:GPJ     U12 et U14  Grand Prix de la Ville de Strasbourg \n(Grand Prix Jeun
 es)\n\nLieu : MARKSTEIN départ 9h30 géant\nOrganisateur : SKIEURS DE STRASB
 OURG (14077 SKIEURS DE STRASBOURG)\nEmail : RegularLabs.EmailProtector.unCl
 oak("ep_0479c23f");\nTelecopie : 0388576139\n\nInscriptions closes, tirage 
 des dossards en cours\n  Lieu:LAC BLANC\n - AMVM0741  Slalom Geant (Coupe d
 e Bronze) U12/U14 Garçons\n  GPJ     U12 et U14  Grand Prix de la Ville de 
 Strasbourg\n  Lieu:LAC BLANC\n - AMVF0741  Slalom Geant (Coupe de Bronze) U
 12/U14 Filles\n  GPJ     U12 et U14  Grand Prix de la Ville de Strasbourg C
 et évènement a été importé depuis :https://skivosges.net/agenda/export-sync
 hronisation/detailevenement/553/-/gpj-u12-et-u14-grand-prix-de-la-ville-de-
 strasbourg?tmpl=component
X-ALT-DESC;FMTTYPE=text/html:<strong>GPJ     U12 et U14  Grand Prix de la Ville de Strasbourg</strong> <
 br /><i>(Grand Prix Jeunes)</i><br /><br />Lieu : MARKSTEIN d&eacute;part 9
 h30 g&eacute;ant<br />Organisateur : SKIEURS DE STRASBOURG <small>(14077 SK
 IEURS DE STRASBOURG)</small><br />Email : <!-- Cette adresse électronique e
 st protégée contre les robots spammeurs. --><span class="cloaked_email ep_0
 479c23f"><span data-ep-b="r" data-ep-a="j&#45;p&#104;"><span data-ep-b="ge&
 #46;&#102;" data-ep-a="&#46;&#104;ol"><span data-ep-b="&#111;&#114;&#97;&#1
 10;" data-ep-a="&#119;&#101;g&#64;"></span></span></span></span><script>Reg
 ularLabs.EmailProtector.unCloak("ep_0479c23f");</script><br />Telecopie : 0
 388576139<br /><br />Inscriptions closes, tirage des dossards en cours<ul t
 ype="disc"><br />&nbsp;&nbsp;Lieu:LAC BLANC<li>AMVM0741  Slalom Geant <nobr
 ><i>(Coupe de Bronze)</i></nobr> <nobr>U12/U14</nobr> Garçons<br />&nbsp;&n
 bsp;GPJ     U12 et U14  Grand Prix de la Ville de Strasbourg</li><br />&nbs
 p;&nbsp;Lieu:LAC BLANC<li>AMVF0741  Slalom Geant <nobr><i>(Coupe de Bronze)
 </i></nobr> <nobr>U12/U14</nobr> Filles<br />&nbsp;&nbsp;GPJ     U12 et U14
   Grand Prix de la Ville de Strasbourg</li></ul> <a href="https://skivosges
 .net/agenda/export-synchronisation/detailevenement/553/-/gpj-u12-et-u14-gra
 nd-prix-de-la-ville-de-strasbourg?tmpl=component">Cet évènement a été impor
 té depuis :https://skivosges.net/agenda/export-synchronisation/detailevenem
 ent/553/-/gpj-u12-et-u14-grand-prix-de-la-ville-de-strasbourg?tmpl=componen
 t</a>DTSTAMP:20260420T220845
DTSTART;TZID=Europe/Paris:20160306T080000
DTEND;TZID=Europe/Paris:20160306T170000
SEQUENCE:0
TRANSP:OPAQUE
END:VEVENT
END:VCALENDAR