BEGIN:VCALENDAR
VERSION:2.0
PRODID:-//jEvents 2.0 for Joomla//EN
CALSCALE:GREGORIAN
METHOD:PUBLISH
BEGIN:VTIMEZONE
TZID:Europe/Paris
BEGIN:STANDARD
DTSTART:20150306T080000
RDATE:20150329T030000
TZOFFSETFROM:+0200
TZOFFSETTO:+0100
TZNAME:Europe/Paris CET
END:STANDARD
BEGIN:STANDARD
DTSTART:20151025T020000
RDATE:20160327T030000
TZOFFSETFROM:+0200
TZOFFSETTO:+0100
TZNAME:Europe/Paris CET
END:STANDARD
BEGIN:STANDARD
DTSTART:20161030T020000
RDATE:20170326T030000
TZOFFSETFROM:+0200
TZOFFSETTO:+0100
TZNAME:Europe/Paris CET
END:STANDARD
BEGIN:STANDARD
DTSTART:20171029T020000
RDATE:20180325T030000
TZOFFSETFROM:+0200
TZOFFSETTO:+0100
TZNAME:Europe/Paris CET
END:STANDARD
BEGIN:STANDARD
DTSTART:20181028T020000
RDATE:20190331T030000
TZOFFSETFROM:+0200
TZOFFSETTO:+0100
TZNAME:Europe/Paris CET
END:STANDARD
BEGIN:STANDARD
DTSTART:20191027T020000
RDATE:20200329T030000
TZOFFSETFROM:+0200
TZOFFSETTO:+0100
TZNAME:Europe/Paris CET
END:STANDARD
BEGIN:STANDARD
DTSTART:20201025T020000
RDATE:20210328T030000
TZOFFSETFROM:+0200
TZOFFSETTO:+0100
TZNAME:Europe/Paris CET
END:STANDARD
BEGIN:STANDARD
DTSTART:20211031T020000
RDATE:20220327T030000
TZOFFSETFROM:+0200
TZOFFSETTO:+0100
TZNAME:Europe/Paris CET
END:STANDARD
BEGIN:STANDARD
DTSTART:20221030T020000
RDATE:20230326T030000
TZOFFSETFROM:+0200
TZOFFSETTO:+0100
TZNAME:Europe/Paris CET
END:STANDARD
BEGIN:STANDARD
DTSTART:20231029T020000
RDATE:20240331T030000
TZOFFSETFROM:+0200
TZOFFSETTO:+0100
TZNAME:Europe/Paris CET
END:STANDARD
BEGIN:STANDARD
DTSTART:20241027T020000
RDATE:20250330T030000
TZOFFSETFROM:+0200
TZOFFSETTO:+0100
TZNAME:Europe/Paris CET
END:STANDARD
BEGIN:STANDARD
DTSTART:20251026T020000
RDATE:20260329T030000
TZOFFSETFROM:+0200
TZOFFSETTO:+0100
TZNAME:Europe/Paris CET
END:STANDARD
BEGIN:STANDARD
DTSTART:20261025T020000
RDATE:20270328T030000
TZOFFSETFROM:+0200
TZOFFSETTO:+0100
TZNAME:Europe/Paris CET
END:STANDARD
BEGIN:DAYLIGHT
DTSTART:20150329T030000
RDATE:20151025T020000
TZOFFSETFROM:+0100
TZOFFSETTO:+0200
TZNAME:Europe/Paris CEST
END:DAYLIGHT
BEGIN:DAYLIGHT
DTSTART:20160327T030000
RDATE:20161030T020000
TZOFFSETFROM:+0100
TZOFFSETTO:+0200
TZNAME:Europe/Paris CEST
END:DAYLIGHT
BEGIN:DAYLIGHT
DTSTART:20170326T030000
RDATE:20171029T020000
TZOFFSETFROM:+0100
TZOFFSETTO:+0200
TZNAME:Europe/Paris CEST
END:DAYLIGHT
BEGIN:DAYLIGHT
DTSTART:20180325T030000
RDATE:20181028T020000
TZOFFSETFROM:+0100
TZOFFSETTO:+0200
TZNAME:Europe/Paris CEST
END:DAYLIGHT
BEGIN:DAYLIGHT
DTSTART:20190331T030000
RDATE:20191027T020000
TZOFFSETFROM:+0100
TZOFFSETTO:+0200
TZNAME:Europe/Paris CEST
END:DAYLIGHT
BEGIN:DAYLIGHT
DTSTART:20200329T030000
RDATE:20201025T020000
TZOFFSETFROM:+0100
TZOFFSETTO:+0200
TZNAME:Europe/Paris CEST
END:DAYLIGHT
BEGIN:DAYLIGHT
DTSTART:20210328T030000
RDATE:20211031T020000
TZOFFSETFROM:+0100
TZOFFSETTO:+0200
TZNAME:Europe/Paris CEST
END:DAYLIGHT
BEGIN:DAYLIGHT
DTSTART:20220327T030000
RDATE:20221030T020000
TZOFFSETFROM:+0100
TZOFFSETTO:+0200
TZNAME:Europe/Paris CEST
END:DAYLIGHT
BEGIN:DAYLIGHT
DTSTART:20230326T030000
RDATE:20231029T020000
TZOFFSETFROM:+0100
TZOFFSETTO:+0200
TZNAME:Europe/Paris CEST
END:DAYLIGHT
BEGIN:DAYLIGHT
DTSTART:20240331T030000
RDATE:20241027T020000
TZOFFSETFROM:+0100
TZOFFSETTO:+0200
TZNAME:Europe/Paris CEST
END:DAYLIGHT
BEGIN:DAYLIGHT
DTSTART:20250330T030000
RDATE:20251026T020000
TZOFFSETFROM:+0100
TZOFFSETTO:+0200
TZNAME:Europe/Paris CEST
END:DAYLIGHT
BEGIN:DAYLIGHT
DTSTART:20260329T030000
RDATE:20261025T020000
TZOFFSETFROM:+0100
TZOFFSETTO:+0200
TZNAME:Europe/Paris CEST
END:DAYLIGHT
END:VTIMEZONE
BEGIN:VEVENT
UID:806fb5086c5375bcdfd7a14fd2852b70
CATEGORIES:Circuit Alsace Adultes (alpin)
CREATED:20151110T133952
SUMMARY:CAA  U16 à masters   Critérium Régional Corporatif **REPORTE**
URL;VALUE=URI:https://skivosges.net/agenda/export-synchronisation/detailevenement/555/-/c
 aa-u16-a-masters-criterium-regional-corporatif-reporte?tmpl=component
DESCRIPTION:CAA  U16 à masters   Critérium Régional Corporatif (Epreuve reportée, date 
 à determiner) \n(Coupe d'Alsace Adultes)\n\nLieu : LAC BLANC\nOrganisateur 
 : A.S DES CHEMINOTS STRASBOURG (14071 A.S DES CHEMINOTS STRASBOURG)\nEmail 
 : RegularLabs.EmailProtector.unCloak("ep_107d5647");\nTelecopie : 03 88 97 
 74 30\n\nCompte tenu du faible nombre de concurrents inscrits et de la dégr
 adation de la piste suite à la pluie de ce jour,la CAA est annulée(possibil
 ités d´inscription la CLA de Ventron jusqu´à samedi 15h)\n\nInscriptions cl
 oses, tirage des dossards en cours\n - AMVM0721  Slalom Geant U16 a Masters
  Hommes\n  CAA  U16 à U30    Critérium Régional Corporatif\n - AMVF0721  Sl
 alom Geant U16 a Masters Dames\n  CAA  U16 à U30    Critérium Régional Corp
 oratif Cet évènement a été importé depuis :https://skivosges.net/agenda/exp
 ort-synchronisation/detailevenement/555/-/caa-u16-a-masters-criterium-regio
 nal-corporatif-reporte?tmpl=component
X-ALT-DESC;FMTTYPE=text/html:<strong>CAA  U16 à masters   Critérium Régional Corporatif</strong> <font c
 lass="attention4">(Epreuve reportée, date à determiner)</font> <br /><i>(Co
 upe d'Alsace Adultes)</i><br /><br />Lieu : LAC BLANC<br />Organisateur : A
 .S DES CHEMINOTS STRASBOURG <small>(14071 A.S DES CHEMINOTS STRASBOURG)</sm
 all><br />Email : <!-- Cette adresse électronique est protégée contre les r
 obots spammeurs. --><span class="cloaked_email ep_107d5647"><span data-ep-b
 ="&#116;" data-ep-a="&#109;&#97;&#114;&#116;&#105;"><span data-ep-a="&#110;
 &#46;&#98;&#114;&#105;" data-ep-b="t&#101;.&#110;e"><span data-ep-b="&#108;
 &#97;&#112;&#111;s" data-ep-a="gn&#111;&#110;&#64;"></span></span></span></
 span><script>RegularLabs.EmailProtector.unCloak("ep_107d5647");</script><br
  />Telecopie : 03 88 97 74 30<br /><br />Compte tenu du faible nombre de co
 ncurrents inscrits et de la dégradation de la piste suite à la pluie de ce 
 jour,la CAA est annulée(possibilités d´inscription la CLA de Ventron jusqu´
 à samedi 15h)<br /><br />Inscriptions closes, tirage des dossards en cours<
 ul type="disc"><li>AMVM0721  Slalom Geant <nobr>U16 a Masters</nobr> Hommes
 <br />&nbsp;&nbsp;CAA  U16 à U30    Critérium Régional Corporatif</li><li>A
 MVF0721  Slalom Geant <nobr>U16 a Masters</nobr> Dames<br />&nbsp;&nbsp;CAA
   U16 à U30    Critérium Régional Corporatif</li></ul> <a href="https://ski
 vosges.net/agenda/export-synchronisation/detailevenement/555/-/caa-u16-a-ma
 sters-criterium-regional-corporatif-reporte?tmpl=component">Cet évènement a
  été importé depuis :https://skivosges.net/agenda/export-synchronisation/de
 tailevenement/555/-/caa-u16-a-masters-criterium-regional-corporatif-reporte
 ?tmpl=component</a>DTSTAMP:20260420T220708
DTSTART;TZID=Europe/Paris:20160306T080000
DTEND;TZID=Europe/Paris:20160306T170000
SEQUENCE:0
TRANSP:OPAQUE
END:VEVENT
END:VCALENDAR