BEGIN:VCALENDAR
VERSION:2.0
PRODID:-//jEvents 2.0 for Joomla//EN
CALSCALE:GREGORIAN
METHOD:PUBLISH
BEGIN:VTIMEZONE
TZID:Europe/Paris
BEGIN:STANDARD
DTSTART:20150310T080000
RDATE:20150329T030000
TZOFFSETFROM:+0200
TZOFFSETTO:+0100
TZNAME:Europe/Paris CET
END:STANDARD
BEGIN:STANDARD
DTSTART:20151025T020000
RDATE:20160327T030000
TZOFFSETFROM:+0200
TZOFFSETTO:+0100
TZNAME:Europe/Paris CET
END:STANDARD
BEGIN:STANDARD
DTSTART:20161030T020000
RDATE:20170326T030000
TZOFFSETFROM:+0200
TZOFFSETTO:+0100
TZNAME:Europe/Paris CET
END:STANDARD
BEGIN:STANDARD
DTSTART:20171029T020000
RDATE:20180325T030000
TZOFFSETFROM:+0200
TZOFFSETTO:+0100
TZNAME:Europe/Paris CET
END:STANDARD
BEGIN:STANDARD
DTSTART:20181028T020000
RDATE:20190331T030000
TZOFFSETFROM:+0200
TZOFFSETTO:+0100
TZNAME:Europe/Paris CET
END:STANDARD
BEGIN:STANDARD
DTSTART:20191027T020000
RDATE:20200329T030000
TZOFFSETFROM:+0200
TZOFFSETTO:+0100
TZNAME:Europe/Paris CET
END:STANDARD
BEGIN:STANDARD
DTSTART:20201025T020000
RDATE:20210328T030000
TZOFFSETFROM:+0200
TZOFFSETTO:+0100
TZNAME:Europe/Paris CET
END:STANDARD
BEGIN:STANDARD
DTSTART:20211031T020000
RDATE:20220327T030000
TZOFFSETFROM:+0200
TZOFFSETTO:+0100
TZNAME:Europe/Paris CET
END:STANDARD
BEGIN:STANDARD
DTSTART:20221030T020000
RDATE:20230326T030000
TZOFFSETFROM:+0200
TZOFFSETTO:+0100
TZNAME:Europe/Paris CET
END:STANDARD
BEGIN:STANDARD
DTSTART:20231029T020000
RDATE:20240331T030000
TZOFFSETFROM:+0200
TZOFFSETTO:+0100
TZNAME:Europe/Paris CET
END:STANDARD
BEGIN:STANDARD
DTSTART:20241027T020000
RDATE:20250330T030000
TZOFFSETFROM:+0200
TZOFFSETTO:+0100
TZNAME:Europe/Paris CET
END:STANDARD
BEGIN:STANDARD
DTSTART:20251026T020000
RDATE:20260329T030000
TZOFFSETFROM:+0200
TZOFFSETTO:+0100
TZNAME:Europe/Paris CET
END:STANDARD
BEGIN:STANDARD
DTSTART:20261025T020000
RDATE:20270328T030000
TZOFFSETFROM:+0200
TZOFFSETTO:+0100
TZNAME:Europe/Paris CET
END:STANDARD
BEGIN:DAYLIGHT
DTSTART:20150329T030000
RDATE:20151025T020000
TZOFFSETFROM:+0100
TZOFFSETTO:+0200
TZNAME:Europe/Paris CEST
END:DAYLIGHT
BEGIN:DAYLIGHT
DTSTART:20160327T030000
RDATE:20161030T020000
TZOFFSETFROM:+0100
TZOFFSETTO:+0200
TZNAME:Europe/Paris CEST
END:DAYLIGHT
BEGIN:DAYLIGHT
DTSTART:20170326T030000
RDATE:20171029T020000
TZOFFSETFROM:+0100
TZOFFSETTO:+0200
TZNAME:Europe/Paris CEST
END:DAYLIGHT
BEGIN:DAYLIGHT
DTSTART:20180325T030000
RDATE:20181028T020000
TZOFFSETFROM:+0100
TZOFFSETTO:+0200
TZNAME:Europe/Paris CEST
END:DAYLIGHT
BEGIN:DAYLIGHT
DTSTART:20190331T030000
RDATE:20191027T020000
TZOFFSETFROM:+0100
TZOFFSETTO:+0200
TZNAME:Europe/Paris CEST
END:DAYLIGHT
BEGIN:DAYLIGHT
DTSTART:20200329T030000
RDATE:20201025T020000
TZOFFSETFROM:+0100
TZOFFSETTO:+0200
TZNAME:Europe/Paris CEST
END:DAYLIGHT
BEGIN:DAYLIGHT
DTSTART:20210328T030000
RDATE:20211031T020000
TZOFFSETFROM:+0100
TZOFFSETTO:+0200
TZNAME:Europe/Paris CEST
END:DAYLIGHT
BEGIN:DAYLIGHT
DTSTART:20220327T030000
RDATE:20221030T020000
TZOFFSETFROM:+0100
TZOFFSETTO:+0200
TZNAME:Europe/Paris CEST
END:DAYLIGHT
BEGIN:DAYLIGHT
DTSTART:20230326T030000
RDATE:20231029T020000
TZOFFSETFROM:+0100
TZOFFSETTO:+0200
TZNAME:Europe/Paris CEST
END:DAYLIGHT
BEGIN:DAYLIGHT
DTSTART:20240331T030000
RDATE:20241027T020000
TZOFFSETFROM:+0100
TZOFFSETTO:+0200
TZNAME:Europe/Paris CEST
END:DAYLIGHT
BEGIN:DAYLIGHT
DTSTART:20250330T030000
RDATE:20251026T020000
TZOFFSETFROM:+0100
TZOFFSETTO:+0200
TZNAME:Europe/Paris CEST
END:DAYLIGHT
BEGIN:DAYLIGHT
DTSTART:20260329T030000
RDATE:20261025T020000
TZOFFSETFROM:+0100
TZOFFSETTO:+0200
TZNAME:Europe/Paris CEST
END:DAYLIGHT
END:VTIMEZONE
BEGIN:VEVENT
UID:4add2756af7e8db48de29b9499b6f109
CATEGORIES:Autres Épreuves (alpin)
CREATED:20151110T133952
SUMMARY:UGSEL France    Excellence **REPORTE**
URL;VALUE=URI:https://skivosges.net/agenda/export-synchronisation/detailevenement/561/-/u
 gsel-france-excellence-reporte?tmpl=component
DESCRIPTION:UGSEL France    Excellence (Epreuve reportée)\n\nLieu : GERARDMER\nOrganisa
 teur : GERARDMER SKI ALPIN (14089 GERARDMER SKI ALPIN)\nEmail : RegularLabs
 .EmailProtector.unCloak("ep_828be66b");\nTelecopie : 03 29 60 98 04\nTeleco
 pie : 03 29 60 98 04\n - AMVM0761  Slalom Hommes\n  UGSEL France    Excelle
 nce\n - AMVF0761  Slalom Dames\n  UGSEL France    Excellence Cet évènement 
 a été importé depuis :https://skivosges.net/agenda/export-synchronisation/d
 etailevenement/561/-/ugsel-france-excellence-reporte?tmpl=component
X-ALT-DESC;FMTTYPE=text/html:<strong>UGSEL France    Excellence</strong> <font class="attention4">(Epreu
 ve reportée)</font><br /><br />Lieu : GERARDMER<br />Organisateur : GERARDM
 ER SKI ALPIN <small>(14089 GERARDMER SKI ALPIN)</small><br />Email : <!-- C
 ette adresse électronique est protégée contre les robots spammeurs. --><spa
 n class="cloaked_email ep_828be66b"><span data-ep-b="r" data-ep-a="a&#115;&
 #103;&#115;&#107;"><span data-ep-a="&#105;&#46;&#103;e&#114;" data-ep-b="&#
 110;&#103;&#101;.f"><span data-ep-a="a&#114;&#100;m&#101;" data-ep-b="&#114
 ;&#64;&#111;&#114;&#97;"></span></span></span></span><script>RegularLabs.Em
 ailProtector.unCloak("ep_828be66b");</script><br />Telecopie : 03 29 60 98 
 04<br />Telecopie : 03 29 60 98 04<ul type="disc"><li>AMVM0761  Slalom Homm
 es<br />&nbsp;&nbsp;UGSEL France    Excellence</li><li>AMVF0761  Slalom Dam
 es<br />&nbsp;&nbsp;UGSEL France    Excellence</li></ul> <a href="https://s
 kivosges.net/agenda/export-synchronisation/detailevenement/561/-/ugsel-fran
 ce-excellence-reporte?tmpl=component">Cet évènement a été importé depuis :h
 ttps://skivosges.net/agenda/export-synchronisation/detailevenement/561/-/ug
 sel-france-excellence-reporte?tmpl=component</a>DTSTAMP:20260420T220630
DTSTART;TZID=Europe/Paris:20160310T080000
DTEND;TZID=Europe/Paris:20160310T170000
SEQUENCE:0
TRANSP:OPAQUE
END:VEVENT
END:VCALENDAR