BEGIN:VCALENDAR
VERSION:2.0
PRODID:-//jEvents 2.0 for Joomla//EN
CALSCALE:GREGORIAN
METHOD:PUBLISH
BEGIN:VTIMEZONE
TZID:Europe/Paris
BEGIN:STANDARD
DTSTART:20150312T080000
RDATE:20150329T030000
TZOFFSETFROM:+0200
TZOFFSETTO:+0100
TZNAME:Europe/Paris CET
END:STANDARD
BEGIN:STANDARD
DTSTART:20151025T020000
RDATE:20160327T030000
TZOFFSETFROM:+0200
TZOFFSETTO:+0100
TZNAME:Europe/Paris CET
END:STANDARD
BEGIN:STANDARD
DTSTART:20161030T020000
RDATE:20170326T030000
TZOFFSETFROM:+0200
TZOFFSETTO:+0100
TZNAME:Europe/Paris CET
END:STANDARD
BEGIN:STANDARD
DTSTART:20171029T020000
RDATE:20180325T030000
TZOFFSETFROM:+0200
TZOFFSETTO:+0100
TZNAME:Europe/Paris CET
END:STANDARD
BEGIN:STANDARD
DTSTART:20181028T020000
RDATE:20190331T030000
TZOFFSETFROM:+0200
TZOFFSETTO:+0100
TZNAME:Europe/Paris CET
END:STANDARD
BEGIN:STANDARD
DTSTART:20191027T020000
RDATE:20200329T030000
TZOFFSETFROM:+0200
TZOFFSETTO:+0100
TZNAME:Europe/Paris CET
END:STANDARD
BEGIN:STANDARD
DTSTART:20201025T020000
RDATE:20210328T030000
TZOFFSETFROM:+0200
TZOFFSETTO:+0100
TZNAME:Europe/Paris CET
END:STANDARD
BEGIN:STANDARD
DTSTART:20211031T020000
RDATE:20220327T030000
TZOFFSETFROM:+0200
TZOFFSETTO:+0100
TZNAME:Europe/Paris CET
END:STANDARD
BEGIN:STANDARD
DTSTART:20221030T020000
RDATE:20230326T030000
TZOFFSETFROM:+0200
TZOFFSETTO:+0100
TZNAME:Europe/Paris CET
END:STANDARD
BEGIN:STANDARD
DTSTART:20231029T020000
RDATE:20240331T030000
TZOFFSETFROM:+0200
TZOFFSETTO:+0100
TZNAME:Europe/Paris CET
END:STANDARD
BEGIN:STANDARD
DTSTART:20241027T020000
RDATE:20250330T030000
TZOFFSETFROM:+0200
TZOFFSETTO:+0100
TZNAME:Europe/Paris CET
END:STANDARD
BEGIN:STANDARD
DTSTART:20251026T020000
RDATE:20260329T030000
TZOFFSETFROM:+0200
TZOFFSETTO:+0100
TZNAME:Europe/Paris CET
END:STANDARD
BEGIN:STANDARD
DTSTART:20261025T020000
RDATE:20270328T030000
TZOFFSETFROM:+0200
TZOFFSETTO:+0100
TZNAME:Europe/Paris CET
END:STANDARD
BEGIN:DAYLIGHT
DTSTART:20150329T030000
RDATE:20151025T020000
TZOFFSETFROM:+0100
TZOFFSETTO:+0200
TZNAME:Europe/Paris CEST
END:DAYLIGHT
BEGIN:DAYLIGHT
DTSTART:20160327T030000
RDATE:20161030T020000
TZOFFSETFROM:+0100
TZOFFSETTO:+0200
TZNAME:Europe/Paris CEST
END:DAYLIGHT
BEGIN:DAYLIGHT
DTSTART:20170326T030000
RDATE:20171029T020000
TZOFFSETFROM:+0100
TZOFFSETTO:+0200
TZNAME:Europe/Paris CEST
END:DAYLIGHT
BEGIN:DAYLIGHT
DTSTART:20180325T030000
RDATE:20181028T020000
TZOFFSETFROM:+0100
TZOFFSETTO:+0200
TZNAME:Europe/Paris CEST
END:DAYLIGHT
BEGIN:DAYLIGHT
DTSTART:20190331T030000
RDATE:20191027T020000
TZOFFSETFROM:+0100
TZOFFSETTO:+0200
TZNAME:Europe/Paris CEST
END:DAYLIGHT
BEGIN:DAYLIGHT
DTSTART:20200329T030000
RDATE:20201025T020000
TZOFFSETFROM:+0100
TZOFFSETTO:+0200
TZNAME:Europe/Paris CEST
END:DAYLIGHT
BEGIN:DAYLIGHT
DTSTART:20210328T030000
RDATE:20211031T020000
TZOFFSETFROM:+0100
TZOFFSETTO:+0200
TZNAME:Europe/Paris CEST
END:DAYLIGHT
BEGIN:DAYLIGHT
DTSTART:20220327T030000
RDATE:20221030T020000
TZOFFSETFROM:+0100
TZOFFSETTO:+0200
TZNAME:Europe/Paris CEST
END:DAYLIGHT
BEGIN:DAYLIGHT
DTSTART:20230326T030000
RDATE:20231029T020000
TZOFFSETFROM:+0100
TZOFFSETTO:+0200
TZNAME:Europe/Paris CEST
END:DAYLIGHT
BEGIN:DAYLIGHT
DTSTART:20240331T030000
RDATE:20241027T020000
TZOFFSETFROM:+0100
TZOFFSETTO:+0200
TZNAME:Europe/Paris CEST
END:DAYLIGHT
BEGIN:DAYLIGHT
DTSTART:20250330T030000
RDATE:20251026T020000
TZOFFSETFROM:+0100
TZOFFSETTO:+0200
TZNAME:Europe/Paris CEST
END:DAYLIGHT
BEGIN:DAYLIGHT
DTSTART:20260329T030000
RDATE:20261025T020000
TZOFFSETFROM:+0100
TZOFFSETTO:+0200
TZNAME:Europe/Paris CEST
END:DAYLIGHT
END:VTIMEZONE
BEGIN:VEVENT
UID:5f1bd3ff14fc2f1f33f897983401517f
CATEGORIES:Autres Épreuves (alpin)
CREATED:20151110T133952
SUMMARY:Team Event   U14 à Masters
URL;VALUE=URI:https://skivosges.net/agenda/export-synchronisation/detailevenement/564/-/t
 eam-event-u14-a-masters?tmpl=component
DESCRIPTION:Team Event   U14 à Masters\n\nLieu : GERARDMER\nOrganisateur : GERARDMER SK
 I ALPIN (14089 GERARDMER SKI ALPIN)\nEmail : RegularLabs.EmailProtector.unC
 loak("ep_9752bf2c");\nTelecopie : 03 29 60 98 04\nTelecopie : 03 29 60 98 0
 4\n\nINSCRIPTIONS PAR EQUIPE DE 3 PERSONNES\n2 HOMMES ET UNE FEMME\nVOIR RE
 GLEMENT SUR SKIVOSGES.NET\n\nInscriptions closes, les listes de départ sont
  visualisables sur ce site\n - AMVM0791  Slalom Geant U14 a Masters Hommes\
 n  Team Event   U16 à Masters\n - AMVF0791  Slalom Geant U14 a Masters Dame
 s\n  Team Event   U16 à Masters Cet évènement a été importé depuis :https:/
 /skivosges.net/agenda/export-synchronisation/detailevenement/564/-/team-eve
 nt-u14-a-masters?tmpl=component
X-ALT-DESC;FMTTYPE=text/html:<strong>Team Event   U14 à Masters</strong><br /><br />Lieu : GERARDMER<br 
 />Organisateur : GERARDMER SKI ALPIN <small>(14089 GERARDMER SKI ALPIN)</sm
 all><br />Email : <!-- Cette adresse électronique est protégée contre les r
 obots spammeurs. --><span class="cloaked_email ep_9752bf2c"><span data-ep-b
 ="&#114;" data-ep-a="as&#103;&#115;&#107;"><span data-ep-b="&#110;&#103;e.f
 " data-ep-a="i.&#103;&#101;&#114;"><span data-ep-b="&#114;&#64;&#111;&#114;
 a" data-ep-a="&#97;&#114;&#100;&#109;&#101;"></span></span></span></span><s
 cript>RegularLabs.EmailProtector.unCloak("ep_9752bf2c");</script><br />Tele
 copie : 03 29 60 98 04<br />Telecopie : 03 29 60 98 04<br /><br />INSCRIPTI
 ONS PAR EQUIPE DE 3 PERSONNES<br>2 HOMMES ET UNE FEMME<br>VOIR REGLEMENT SU
 R SKIVOSGES.NET<br /><br />Inscriptions closes, les listes de départ sont v
 isualisables sur ce site<ul type="disc"><li>AMVM0791  Slalom Geant <nobr>U1
 4 a Masters</nobr> Hommes<br />&nbsp;&nbsp;Team Event   U16 à Masters</li><
 li>AMVF0791  Slalom Geant <nobr>U14 a Masters</nobr> Dames<br />&nbsp;&nbsp
 ;Team Event   U16 à Masters</li></ul> <a href="https://skivosges.net/agenda
 /export-synchronisation/detailevenement/564/-/team-event-u14-a-masters?tmpl
 =component">Cet évènement a été importé depuis :https://skivosges.net/agend
 a/export-synchronisation/detailevenement/564/-/team-event-u14-a-masters?tmp
 l=component</a>DTSTAMP:20260420T220528
DTSTART;TZID=Europe/Paris:20160312T080000
DTEND;TZID=Europe/Paris:20160312T170000
SEQUENCE:0
TRANSP:OPAQUE
END:VEVENT
END:VCALENDAR