BEGIN:VCALENDAR
VERSION:2.0
PRODID:-//jEvents 2.0 for Joomla//EN
CALSCALE:GREGORIAN
METHOD:PUBLISH
BEGIN:VTIMEZONE
TZID:Europe/Paris
BEGIN:STANDARD
DTSTART:20150312T080000
RDATE:20150329T030000
TZOFFSETFROM:+0200
TZOFFSETTO:+0100
TZNAME:Europe/Paris CET
END:STANDARD
BEGIN:STANDARD
DTSTART:20151025T020000
RDATE:20160327T030000
TZOFFSETFROM:+0200
TZOFFSETTO:+0100
TZNAME:Europe/Paris CET
END:STANDARD
BEGIN:STANDARD
DTSTART:20161030T020000
RDATE:20170326T030000
TZOFFSETFROM:+0200
TZOFFSETTO:+0100
TZNAME:Europe/Paris CET
END:STANDARD
BEGIN:STANDARD
DTSTART:20171029T020000
RDATE:20180325T030000
TZOFFSETFROM:+0200
TZOFFSETTO:+0100
TZNAME:Europe/Paris CET
END:STANDARD
BEGIN:STANDARD
DTSTART:20181028T020000
RDATE:20190331T030000
TZOFFSETFROM:+0200
TZOFFSETTO:+0100
TZNAME:Europe/Paris CET
END:STANDARD
BEGIN:STANDARD
DTSTART:20191027T020000
RDATE:20200329T030000
TZOFFSETFROM:+0200
TZOFFSETTO:+0100
TZNAME:Europe/Paris CET
END:STANDARD
BEGIN:STANDARD
DTSTART:20201025T020000
RDATE:20210328T030000
TZOFFSETFROM:+0200
TZOFFSETTO:+0100
TZNAME:Europe/Paris CET
END:STANDARD
BEGIN:STANDARD
DTSTART:20211031T020000
RDATE:20220327T030000
TZOFFSETFROM:+0200
TZOFFSETTO:+0100
TZNAME:Europe/Paris CET
END:STANDARD
BEGIN:STANDARD
DTSTART:20221030T020000
RDATE:20230326T030000
TZOFFSETFROM:+0200
TZOFFSETTO:+0100
TZNAME:Europe/Paris CET
END:STANDARD
BEGIN:STANDARD
DTSTART:20231029T020000
RDATE:20240331T030000
TZOFFSETFROM:+0200
TZOFFSETTO:+0100
TZNAME:Europe/Paris CET
END:STANDARD
BEGIN:STANDARD
DTSTART:20241027T020000
RDATE:20250330T030000
TZOFFSETFROM:+0200
TZOFFSETTO:+0100
TZNAME:Europe/Paris CET
END:STANDARD
BEGIN:STANDARD
DTSTART:20251026T020000
RDATE:20260329T030000
TZOFFSETFROM:+0200
TZOFFSETTO:+0100
TZNAME:Europe/Paris CET
END:STANDARD
BEGIN:STANDARD
DTSTART:20261025T020000
RDATE:20270328T030000
TZOFFSETFROM:+0200
TZOFFSETTO:+0100
TZNAME:Europe/Paris CET
END:STANDARD
BEGIN:DAYLIGHT
DTSTART:20150329T030000
RDATE:20151025T020000
TZOFFSETFROM:+0100
TZOFFSETTO:+0200
TZNAME:Europe/Paris CEST
END:DAYLIGHT
BEGIN:DAYLIGHT
DTSTART:20160327T030000
RDATE:20161030T020000
TZOFFSETFROM:+0100
TZOFFSETTO:+0200
TZNAME:Europe/Paris CEST
END:DAYLIGHT
BEGIN:DAYLIGHT
DTSTART:20170326T030000
RDATE:20171029T020000
TZOFFSETFROM:+0100
TZOFFSETTO:+0200
TZNAME:Europe/Paris CEST
END:DAYLIGHT
BEGIN:DAYLIGHT
DTSTART:20180325T030000
RDATE:20181028T020000
TZOFFSETFROM:+0100
TZOFFSETTO:+0200
TZNAME:Europe/Paris CEST
END:DAYLIGHT
BEGIN:DAYLIGHT
DTSTART:20190331T030000
RDATE:20191027T020000
TZOFFSETFROM:+0100
TZOFFSETTO:+0200
TZNAME:Europe/Paris CEST
END:DAYLIGHT
BEGIN:DAYLIGHT
DTSTART:20200329T030000
RDATE:20201025T020000
TZOFFSETFROM:+0100
TZOFFSETTO:+0200
TZNAME:Europe/Paris CEST
END:DAYLIGHT
BEGIN:DAYLIGHT
DTSTART:20210328T030000
RDATE:20211031T020000
TZOFFSETFROM:+0100
TZOFFSETTO:+0200
TZNAME:Europe/Paris CEST
END:DAYLIGHT
BEGIN:DAYLIGHT
DTSTART:20220327T030000
RDATE:20221030T020000
TZOFFSETFROM:+0100
TZOFFSETTO:+0200
TZNAME:Europe/Paris CEST
END:DAYLIGHT
BEGIN:DAYLIGHT
DTSTART:20230326T030000
RDATE:20231029T020000
TZOFFSETFROM:+0100
TZOFFSETTO:+0200
TZNAME:Europe/Paris CEST
END:DAYLIGHT
BEGIN:DAYLIGHT
DTSTART:20240331T030000
RDATE:20241027T020000
TZOFFSETFROM:+0100
TZOFFSETTO:+0200
TZNAME:Europe/Paris CEST
END:DAYLIGHT
BEGIN:DAYLIGHT
DTSTART:20250330T030000
RDATE:20251026T020000
TZOFFSETFROM:+0100
TZOFFSETTO:+0200
TZNAME:Europe/Paris CEST
END:DAYLIGHT
BEGIN:DAYLIGHT
DTSTART:20260329T030000
RDATE:20261025T020000
TZOFFSETFROM:+0100
TZOFFSETTO:+0200
TZNAME:Europe/Paris CEST
END:DAYLIGHT
END:VTIMEZONE
BEGIN:VEVENT
UID:3ed1cf6abbd5267f8738364ac12aa164
CATEGORIES:Circuit Massif Masters (alpin)
CREATED:20151110T133952
SUMMARY:GPM  Masters  Grand Prix de la Brasserie de la Schlucht
URL;VALUE=URI:https://skivosges.net/agenda/export-synchronisation/detailevenement/565/-/g
 pm-masters-grand-prix-de-la-brasserie-de-la-schlucht?tmpl=component
DESCRIPTION:<strong>GPM  Masters  Grand Prix de la Brasserie de la Schlucht</strong> <b
 r /><i>(Grand Prix Masters)</i><br /><br />Lieu : LA BRESSE<br />Organisate
 ur : LA BRESSAUDE SECTION SKI <small>(14024 LA BRESSAUDE SECTION SKI)</smal
 l><br />Email : <!-- Cette adresse électronique est protégée contre les rob
 ots spammeurs. --><span class="cloaked_email ep_b6c2a0f4"><span data-ep-a="
 &#111;&#100;&#105;&#108;&#101;" data-ep-b="f&#114;"><span data-ep-b="a&#110
 ;g&#101;&#46;" data-ep-a="&#46;&#109;&#117;&#110;&#115;"><span data-ep-b="&
 #108;&#98;&#64;&#111;&#114;" data-ep-a="c&#104;&#46;s&#99;"></span></span><
 /span></span><script>RegularLabs.EmailProtector.unCloak("ep_b6c2a0f4");</sc
 ript><br />Telecopie : 0608855252<br /><br />A l´issue du palmarès, le ski 
 club propose un repas au tarif de 20 euros comprenant : apéritif, entrée, p
 lat, dessert, boissons, café.<br>Réservation avant le vendredi 11 mars 2016
  - 12 heures à : <!-- Cette adresse électronique est protégée contre les ro
 bots spammeurs. --><span class="cloaked_email ep_5c318933"><span data-ep-a=
 "&#111;&#100;&#105;l&#101;" data-ep-b="&#102;&#114;"><span data-ep-b="&#97;
 &#110;&#103;&#101;&#46;" data-ep-a=".m&#117;&#110;&#115;"><span data-ep-b="
 &#108;b&#64;&#111;r" data-ep-a="&#99;&#104;.sc"></span></span></span></span
 ><script>RegularLabs.EmailProtector.unCloak("ep_5c318933");</script><br /><
 br />Inscriptions closes, les listes de départ sont visualisables sur ce si
 te<ul type="disc"><li>AMVM0811  Slalom <nobr><i>(Courses Masters)</i></nobr
 > <nobr>Tous les Masters Hommes</nobr> Hommes<br />&nbsp;&nbsp;GPM  Masters
   Grand Prix de la Brasserie de la Schlucht</li><li>AMVF0811  Slalom <nobr>
 <i>(Courses Masters)</i></nobr> <nobr>Tous les Masters Dames</nobr> Dames<b
 r />&nbsp;&nbsp;GPM  Masters  Grand Prix de la Brasserie de la Schlucht</li
 ></ul> <a href="https://skivosges.net/agenda/export-synchronisation/detaile
 venement/565/-/gpm-masters-grand-prix-de-la-brasserie-de-la-schlucht?tmpl=c
 omponent">Cet évènement a été importé depuis :https://skivosges.net/agenda/
 export-synchronisation/detailevenement/565/-/gpm-masters-grand-prix-de-la-b
 rasserie-de-la-schlucht?tmpl=component</a>DTSTAMP:20260420T221359
DTSTART;TZID=Europe/Paris:20160312T080000
DTEND;TZID=Europe/Paris:20160312T170000
SEQUENCE:0
TRANSP:OPAQUE
END:VEVENT
END:VCALENDAR