BEGIN:VCALENDAR
VERSION:2.0
PRODID:-//jEvents 2.0 for Joomla//EN
CALSCALE:GREGORIAN
METHOD:PUBLISH
BEGIN:VTIMEZONE
TZID:Europe/Paris
BEGIN:STANDARD
DTSTART:20150313T080000
RDATE:20150329T030000
TZOFFSETFROM:+0200
TZOFFSETTO:+0100
TZNAME:Europe/Paris CET
END:STANDARD
BEGIN:STANDARD
DTSTART:20151025T020000
RDATE:20160327T030000
TZOFFSETFROM:+0200
TZOFFSETTO:+0100
TZNAME:Europe/Paris CET
END:STANDARD
BEGIN:STANDARD
DTSTART:20161030T020000
RDATE:20170326T030000
TZOFFSETFROM:+0200
TZOFFSETTO:+0100
TZNAME:Europe/Paris CET
END:STANDARD
BEGIN:STANDARD
DTSTART:20171029T020000
RDATE:20180325T030000
TZOFFSETFROM:+0200
TZOFFSETTO:+0100
TZNAME:Europe/Paris CET
END:STANDARD
BEGIN:STANDARD
DTSTART:20181028T020000
RDATE:20190331T030000
TZOFFSETFROM:+0200
TZOFFSETTO:+0100
TZNAME:Europe/Paris CET
END:STANDARD
BEGIN:STANDARD
DTSTART:20191027T020000
RDATE:20200329T030000
TZOFFSETFROM:+0200
TZOFFSETTO:+0100
TZNAME:Europe/Paris CET
END:STANDARD
BEGIN:STANDARD
DTSTART:20201025T020000
RDATE:20210328T030000
TZOFFSETFROM:+0200
TZOFFSETTO:+0100
TZNAME:Europe/Paris CET
END:STANDARD
BEGIN:STANDARD
DTSTART:20211031T020000
RDATE:20220327T030000
TZOFFSETFROM:+0200
TZOFFSETTO:+0100
TZNAME:Europe/Paris CET
END:STANDARD
BEGIN:STANDARD
DTSTART:20221030T020000
RDATE:20230326T030000
TZOFFSETFROM:+0200
TZOFFSETTO:+0100
TZNAME:Europe/Paris CET
END:STANDARD
BEGIN:STANDARD
DTSTART:20231029T020000
RDATE:20240331T030000
TZOFFSETFROM:+0200
TZOFFSETTO:+0100
TZNAME:Europe/Paris CET
END:STANDARD
BEGIN:STANDARD
DTSTART:20241027T020000
RDATE:20250330T030000
TZOFFSETFROM:+0200
TZOFFSETTO:+0100
TZNAME:Europe/Paris CET
END:STANDARD
BEGIN:STANDARD
DTSTART:20251026T020000
RDATE:20260329T030000
TZOFFSETFROM:+0200
TZOFFSETTO:+0100
TZNAME:Europe/Paris CET
END:STANDARD
BEGIN:STANDARD
DTSTART:20261025T020000
RDATE:20270328T030000
TZOFFSETFROM:+0200
TZOFFSETTO:+0100
TZNAME:Europe/Paris CET
END:STANDARD
BEGIN:DAYLIGHT
DTSTART:20150329T030000
RDATE:20151025T020000
TZOFFSETFROM:+0100
TZOFFSETTO:+0200
TZNAME:Europe/Paris CEST
END:DAYLIGHT
BEGIN:DAYLIGHT
DTSTART:20160327T030000
RDATE:20161030T020000
TZOFFSETFROM:+0100
TZOFFSETTO:+0200
TZNAME:Europe/Paris CEST
END:DAYLIGHT
BEGIN:DAYLIGHT
DTSTART:20170326T030000
RDATE:20171029T020000
TZOFFSETFROM:+0100
TZOFFSETTO:+0200
TZNAME:Europe/Paris CEST
END:DAYLIGHT
BEGIN:DAYLIGHT
DTSTART:20180325T030000
RDATE:20181028T020000
TZOFFSETFROM:+0100
TZOFFSETTO:+0200
TZNAME:Europe/Paris CEST
END:DAYLIGHT
BEGIN:DAYLIGHT
DTSTART:20190331T030000
RDATE:20191027T020000
TZOFFSETFROM:+0100
TZOFFSETTO:+0200
TZNAME:Europe/Paris CEST
END:DAYLIGHT
BEGIN:DAYLIGHT
DTSTART:20200329T030000
RDATE:20201025T020000
TZOFFSETFROM:+0100
TZOFFSETTO:+0200
TZNAME:Europe/Paris CEST
END:DAYLIGHT
BEGIN:DAYLIGHT
DTSTART:20210328T030000
RDATE:20211031T020000
TZOFFSETFROM:+0100
TZOFFSETTO:+0200
TZNAME:Europe/Paris CEST
END:DAYLIGHT
BEGIN:DAYLIGHT
DTSTART:20220327T030000
RDATE:20221030T020000
TZOFFSETFROM:+0100
TZOFFSETTO:+0200
TZNAME:Europe/Paris CEST
END:DAYLIGHT
BEGIN:DAYLIGHT
DTSTART:20230326T030000
RDATE:20231029T020000
TZOFFSETFROM:+0100
TZOFFSETTO:+0200
TZNAME:Europe/Paris CEST
END:DAYLIGHT
BEGIN:DAYLIGHT
DTSTART:20240331T030000
RDATE:20241027T020000
TZOFFSETFROM:+0100
TZOFFSETTO:+0200
TZNAME:Europe/Paris CEST
END:DAYLIGHT
BEGIN:DAYLIGHT
DTSTART:20250330T030000
RDATE:20251026T020000
TZOFFSETFROM:+0100
TZOFFSETTO:+0200
TZNAME:Europe/Paris CEST
END:DAYLIGHT
BEGIN:DAYLIGHT
DTSTART:20260329T030000
RDATE:20261025T020000
TZOFFSETFROM:+0100
TZOFFSETTO:+0200
TZNAME:Europe/Paris CEST
END:DAYLIGHT
END:VTIMEZONE
BEGIN:VEVENT
UID:0792ea362e34aca6f94bc4bbab2e0e91
CATEGORIES:Circuit Massif Jeunes (alpin)
CREATED:20151110T133952
SUMMARY:GPJ U12 et U14  Grand Prix Bernadette Valrof   Crédit Mutuel
URL;VALUE=URI:https://skivosges.net/agenda/export-synchronisation/detailevenement/569/-/g
 pj-u12-et-u14-grand-prix-bernadette-valrof-credit-mutuel?tmpl=component
DESCRIPTION:GPJ U12 et U14  Grand Prix Bernadette Valrof   Crédit Mutuel \n(Grand Prix 
 Jeunes)\n\nLieu : FRERE JOSEPH\nOrganisateur : U.S VENTRON (14083 U.S VENTR
 ON)\nEmail : RegularLabs.EmailProtector.unCloak("ep_f117394f");\n\nInscript
 ions closes, tirage des dossards en cours\n - AMVM0861  Slalom Geant (Coupe
  de Bronze) U12/U14 Garçons\n  GPJ     U10 et U14  Grand Prix Bernadette Va
 lrof   Crédit Mutuel\n - AMVF0861  Slalom Geant (Coupe de Bronze) U12/U14 F
 illes\n  GPJ     U10 et U14  Grand Prix Bernadette Valrof   Crédit Mutuel C
 et évènement a été importé depuis :https://skivosges.net/agenda/export-sync
 hronisation/detailevenement/569/-/gpj-u12-et-u14-grand-prix-bernadette-valr
 of-credit-mutuel?tmpl=component
X-ALT-DESC;FMTTYPE=text/html:<strong>GPJ U12 et U14  Grand Prix Bernadette Valrof   Crédit Mutuel</stron
 g> <br /><i>(Grand Prix Jeunes)</i><br /><br />Lieu : FRERE JOSEPH<br />Org
 anisateur : U.S VENTRON <small>(14083 U.S VENTRON)</small><br />Email : <!-
 - Cette adresse électronique est protégée contre les robots spammeurs. --><
 span class="cloaked_email ep_f117394f"><span data-ep-b="&#108;e&#46;&#102;&
 #114;" data-ep-a="&#115;te&#112;&#104;"><span data-ep-a="&#97;&#110;e&#46;g
 " data-ep-b="&#114;&#105;&#99;a&#98;"><span data-ep-b="&#64;n&#117;&#109;&#
 101;" data-ep-a="&#105;&#103;&#97;n&#116;"></span></span></span></span><scr
 ipt>RegularLabs.EmailProtector.unCloak("ep_f117394f");</script><br /><br />
 Inscriptions closes, tirage des dossards en cours<ul type="disc"><li>AMVM08
 61  Slalom Geant <nobr><i>(Coupe de Bronze)</i></nobr> <nobr>U12/U14</nobr>
  Garçons<br />&nbsp;&nbsp;GPJ     U10 et U14  Grand Prix Bernadette Valrof 
   Crédit Mutuel</li><li>AMVF0861  Slalom Geant <nobr><i>(Coupe de Bronze)</
 i></nobr> <nobr>U12/U14</nobr> Filles<br />&nbsp;&nbsp;GPJ     U10 et U14  
 Grand Prix Bernadette Valrof   Crédit Mutuel</li></ul> <a href="https://ski
 vosges.net/agenda/export-synchronisation/detailevenement/569/-/gpj-u12-et-u
 14-grand-prix-bernadette-valrof-credit-mutuel?tmpl=component">Cet évènement
  a été importé depuis :https://skivosges.net/agenda/export-synchronisation/
 detailevenement/569/-/gpj-u12-et-u14-grand-prix-bernadette-valrof-credit-mu
 tuel?tmpl=component</a>DTSTAMP:20260420T220631
DTSTART;TZID=Europe/Paris:20160313T080000
DTEND;TZID=Europe/Paris:20160313T170000
SEQUENCE:0
TRANSP:OPAQUE
END:VEVENT
END:VCALENDAR