BEGIN:VCALENDAR
VERSION:2.0
PRODID:-//jEvents 2.0 for Joomla//EN
CALSCALE:GREGORIAN
METHOD:PUBLISH
BEGIN:VTIMEZONE
TZID:Europe/Paris
BEGIN:STANDARD
DTSTART:20121220T080000
RDATE:20130331T030000
TZOFFSETFROM:+0200
TZOFFSETTO:+0100
TZNAME:Europe/Paris CET
END:STANDARD
BEGIN:STANDARD
DTSTART:20131027T020000
RDATE:20140330T030000
TZOFFSETFROM:+0200
TZOFFSETTO:+0100
TZNAME:Europe/Paris CET
END:STANDARD
BEGIN:STANDARD
DTSTART:20141026T020000
RDATE:20150329T030000
TZOFFSETFROM:+0200
TZOFFSETTO:+0100
TZNAME:Europe/Paris CET
END:STANDARD
BEGIN:STANDARD
DTSTART:20151025T020000
RDATE:20160327T030000
TZOFFSETFROM:+0200
TZOFFSETTO:+0100
TZNAME:Europe/Paris CET
END:STANDARD
BEGIN:STANDARD
DTSTART:20161030T020000
RDATE:20170326T030000
TZOFFSETFROM:+0200
TZOFFSETTO:+0100
TZNAME:Europe/Paris CET
END:STANDARD
BEGIN:STANDARD
DTSTART:20171029T020000
RDATE:20180325T030000
TZOFFSETFROM:+0200
TZOFFSETTO:+0100
TZNAME:Europe/Paris CET
END:STANDARD
BEGIN:STANDARD
DTSTART:20181028T020000
RDATE:20190331T030000
TZOFFSETFROM:+0200
TZOFFSETTO:+0100
TZNAME:Europe/Paris CET
END:STANDARD
BEGIN:STANDARD
DTSTART:20191027T020000
RDATE:20200329T030000
TZOFFSETFROM:+0200
TZOFFSETTO:+0100
TZNAME:Europe/Paris CET
END:STANDARD
BEGIN:STANDARD
DTSTART:20201025T020000
RDATE:20210328T030000
TZOFFSETFROM:+0200
TZOFFSETTO:+0100
TZNAME:Europe/Paris CET
END:STANDARD
BEGIN:STANDARD
DTSTART:20211031T020000
RDATE:20220327T030000
TZOFFSETFROM:+0200
TZOFFSETTO:+0100
TZNAME:Europe/Paris CET
END:STANDARD
BEGIN:STANDARD
DTSTART:20221030T020000
RDATE:20230326T030000
TZOFFSETFROM:+0200
TZOFFSETTO:+0100
TZNAME:Europe/Paris CET
END:STANDARD
BEGIN:STANDARD
DTSTART:20231029T020000
RDATE:20240331T030000
TZOFFSETFROM:+0200
TZOFFSETTO:+0100
TZNAME:Europe/Paris CET
END:STANDARD
BEGIN:STANDARD
DTSTART:20241027T020000
RDATE:20250330T030000
TZOFFSETFROM:+0200
TZOFFSETTO:+0100
TZNAME:Europe/Paris CET
END:STANDARD
BEGIN:STANDARD
DTSTART:20251026T020000
RDATE:20260329T030000
TZOFFSETFROM:+0200
TZOFFSETTO:+0100
TZNAME:Europe/Paris CET
END:STANDARD
BEGIN:STANDARD
DTSTART:20261025T020000
RDATE:20270328T030000
TZOFFSETFROM:+0200
TZOFFSETTO:+0100
TZNAME:Europe/Paris CET
END:STANDARD
BEGIN:DAYLIGHT
DTSTART:20130331T030000
RDATE:20131027T020000
TZOFFSETFROM:+0100
TZOFFSETTO:+0200
TZNAME:Europe/Paris CEST
END:DAYLIGHT
BEGIN:DAYLIGHT
DTSTART:20140330T030000
RDATE:20141026T020000
TZOFFSETFROM:+0100
TZOFFSETTO:+0200
TZNAME:Europe/Paris CEST
END:DAYLIGHT
BEGIN:DAYLIGHT
DTSTART:20150329T030000
RDATE:20151025T020000
TZOFFSETFROM:+0100
TZOFFSETTO:+0200
TZNAME:Europe/Paris CEST
END:DAYLIGHT
BEGIN:DAYLIGHT
DTSTART:20160327T030000
RDATE:20161030T020000
TZOFFSETFROM:+0100
TZOFFSETTO:+0200
TZNAME:Europe/Paris CEST
END:DAYLIGHT
BEGIN:DAYLIGHT
DTSTART:20170326T030000
RDATE:20171029T020000
TZOFFSETFROM:+0100
TZOFFSETTO:+0200
TZNAME:Europe/Paris CEST
END:DAYLIGHT
BEGIN:DAYLIGHT
DTSTART:20180325T030000
RDATE:20181028T020000
TZOFFSETFROM:+0100
TZOFFSETTO:+0200
TZNAME:Europe/Paris CEST
END:DAYLIGHT
BEGIN:DAYLIGHT
DTSTART:20190331T030000
RDATE:20191027T020000
TZOFFSETFROM:+0100
TZOFFSETTO:+0200
TZNAME:Europe/Paris CEST
END:DAYLIGHT
BEGIN:DAYLIGHT
DTSTART:20200329T030000
RDATE:20201025T020000
TZOFFSETFROM:+0100
TZOFFSETTO:+0200
TZNAME:Europe/Paris CEST
END:DAYLIGHT
BEGIN:DAYLIGHT
DTSTART:20210328T030000
RDATE:20211031T020000
TZOFFSETFROM:+0100
TZOFFSETTO:+0200
TZNAME:Europe/Paris CEST
END:DAYLIGHT
BEGIN:DAYLIGHT
DTSTART:20220327T030000
RDATE:20221030T020000
TZOFFSETFROM:+0100
TZOFFSETTO:+0200
TZNAME:Europe/Paris CEST
END:DAYLIGHT
BEGIN:DAYLIGHT
DTSTART:20230326T030000
RDATE:20231029T020000
TZOFFSETFROM:+0100
TZOFFSETTO:+0200
TZNAME:Europe/Paris CEST
END:DAYLIGHT
BEGIN:DAYLIGHT
DTSTART:20240331T030000
RDATE:20241027T020000
TZOFFSETFROM:+0100
TZOFFSETTO:+0200
TZNAME:Europe/Paris CEST
END:DAYLIGHT
BEGIN:DAYLIGHT
DTSTART:20250330T030000
RDATE:20251026T020000
TZOFFSETFROM:+0100
TZOFFSETTO:+0200
TZNAME:Europe/Paris CEST
END:DAYLIGHT
BEGIN:DAYLIGHT
DTSTART:20260329T030000
RDATE:20261025T020000
TZOFFSETFROM:+0100
TZOFFSETTO:+0200
TZNAME:Europe/Paris CEST
END:DAYLIGHT
END:VTIMEZONE
BEGIN:VEVENT
UID:af3f67fc00c33293e1cb073862bfe85e
CATEGORIES:Circuit Lorraine Adultes (alpin)
CREATED:20131203T122059
SUMMARY:CLA       Résidence et Magasin de ski Le Couarouge La Bresse **REPORTE**
URL;VALUE=URI:https://skivosges.net/agenda/export-synchronisation/detailevenement/57/-/cl
 a-residence-et-magasin-de-ski-le-couarouge-la-bresse-reporte?tmpl=component
DESCRIPTION:CLA       Résidence et Magasin de ski Le Couarouge La Bresse (Epreuve repor
 tée) \n(Coupe de Lorraine Adultes)\n\nLieu : GERARDMER \nOrganisateur : GER
 ARDMER SKI ALPIN  (14089 GERARDMER SKI ALPIN)\nEmail : RegularLabs.EmailPro
 tector.unCloak("ep_6944041a");\nTelecopie : 03 29 60 98 04\nTelecopie : 03 
 29 60 98 04\n\nInscriptions en cours sur ce site\n - AMVF0041  Slalom (Cour
 ses FFS) U16-&gt;Mas (Min à Mast/Vet) Dames\n  CLA       Résidence et Magas
 in de ski Le Couarouge La Bresse\n - AMVM0041  Slalom (Courses FFS) U16-&gt
 ;Mas (Min à Mast/Vet) Hommes\n  CLA       Résidence et Magasin de ski Le Co
 uarouge La Bresse Cet évènement a été importé depuis :https://skivosges.net
 /agenda/export-synchronisation/detailevenement/57/-/cla-residence-et-magasi
 n-de-ski-le-couarouge-la-bresse-reporte?tmpl=component (https://skivosges.n
 et/agenda/export-synchronisation/detailevenement/57/-/cla-residence-et-maga
 sin-de-ski-le-couarouge-la-bresse-reporte?tmpl=component)
X-ALT-DESC;FMTTYPE=text/html:<strong>CLA       Résidence et Magasin de ski Le Couarouge La Bresse</stron
 g> <font class="attention4">(Epreuve reportée)</font> <br /><i>(Coupe de Lo
 rraine Adultes)</i><br /><br />Lieu : GERARDMER <br />Organisateur : GERARD
 MER SKI ALPIN  <small>(14089 GERARDMER SKI ALPIN)</small><br />Email : <!--
  Cette adresse électronique est protégée contre les robots spammeurs. --><s
 pan class="cloaked_email ep_6944041a"><span data-ep-b="e&#46;&#102;&#114;" 
 data-ep-a="&#103;&#101;&#114;ar"><span data-ep-b="&#111;r&#97;&#110;g" data
 -ep-a="&#100;&#109;e&#114;&#45;"><span data-ep-b="l&#112;in&#64;" data-ep-a
 ="&#115;&#107;&#105;-a"></span></span></span></span><script>RegularLabs.Ema
 ilProtector.unCloak("ep_6944041a");</script><br />Telecopie : 03 29 60 98 0
 4<br />Telecopie : 03 29 60 98 04<br /><br />Inscriptions en cours sur ce s
 ite<ul type="disc"><li>AMVF0041  Slalom <nobr><i>(Courses FFS)</i></nobr> <
 nobr>U16->Mas (Min à Mast/Vet)</nobr> Dames<br />&nbsp;&nbsp;CLA       Rési
 dence et Magasin de ski Le Couarouge La Bresse</li><li>AMVM0041  Slalom <no
 br><i>(Courses FFS)</i></nobr> <nobr>U16->Mas (Min à Mast/Vet)</nobr> Homme
 s<br />&nbsp;&nbsp;CLA       Résidence et Magasin de ski Le Couarouge La Br
 esse</li></ul> <a href="https://skivosges.net/agenda/export-synchronisation
 /detailevenement/57/-/cla-residence-et-magasin-de-ski-le-couarouge-la-bress
 e-reporte?tmpl=component">Cet évènement a été importé depuis :https://skivo
 sges.net/agenda/export-synchronisation/detailevenement/57/-/cla-residence-e
 t-magasin-de-ski-le-couarouge-la-bresse-reporte?tmpl=component</a>DTSTAMP:20260423T172336
DTSTART;TZID=Europe/Paris:20131221T080000
DTEND;TZID=Europe/Paris:20131221T170000
SEQUENCE:0
TRANSP:OPAQUE
END:VEVENT
END:VCALENDAR