BEGIN:VCALENDAR
VERSION:2.0
PRODID:-//jEvents 2.0 for Joomla//EN
CALSCALE:GREGORIAN
METHOD:PUBLISH
BEGIN:VTIMEZONE
TZID:Europe/Paris
BEGIN:STANDARD
DTSTART:20150313T080000
RDATE:20150329T030000
TZOFFSETFROM:+0200
TZOFFSETTO:+0100
TZNAME:Europe/Paris CET
END:STANDARD
BEGIN:STANDARD
DTSTART:20151025T020000
RDATE:20160327T030000
TZOFFSETFROM:+0200
TZOFFSETTO:+0100
TZNAME:Europe/Paris CET
END:STANDARD
BEGIN:STANDARD
DTSTART:20161030T020000
RDATE:20170326T030000
TZOFFSETFROM:+0200
TZOFFSETTO:+0100
TZNAME:Europe/Paris CET
END:STANDARD
BEGIN:STANDARD
DTSTART:20171029T020000
RDATE:20180325T030000
TZOFFSETFROM:+0200
TZOFFSETTO:+0100
TZNAME:Europe/Paris CET
END:STANDARD
BEGIN:STANDARD
DTSTART:20181028T020000
RDATE:20190331T030000
TZOFFSETFROM:+0200
TZOFFSETTO:+0100
TZNAME:Europe/Paris CET
END:STANDARD
BEGIN:STANDARD
DTSTART:20191027T020000
RDATE:20200329T030000
TZOFFSETFROM:+0200
TZOFFSETTO:+0100
TZNAME:Europe/Paris CET
END:STANDARD
BEGIN:STANDARD
DTSTART:20201025T020000
RDATE:20210328T030000
TZOFFSETFROM:+0200
TZOFFSETTO:+0100
TZNAME:Europe/Paris CET
END:STANDARD
BEGIN:STANDARD
DTSTART:20211031T020000
RDATE:20220327T030000
TZOFFSETFROM:+0200
TZOFFSETTO:+0100
TZNAME:Europe/Paris CET
END:STANDARD
BEGIN:STANDARD
DTSTART:20221030T020000
RDATE:20230326T030000
TZOFFSETFROM:+0200
TZOFFSETTO:+0100
TZNAME:Europe/Paris CET
END:STANDARD
BEGIN:STANDARD
DTSTART:20231029T020000
RDATE:20240331T030000
TZOFFSETFROM:+0200
TZOFFSETTO:+0100
TZNAME:Europe/Paris CET
END:STANDARD
BEGIN:STANDARD
DTSTART:20241027T020000
RDATE:20250330T030000
TZOFFSETFROM:+0200
TZOFFSETTO:+0100
TZNAME:Europe/Paris CET
END:STANDARD
BEGIN:STANDARD
DTSTART:20251026T020000
RDATE:20260329T030000
TZOFFSETFROM:+0200
TZOFFSETTO:+0100
TZNAME:Europe/Paris CET
END:STANDARD
BEGIN:STANDARD
DTSTART:20261025T020000
RDATE:20270328T030000
TZOFFSETFROM:+0200
TZOFFSETTO:+0100
TZNAME:Europe/Paris CET
END:STANDARD
BEGIN:DAYLIGHT
DTSTART:20150329T030000
RDATE:20151025T020000
TZOFFSETFROM:+0100
TZOFFSETTO:+0200
TZNAME:Europe/Paris CEST
END:DAYLIGHT
BEGIN:DAYLIGHT
DTSTART:20160327T030000
RDATE:20161030T020000
TZOFFSETFROM:+0100
TZOFFSETTO:+0200
TZNAME:Europe/Paris CEST
END:DAYLIGHT
BEGIN:DAYLIGHT
DTSTART:20170326T030000
RDATE:20171029T020000
TZOFFSETFROM:+0100
TZOFFSETTO:+0200
TZNAME:Europe/Paris CEST
END:DAYLIGHT
BEGIN:DAYLIGHT
DTSTART:20180325T030000
RDATE:20181028T020000
TZOFFSETFROM:+0100
TZOFFSETTO:+0200
TZNAME:Europe/Paris CEST
END:DAYLIGHT
BEGIN:DAYLIGHT
DTSTART:20190331T030000
RDATE:20191027T020000
TZOFFSETFROM:+0100
TZOFFSETTO:+0200
TZNAME:Europe/Paris CEST
END:DAYLIGHT
BEGIN:DAYLIGHT
DTSTART:20200329T030000
RDATE:20201025T020000
TZOFFSETFROM:+0100
TZOFFSETTO:+0200
TZNAME:Europe/Paris CEST
END:DAYLIGHT
BEGIN:DAYLIGHT
DTSTART:20210328T030000
RDATE:20211031T020000
TZOFFSETFROM:+0100
TZOFFSETTO:+0200
TZNAME:Europe/Paris CEST
END:DAYLIGHT
BEGIN:DAYLIGHT
DTSTART:20220327T030000
RDATE:20221030T020000
TZOFFSETFROM:+0100
TZOFFSETTO:+0200
TZNAME:Europe/Paris CEST
END:DAYLIGHT
BEGIN:DAYLIGHT
DTSTART:20230326T030000
RDATE:20231029T020000
TZOFFSETFROM:+0100
TZOFFSETTO:+0200
TZNAME:Europe/Paris CEST
END:DAYLIGHT
BEGIN:DAYLIGHT
DTSTART:20240331T030000
RDATE:20241027T020000
TZOFFSETFROM:+0100
TZOFFSETTO:+0200
TZNAME:Europe/Paris CEST
END:DAYLIGHT
BEGIN:DAYLIGHT
DTSTART:20250330T030000
RDATE:20251026T020000
TZOFFSETFROM:+0100
TZOFFSETTO:+0200
TZNAME:Europe/Paris CEST
END:DAYLIGHT
BEGIN:DAYLIGHT
DTSTART:20260329T030000
RDATE:20261025T020000
TZOFFSETFROM:+0100
TZOFFSETTO:+0200
TZNAME:Europe/Paris CEST
END:DAYLIGHT
END:VTIMEZONE
BEGIN:VEVENT
UID:f773bfccc9533349ac18930383262dd9
CATEGORIES:Circuit Massif Adultes (alpin)
CREATED:20151110T133952
SUMMARY:GPA   U16 à Masters    Grand Prix SCOSEG  SPECK
URL;VALUE=URI:https://skivosges.net/agenda/export-synchronisation/detailevenement/570/-/g
 pa-u16-a-masters-grand-prix-scoseg-speck?tmpl=component
DESCRIPTION:GPA   U16 à Masters    Grand Prix SCOSEG  SPECK \n(Grand Prix Adultes)\n\nL
 ieu : MARKSTEIN\nOrganisateur : S.C.O.S.E.G. GUEBWILLER (14356 S.C.O.S.E.G.
  GUEBWILLER)\nEmail : RegularLabs.EmailProtector.unCloak("ep_233eba34");\nT
 elecopie : 0681997362\n\nDOSSARDS A LA BULLE;\nFORFAITS AU BAS DE LA FEDERA
 LE\n\nInscriptions en cours sur ce site\n - AMVM0851  Slalom (Courses FFS) 
 U16 a Masters Hommes\n  GPA   U16 à Masters    Grand Prix SCOSEG  SPECK\n -
  AMVF0851  Slalom (Courses FFS) U16 a Masters Dames\n  GPA   U16 à Masters 
    Grand Prix SCOSEG  SPECK Cet évènement a été importé depuis :https://ski
 vosges.net/agenda/export-synchronisation/detailevenement/570/-/gpa-u16-a-ma
 sters-grand-prix-scoseg-speck?tmpl=component
X-ALT-DESC;FMTTYPE=text/html:<strong>GPA   U16 à Masters    Grand Prix SCOSEG  SPECK</strong> <br /><i>(
 Grand Prix Adultes)</i><br /><br />Lieu : MARKSTEIN<br />Organisateur : S.C
 .O.S.E.G. GUEBWILLER <small>(14356 S.C.O.S.E.G. GUEBWILLER)</small><br />Em
 ail : <!-- Cette adresse électronique est protégée contre les robots spamme
 urs. --><span class="cloaked_email ep_233eba34"><span data-ep-a="&#103;en&#
 103;" data-ep-b="f&#114;"><span data-ep-b="do&#111;&#46;" data-ep-a="&#46;&
 #99;&#108;a"><span data-ep-b="&#119;&#97;&#110;a" data-ep-a="ud&#101;&#64;"
 ></span></span></span></span><script>RegularLabs.EmailProtector.unCloak("ep
 _233eba34");</script><br />Telecopie : 0681997362<br /><br />DOSSARDS A LA 
 BULLE;<br>FORFAITS AU BAS DE LA FEDERALE<br /><br />Inscriptions en cours s
 ur ce site<ul type="disc"><li>AMVM0851  Slalom <nobr><i>(Courses FFS)</i></
 nobr> <nobr>U16 a Masters</nobr> Hommes<br />&nbsp;&nbsp;GPA   U16 à Master
 s    Grand Prix SCOSEG  SPECK</li><li>AMVF0851  Slalom <nobr><i>(Courses FF
 S)</i></nobr> <nobr>U16 a Masters</nobr> Dames<br />&nbsp;&nbsp;GPA   U16 à
  Masters    Grand Prix SCOSEG  SPECK</li></ul> <a href="https://skivosges.n
 et/agenda/export-synchronisation/detailevenement/570/-/gpa-u16-a-masters-gr
 and-prix-scoseg-speck?tmpl=component">Cet évènement a été importé depuis :h
 ttps://skivosges.net/agenda/export-synchronisation/detailevenement/570/-/gp
 a-u16-a-masters-grand-prix-scoseg-speck?tmpl=component</a>DTSTAMP:20260420T220645
DTSTART;TZID=Europe/Paris:20160313T080000
DTEND;TZID=Europe/Paris:20160313T170000
SEQUENCE:0
TRANSP:OPAQUE
END:VEVENT
END:VCALENDAR