BEGIN:VCALENDAR
VERSION:2.0
PRODID:-//jEvents 2.0 for Joomla//EN
CALSCALE:GREGORIAN
METHOD:PUBLISH
BEGIN:VTIMEZONE
TZID:Europe/Paris
BEGIN:STANDARD
DTSTART:20150319T080000
RDATE:20150329T030000
TZOFFSETFROM:+0200
TZOFFSETTO:+0100
TZNAME:Europe/Paris CET
END:STANDARD
BEGIN:STANDARD
DTSTART:20151025T020000
RDATE:20160327T030000
TZOFFSETFROM:+0200
TZOFFSETTO:+0100
TZNAME:Europe/Paris CET
END:STANDARD
BEGIN:STANDARD
DTSTART:20161030T020000
RDATE:20170326T030000
TZOFFSETFROM:+0200
TZOFFSETTO:+0100
TZNAME:Europe/Paris CET
END:STANDARD
BEGIN:STANDARD
DTSTART:20171029T020000
RDATE:20180325T030000
TZOFFSETFROM:+0200
TZOFFSETTO:+0100
TZNAME:Europe/Paris CET
END:STANDARD
BEGIN:STANDARD
DTSTART:20181028T020000
RDATE:20190331T030000
TZOFFSETFROM:+0200
TZOFFSETTO:+0100
TZNAME:Europe/Paris CET
END:STANDARD
BEGIN:STANDARD
DTSTART:20191027T020000
RDATE:20200329T030000
TZOFFSETFROM:+0200
TZOFFSETTO:+0100
TZNAME:Europe/Paris CET
END:STANDARD
BEGIN:STANDARD
DTSTART:20201025T020000
RDATE:20210328T030000
TZOFFSETFROM:+0200
TZOFFSETTO:+0100
TZNAME:Europe/Paris CET
END:STANDARD
BEGIN:STANDARD
DTSTART:20211031T020000
RDATE:20220327T030000
TZOFFSETFROM:+0200
TZOFFSETTO:+0100
TZNAME:Europe/Paris CET
END:STANDARD
BEGIN:STANDARD
DTSTART:20221030T020000
RDATE:20230326T030000
TZOFFSETFROM:+0200
TZOFFSETTO:+0100
TZNAME:Europe/Paris CET
END:STANDARD
BEGIN:STANDARD
DTSTART:20231029T020000
RDATE:20240331T030000
TZOFFSETFROM:+0200
TZOFFSETTO:+0100
TZNAME:Europe/Paris CET
END:STANDARD
BEGIN:STANDARD
DTSTART:20241027T020000
RDATE:20250330T030000
TZOFFSETFROM:+0200
TZOFFSETTO:+0100
TZNAME:Europe/Paris CET
END:STANDARD
BEGIN:STANDARD
DTSTART:20251026T020000
RDATE:20260329T030000
TZOFFSETFROM:+0200
TZOFFSETTO:+0100
TZNAME:Europe/Paris CET
END:STANDARD
BEGIN:STANDARD
DTSTART:20261025T020000
RDATE:20270328T030000
TZOFFSETFROM:+0200
TZOFFSETTO:+0100
TZNAME:Europe/Paris CET
END:STANDARD
BEGIN:DAYLIGHT
DTSTART:20150329T030000
RDATE:20151025T020000
TZOFFSETFROM:+0100
TZOFFSETTO:+0200
TZNAME:Europe/Paris CEST
END:DAYLIGHT
BEGIN:DAYLIGHT
DTSTART:20160327T030000
RDATE:20161030T020000
TZOFFSETFROM:+0100
TZOFFSETTO:+0200
TZNAME:Europe/Paris CEST
END:DAYLIGHT
BEGIN:DAYLIGHT
DTSTART:20170326T030000
RDATE:20171029T020000
TZOFFSETFROM:+0100
TZOFFSETTO:+0200
TZNAME:Europe/Paris CEST
END:DAYLIGHT
BEGIN:DAYLIGHT
DTSTART:20180325T030000
RDATE:20181028T020000
TZOFFSETFROM:+0100
TZOFFSETTO:+0200
TZNAME:Europe/Paris CEST
END:DAYLIGHT
BEGIN:DAYLIGHT
DTSTART:20190331T030000
RDATE:20191027T020000
TZOFFSETFROM:+0100
TZOFFSETTO:+0200
TZNAME:Europe/Paris CEST
END:DAYLIGHT
BEGIN:DAYLIGHT
DTSTART:20200329T030000
RDATE:20201025T020000
TZOFFSETFROM:+0100
TZOFFSETTO:+0200
TZNAME:Europe/Paris CEST
END:DAYLIGHT
BEGIN:DAYLIGHT
DTSTART:20210328T030000
RDATE:20211031T020000
TZOFFSETFROM:+0100
TZOFFSETTO:+0200
TZNAME:Europe/Paris CEST
END:DAYLIGHT
BEGIN:DAYLIGHT
DTSTART:20220327T030000
RDATE:20221030T020000
TZOFFSETFROM:+0100
TZOFFSETTO:+0200
TZNAME:Europe/Paris CEST
END:DAYLIGHT
BEGIN:DAYLIGHT
DTSTART:20230326T030000
RDATE:20231029T020000
TZOFFSETFROM:+0100
TZOFFSETTO:+0200
TZNAME:Europe/Paris CEST
END:DAYLIGHT
BEGIN:DAYLIGHT
DTSTART:20240331T030000
RDATE:20241027T020000
TZOFFSETFROM:+0100
TZOFFSETTO:+0200
TZNAME:Europe/Paris CEST
END:DAYLIGHT
BEGIN:DAYLIGHT
DTSTART:20250330T030000
RDATE:20251026T020000
TZOFFSETFROM:+0100
TZOFFSETTO:+0200
TZNAME:Europe/Paris CEST
END:DAYLIGHT
BEGIN:DAYLIGHT
DTSTART:20260329T030000
RDATE:20261025T020000
TZOFFSETFROM:+0100
TZOFFSETTO:+0200
TZNAME:Europe/Paris CEST
END:DAYLIGHT
END:VTIMEZONE
BEGIN:VEVENT
UID:e4110d8c588c2ba6b97d82bb4d3cc0f5
CATEGORIES:Circuit Massif Masters (alpin)
CREATED:20151110T133952
SUMMARY:GPM  Masters **REPORTE**
URL;VALUE=URI:https://skivosges.net/agenda/export-synchronisation/detailevenement/574/-/g
 pm-masters-reporte?tmpl=component
DESCRIPTION:GPM  Masters (Epreuve reportée, date à determiner) \n(Grand Prix Masters)\n
 \nLieu : GERARDMER\nOrganisateur : GERARDMER SKI ALPIN (14089 GERARDMER SKI
  ALPIN)\nEmail : RegularLabs.EmailProtector.unCloak("ep_098c9298");\nTeleco
 pie : 03 29 60 98 04\nTelecopie : 03 29 60 98 04\n - AMVM0871  Slalom Geant
  (Courses Masters) Tous les Masters Hommes\n  GPM  Masters\n - AMVF0871  Sl
 alom Geant (Courses Masters) Tous les Masters Dames\n  GPM  Masters Cet évè
 nement a été importé depuis :https://skivosges.net/agenda/export-synchronis
 ation/detailevenement/574/-/gpm-masters-reporte?tmpl=component (https://ski
 vosges.net/agenda/export-synchronisation/detailevenement/574/-/gpm-masters-
 reporte?tmpl=component)
X-ALT-DESC;FMTTYPE=text/html:<strong>GPM  Masters</strong> <font class="attention4">(Epreuve reportée, d
 ate à determiner)</font> <br /><i>(Grand Prix Masters)</i><br /><br />Lieu 
 : GERARDMER<br />Organisateur : GERARDMER SKI ALPIN <small>(14089 GERARDMER
  SKI ALPIN)</small><br />Email : <!-- Cette adresse électronique est protég
 ée contre les robots spammeurs. --><span class="cloaked_email ep_098c9298">
 <span data-ep-a="&#97;&#115;&#103;&#115;k" data-ep-b="&#114;"><span data-ep
 -b="&#110;&#103;&#101;.&#102;" data-ep-a="&#105;&#46;&#103;e&#114;"><span d
 ata-ep-a="&#97;r&#100;&#109;e" data-ep-b="&#114;&#64;&#111;&#114;a"></span>
 </span></span></span><script>RegularLabs.EmailProtector.unCloak("ep_098c929
 8");</script><br />Telecopie : 03 29 60 98 04<br />Telecopie : 03 29 60 98 
 04<ul type="disc"><li>AMVM0871  Slalom Geant <nobr><i>(Courses Masters)</i>
 </nobr> <nobr>Tous les Masters</nobr> Hommes<br />&nbsp;&nbsp;GPM  Masters<
 /li><li>AMVF0871  Slalom Geant <nobr><i>(Courses Masters)</i></nobr> <nobr>
 Tous les Masters</nobr> Dames<br />&nbsp;&nbsp;GPM  Masters</li></ul> <a hr
 ef="https://skivosges.net/agenda/export-synchronisation/detailevenement/574
 /-/gpm-masters-reporte?tmpl=component">Cet évènement a été importé depuis :
 https://skivosges.net/agenda/export-synchronisation/detailevenement/574/-/g
 pm-masters-reporte?tmpl=component</a>DTSTAMP:20260421T045834
DTSTART;TZID=Europe/Paris:20160319T080000
DTEND;TZID=Europe/Paris:20160319T170000
SEQUENCE:0
TRANSP:OPAQUE
END:VEVENT
END:VCALENDAR