BEGIN:VCALENDAR
VERSION:2.0
PRODID:-//jEvents 2.0 for Joomla//EN
CALSCALE:GREGORIAN
METHOD:PUBLISH
BEGIN:VTIMEZONE
TZID:Europe/Paris
BEGIN:STANDARD
DTSTART:20150319T080000
RDATE:20150329T030000
TZOFFSETFROM:+0200
TZOFFSETTO:+0100
TZNAME:Europe/Paris CET
END:STANDARD
BEGIN:STANDARD
DTSTART:20151025T020000
RDATE:20160327T030000
TZOFFSETFROM:+0200
TZOFFSETTO:+0100
TZNAME:Europe/Paris CET
END:STANDARD
BEGIN:STANDARD
DTSTART:20161030T020000
RDATE:20170326T030000
TZOFFSETFROM:+0200
TZOFFSETTO:+0100
TZNAME:Europe/Paris CET
END:STANDARD
BEGIN:STANDARD
DTSTART:20171029T020000
RDATE:20180325T030000
TZOFFSETFROM:+0200
TZOFFSETTO:+0100
TZNAME:Europe/Paris CET
END:STANDARD
BEGIN:STANDARD
DTSTART:20181028T020000
RDATE:20190331T030000
TZOFFSETFROM:+0200
TZOFFSETTO:+0100
TZNAME:Europe/Paris CET
END:STANDARD
BEGIN:STANDARD
DTSTART:20191027T020000
RDATE:20200329T030000
TZOFFSETFROM:+0200
TZOFFSETTO:+0100
TZNAME:Europe/Paris CET
END:STANDARD
BEGIN:STANDARD
DTSTART:20201025T020000
RDATE:20210328T030000
TZOFFSETFROM:+0200
TZOFFSETTO:+0100
TZNAME:Europe/Paris CET
END:STANDARD
BEGIN:STANDARD
DTSTART:20211031T020000
RDATE:20220327T030000
TZOFFSETFROM:+0200
TZOFFSETTO:+0100
TZNAME:Europe/Paris CET
END:STANDARD
BEGIN:STANDARD
DTSTART:20221030T020000
RDATE:20230326T030000
TZOFFSETFROM:+0200
TZOFFSETTO:+0100
TZNAME:Europe/Paris CET
END:STANDARD
BEGIN:STANDARD
DTSTART:20231029T020000
RDATE:20240331T030000
TZOFFSETFROM:+0200
TZOFFSETTO:+0100
TZNAME:Europe/Paris CET
END:STANDARD
BEGIN:STANDARD
DTSTART:20241027T020000
RDATE:20250330T030000
TZOFFSETFROM:+0200
TZOFFSETTO:+0100
TZNAME:Europe/Paris CET
END:STANDARD
BEGIN:STANDARD
DTSTART:20251026T020000
RDATE:20260329T030000
TZOFFSETFROM:+0200
TZOFFSETTO:+0100
TZNAME:Europe/Paris CET
END:STANDARD
BEGIN:STANDARD
DTSTART:20261025T020000
RDATE:20270328T030000
TZOFFSETFROM:+0200
TZOFFSETTO:+0100
TZNAME:Europe/Paris CET
END:STANDARD
BEGIN:DAYLIGHT
DTSTART:20150329T030000
RDATE:20151025T020000
TZOFFSETFROM:+0100
TZOFFSETTO:+0200
TZNAME:Europe/Paris CEST
END:DAYLIGHT
BEGIN:DAYLIGHT
DTSTART:20160327T030000
RDATE:20161030T020000
TZOFFSETFROM:+0100
TZOFFSETTO:+0200
TZNAME:Europe/Paris CEST
END:DAYLIGHT
BEGIN:DAYLIGHT
DTSTART:20170326T030000
RDATE:20171029T020000
TZOFFSETFROM:+0100
TZOFFSETTO:+0200
TZNAME:Europe/Paris CEST
END:DAYLIGHT
BEGIN:DAYLIGHT
DTSTART:20180325T030000
RDATE:20181028T020000
TZOFFSETFROM:+0100
TZOFFSETTO:+0200
TZNAME:Europe/Paris CEST
END:DAYLIGHT
BEGIN:DAYLIGHT
DTSTART:20190331T030000
RDATE:20191027T020000
TZOFFSETFROM:+0100
TZOFFSETTO:+0200
TZNAME:Europe/Paris CEST
END:DAYLIGHT
BEGIN:DAYLIGHT
DTSTART:20200329T030000
RDATE:20201025T020000
TZOFFSETFROM:+0100
TZOFFSETTO:+0200
TZNAME:Europe/Paris CEST
END:DAYLIGHT
BEGIN:DAYLIGHT
DTSTART:20210328T030000
RDATE:20211031T020000
TZOFFSETFROM:+0100
TZOFFSETTO:+0200
TZNAME:Europe/Paris CEST
END:DAYLIGHT
BEGIN:DAYLIGHT
DTSTART:20220327T030000
RDATE:20221030T020000
TZOFFSETFROM:+0100
TZOFFSETTO:+0200
TZNAME:Europe/Paris CEST
END:DAYLIGHT
BEGIN:DAYLIGHT
DTSTART:20230326T030000
RDATE:20231029T020000
TZOFFSETFROM:+0100
TZOFFSETTO:+0200
TZNAME:Europe/Paris CEST
END:DAYLIGHT
BEGIN:DAYLIGHT
DTSTART:20240331T030000
RDATE:20241027T020000
TZOFFSETFROM:+0100
TZOFFSETTO:+0200
TZNAME:Europe/Paris CEST
END:DAYLIGHT
BEGIN:DAYLIGHT
DTSTART:20250330T030000
RDATE:20251026T020000
TZOFFSETFROM:+0100
TZOFFSETTO:+0200
TZNAME:Europe/Paris CEST
END:DAYLIGHT
BEGIN:DAYLIGHT
DTSTART:20260329T030000
RDATE:20261025T020000
TZOFFSETFROM:+0100
TZOFFSETTO:+0200
TZNAME:Europe/Paris CEST
END:DAYLIGHT
END:VTIMEZONE
BEGIN:VEVENT
UID:dda26ab76aa995fb64ca0fbc3118cac4
CATEGORIES:Circuit Massif Adultes (alpin)
CREATED:20151110T133952
SUMMARY:GPA   U16 à U30   Grand Prix Techniski   Mémorial J et Ph Degermann
URL;VALUE=URI:https://skivosges.net/agenda/export-synchronisation/detailevenement/575/-/g
 pa-u16-a-u30-grand-prix-techniski-memorial-j-et-ph-degermann?tmpl=component
DESCRIPTION:GPA   U16 à U30   Grand Prix Techniski   Mémorial J et Ph Degermann \n(Gran
 d Prix Adultes)\n\nLieu : CHAMP DU FEU\nPiste : Champs Elysées\nOrganisateu
 r : SKIEURS DE STRASBOURG (14077 SKIEURS DE STRASBOURG)\nEmail : RegularLab
 s.EmailProtector.unCloak("ep_39f96212");\n\n1er départ 14h. Un lissage par 
 manche sera demandé à chaque coureur.\n\nInscriptions closes, tirage des do
 ssards en cours\n - AMVM0881  Slalom (Courses FFS) U16 a Masters Hommes\n  
 GPA   U16 à U30   Grand Prix Techniski   Mémorial J et Ph Degermann\n - AMV
 F0881  Slalom (Courses FFS) U16 a Masters Dames\n  GPA   U16 à U30   Grand 
 Prix Techniski   Mémorial J et Ph Degermann Cet évènement a été importé dep
 uis :https://skivosges.net/agenda/export-synchronisation/detailevenement/57
 5/-/gpa-u16-a-u30-grand-prix-techniski-memorial-j-et-ph-degermann?tmpl=comp
 onent
X-ALT-DESC;FMTTYPE=text/html:<strong>GPA   U16 à U30   Grand Prix Techniski   Mémorial J et Ph Degermann
 </strong> <br /><i>(Grand Prix Adultes)</i><br /><br />Lieu : CHAMP DU FEU<
 br />Piste : Champs Elys&eacute;es<br />Organisateur : SKIEURS DE STRASBOUR
 G <small>(14077 SKIEURS DE STRASBOURG)</small><br />Email : <!-- Cette adre
 sse électronique est protégée contre les robots spammeurs. --><span class="
 cloaked_email ep_39f96212"><span data-ep-b="" data-ep-a="&#119;&#105;e&#115
 ;&#46;"><span data-ep-b="l.c&#111;m" data-ep-a="&#99;&#104;&#114;&#105;&#11
 5;"><span data-ep-b="&#64;g&#109;&#97;&#105;" data-ep-a="&#116;&#111;phe"><
 /span></span></span></span><script>RegularLabs.EmailProtector.unCloak("ep_3
 9f96212");</script><br /><br />1er départ 14h. Un lissage par manche sera d
 emandé à chaque coureur.<br /><br />Inscriptions closes, tirage des dossard
 s en cours<ul type="disc"><li>AMVM0881  Slalom <nobr><i>(Courses FFS)</i></
 nobr> <nobr>U16 a Masters</nobr> Hommes<br />&nbsp;&nbsp;GPA   U16 à U30   
 Grand Prix Techniski   Mémorial J et Ph Degermann</li><li>AMVF0881  Slalom 
 <nobr><i>(Courses FFS)</i></nobr> <nobr>U16 a Masters</nobr> Dames<br />&nb
 sp;&nbsp;GPA   U16 à U30   Grand Prix Techniski   Mémorial J et Ph Degerman
 n</li></ul> <a href="https://skivosges.net/agenda/export-synchronisation/de
 tailevenement/575/-/gpa-u16-a-u30-grand-prix-techniski-memorial-j-et-ph-deg
 ermann?tmpl=component">Cet évènement a été importé depuis :https://skivosge
 s.net/agenda/export-synchronisation/detailevenement/575/-/gpa-u16-a-u30-gra
 nd-prix-techniski-memorial-j-et-ph-degermann?tmpl=component</a>DTSTAMP:20260420T220457
DTSTART;TZID=Europe/Paris:20160319T080000
DTEND;TZID=Europe/Paris:20160319T170000
SEQUENCE:0
TRANSP:OPAQUE
END:VEVENT
END:VCALENDAR