BEGIN:VCALENDAR
VERSION:2.0
PRODID:-//jEvents 2.0 for Joomla//EN
CALSCALE:GREGORIAN
METHOD:PUBLISH
BEGIN:VTIMEZONE
TZID:Europe/Paris
BEGIN:STANDARD
DTSTART:20150320T080000
RDATE:20150329T030000
TZOFFSETFROM:+0200
TZOFFSETTO:+0100
TZNAME:Europe/Paris CET
END:STANDARD
BEGIN:STANDARD
DTSTART:20151025T020000
RDATE:20160327T030000
TZOFFSETFROM:+0200
TZOFFSETTO:+0100
TZNAME:Europe/Paris CET
END:STANDARD
BEGIN:STANDARD
DTSTART:20161030T020000
RDATE:20170326T030000
TZOFFSETFROM:+0200
TZOFFSETTO:+0100
TZNAME:Europe/Paris CET
END:STANDARD
BEGIN:STANDARD
DTSTART:20171029T020000
RDATE:20180325T030000
TZOFFSETFROM:+0200
TZOFFSETTO:+0100
TZNAME:Europe/Paris CET
END:STANDARD
BEGIN:STANDARD
DTSTART:20181028T020000
RDATE:20190331T030000
TZOFFSETFROM:+0200
TZOFFSETTO:+0100
TZNAME:Europe/Paris CET
END:STANDARD
BEGIN:STANDARD
DTSTART:20191027T020000
RDATE:20200329T030000
TZOFFSETFROM:+0200
TZOFFSETTO:+0100
TZNAME:Europe/Paris CET
END:STANDARD
BEGIN:STANDARD
DTSTART:20201025T020000
RDATE:20210328T030000
TZOFFSETFROM:+0200
TZOFFSETTO:+0100
TZNAME:Europe/Paris CET
END:STANDARD
BEGIN:STANDARD
DTSTART:20211031T020000
RDATE:20220327T030000
TZOFFSETFROM:+0200
TZOFFSETTO:+0100
TZNAME:Europe/Paris CET
END:STANDARD
BEGIN:STANDARD
DTSTART:20221030T020000
RDATE:20230326T030000
TZOFFSETFROM:+0200
TZOFFSETTO:+0100
TZNAME:Europe/Paris CET
END:STANDARD
BEGIN:STANDARD
DTSTART:20231029T020000
RDATE:20240331T030000
TZOFFSETFROM:+0200
TZOFFSETTO:+0100
TZNAME:Europe/Paris CET
END:STANDARD
BEGIN:STANDARD
DTSTART:20241027T020000
RDATE:20250330T030000
TZOFFSETFROM:+0200
TZOFFSETTO:+0100
TZNAME:Europe/Paris CET
END:STANDARD
BEGIN:STANDARD
DTSTART:20251026T020000
RDATE:20260329T030000
TZOFFSETFROM:+0200
TZOFFSETTO:+0100
TZNAME:Europe/Paris CET
END:STANDARD
BEGIN:STANDARD
DTSTART:20261025T020000
RDATE:20270328T030000
TZOFFSETFROM:+0200
TZOFFSETTO:+0100
TZNAME:Europe/Paris CET
END:STANDARD
BEGIN:DAYLIGHT
DTSTART:20150329T030000
RDATE:20151025T020000
TZOFFSETFROM:+0100
TZOFFSETTO:+0200
TZNAME:Europe/Paris CEST
END:DAYLIGHT
BEGIN:DAYLIGHT
DTSTART:20160327T030000
RDATE:20161030T020000
TZOFFSETFROM:+0100
TZOFFSETTO:+0200
TZNAME:Europe/Paris CEST
END:DAYLIGHT
BEGIN:DAYLIGHT
DTSTART:20170326T030000
RDATE:20171029T020000
TZOFFSETFROM:+0100
TZOFFSETTO:+0200
TZNAME:Europe/Paris CEST
END:DAYLIGHT
BEGIN:DAYLIGHT
DTSTART:20180325T030000
RDATE:20181028T020000
TZOFFSETFROM:+0100
TZOFFSETTO:+0200
TZNAME:Europe/Paris CEST
END:DAYLIGHT
BEGIN:DAYLIGHT
DTSTART:20190331T030000
RDATE:20191027T020000
TZOFFSETFROM:+0100
TZOFFSETTO:+0200
TZNAME:Europe/Paris CEST
END:DAYLIGHT
BEGIN:DAYLIGHT
DTSTART:20200329T030000
RDATE:20201025T020000
TZOFFSETFROM:+0100
TZOFFSETTO:+0200
TZNAME:Europe/Paris CEST
END:DAYLIGHT
BEGIN:DAYLIGHT
DTSTART:20210328T030000
RDATE:20211031T020000
TZOFFSETFROM:+0100
TZOFFSETTO:+0200
TZNAME:Europe/Paris CEST
END:DAYLIGHT
BEGIN:DAYLIGHT
DTSTART:20220327T030000
RDATE:20221030T020000
TZOFFSETFROM:+0100
TZOFFSETTO:+0200
TZNAME:Europe/Paris CEST
END:DAYLIGHT
BEGIN:DAYLIGHT
DTSTART:20230326T030000
RDATE:20231029T020000
TZOFFSETFROM:+0100
TZOFFSETTO:+0200
TZNAME:Europe/Paris CEST
END:DAYLIGHT
BEGIN:DAYLIGHT
DTSTART:20240331T030000
RDATE:20241027T020000
TZOFFSETFROM:+0100
TZOFFSETTO:+0200
TZNAME:Europe/Paris CEST
END:DAYLIGHT
BEGIN:DAYLIGHT
DTSTART:20250330T030000
RDATE:20251026T020000
TZOFFSETFROM:+0100
TZOFFSETTO:+0200
TZNAME:Europe/Paris CEST
END:DAYLIGHT
BEGIN:DAYLIGHT
DTSTART:20260329T030000
RDATE:20261025T020000
TZOFFSETFROM:+0100
TZOFFSETTO:+0200
TZNAME:Europe/Paris CEST
END:DAYLIGHT
END:VTIMEZONE
BEGIN:VEVENT
UID:0e73333e5721ace10263773feadf2590
CATEGORIES:Circuit Massif Adultes (alpin)
CREATED:20151110T133952
SUMMARY:GPA   U16 à U30   Grand Prix de l´Electricité de strasbourg
URL;VALUE=URI:https://skivosges.net/agenda/export-synchronisation/detailevenement/578/-/g
 pa-u16-a-u30-grand-prix-de-lelectricite-de-strasbourg?tmpl=component
DESCRIPTION:GPA   U16 à U30   Grand Prix de l´Electricité de strasbourg \n(Grand Prix A
 dultes)\n\nLieu : CHAMP DU FEU\nPiste : Champs Elysées\nOrganisateur : A.S 
 ELECTRICITE STRASBOURG (14128 A.S ELECTRICITE STRASBOURG)\nEmail : RegularL
 abs.EmailProtector.unCloak("ep_93833f39");\n\n1er départ 9h30, un lissage p
 ar manche est demandé à chaque coureur\n\nInscriptions en cours sur ce site
 \n - AMVM0901  Slalom (Courses FFS) U16 a Masters Hommes\n  GPA   U16 à U30
    Grand Prix de l'Electricité de strasbourg\n - AMVF0901  Slalom (Courses 
 FFS) U16 a Masters Dames\n  GPA   U16 à U30   Grand Prix de l'Electricité d
 e strasbourg Cet évènement a été importé depuis :https://skivosges.net/agen
 da/export-synchronisation/detailevenement/578/-/gpa-u16-a-u30-grand-prix-de
 -lelectricite-de-strasbourg?tmpl=component
X-ALT-DESC;FMTTYPE=text/html:<strong>GPA   U16 à U30   Grand Prix de l´Electricité de strasbourg</strong
 > <br /><i>(Grand Prix Adultes)</i><br /><br />Lieu : CHAMP DU FEU<br />Pis
 te : Champs Elys&eacute;es<br />Organisateur : A.S ELECTRICITE STRASBOURG <
 small>(14128 A.S ELECTRICITE STRASBOURG)</small><br />Email : <!-- Cette ad
 resse électronique est protégée contre les robots spammeurs. --><span class
 ="cloaked_email ep_93833f39"><span data-ep-a="&#119;&#105;es&#46;" data-ep-
 b=""><span data-ep-a="chr&#105;&#115;" data-ep-b="&#108;&#46;com"><span dat
 a-ep-a="&#116;&#111;phe" data-ep-b="&#64;&#103;m&#97;i"></span></span></spa
 n></span><script>RegularLabs.EmailProtector.unCloak("ep_93833f39");</script
 ><br /><br />1er départ 9h30, un lissage par manche est demandé à chaque co
 ureur<br /><br />Inscriptions en cours sur ce site<ul type="disc"><li>AMVM0
 901  Slalom <nobr><i>(Courses FFS)</i></nobr> <nobr>U16 a Masters</nobr> Ho
 mmes<br />&nbsp;&nbsp;GPA   U16 à U30   Grand Prix de l'Electricité de stra
 sbourg</li><li>AMVF0901  Slalom <nobr><i>(Courses FFS)</i></nobr> <nobr>U16
  a Masters</nobr> Dames<br />&nbsp;&nbsp;GPA   U16 à U30   Grand Prix de l'
 Electricité de strasbourg</li></ul> <a href="https://skivosges.net/agenda/e
 xport-synchronisation/detailevenement/578/-/gpa-u16-a-u30-grand-prix-de-lel
 ectricite-de-strasbourg?tmpl=component">Cet évènement a été importé depuis 
 :https://skivosges.net/agenda/export-synchronisation/detailevenement/578/-/
 gpa-u16-a-u30-grand-prix-de-lelectricite-de-strasbourg?tmpl=component</a>DTSTAMP:20260420T220905
DTSTART;TZID=Europe/Paris:20160320T080000
DTEND;TZID=Europe/Paris:20160320T170000
SEQUENCE:0
TRANSP:OPAQUE
END:VEVENT
END:VCALENDAR