BEGIN:VCALENDAR
VERSION:2.0
PRODID:-//jEvents 2.0 for Joomla//EN
CALSCALE:GREGORIAN
METHOD:PUBLISH
BEGIN:VTIMEZONE
TZID:Europe/Paris
BEGIN:STANDARD
DTSTART:20150320T080000
RDATE:20150329T030000
TZOFFSETFROM:+0200
TZOFFSETTO:+0100
TZNAME:Europe/Paris CET
END:STANDARD
BEGIN:STANDARD
DTSTART:20151025T020000
RDATE:20160327T030000
TZOFFSETFROM:+0200
TZOFFSETTO:+0100
TZNAME:Europe/Paris CET
END:STANDARD
BEGIN:STANDARD
DTSTART:20161030T020000
RDATE:20170326T030000
TZOFFSETFROM:+0200
TZOFFSETTO:+0100
TZNAME:Europe/Paris CET
END:STANDARD
BEGIN:STANDARD
DTSTART:20171029T020000
RDATE:20180325T030000
TZOFFSETFROM:+0200
TZOFFSETTO:+0100
TZNAME:Europe/Paris CET
END:STANDARD
BEGIN:STANDARD
DTSTART:20181028T020000
RDATE:20190331T030000
TZOFFSETFROM:+0200
TZOFFSETTO:+0100
TZNAME:Europe/Paris CET
END:STANDARD
BEGIN:STANDARD
DTSTART:20191027T020000
RDATE:20200329T030000
TZOFFSETFROM:+0200
TZOFFSETTO:+0100
TZNAME:Europe/Paris CET
END:STANDARD
BEGIN:STANDARD
DTSTART:20201025T020000
RDATE:20210328T030000
TZOFFSETFROM:+0200
TZOFFSETTO:+0100
TZNAME:Europe/Paris CET
END:STANDARD
BEGIN:STANDARD
DTSTART:20211031T020000
RDATE:20220327T030000
TZOFFSETFROM:+0200
TZOFFSETTO:+0100
TZNAME:Europe/Paris CET
END:STANDARD
BEGIN:STANDARD
DTSTART:20221030T020000
RDATE:20230326T030000
TZOFFSETFROM:+0200
TZOFFSETTO:+0100
TZNAME:Europe/Paris CET
END:STANDARD
BEGIN:STANDARD
DTSTART:20231029T020000
RDATE:20240331T030000
TZOFFSETFROM:+0200
TZOFFSETTO:+0100
TZNAME:Europe/Paris CET
END:STANDARD
BEGIN:STANDARD
DTSTART:20241027T020000
RDATE:20250330T030000
TZOFFSETFROM:+0200
TZOFFSETTO:+0100
TZNAME:Europe/Paris CET
END:STANDARD
BEGIN:STANDARD
DTSTART:20251026T020000
RDATE:20260329T030000
TZOFFSETFROM:+0200
TZOFFSETTO:+0100
TZNAME:Europe/Paris CET
END:STANDARD
BEGIN:STANDARD
DTSTART:20261025T020000
RDATE:20270328T030000
TZOFFSETFROM:+0200
TZOFFSETTO:+0100
TZNAME:Europe/Paris CET
END:STANDARD
BEGIN:DAYLIGHT
DTSTART:20150329T030000
RDATE:20151025T020000
TZOFFSETFROM:+0100
TZOFFSETTO:+0200
TZNAME:Europe/Paris CEST
END:DAYLIGHT
BEGIN:DAYLIGHT
DTSTART:20160327T030000
RDATE:20161030T020000
TZOFFSETFROM:+0100
TZOFFSETTO:+0200
TZNAME:Europe/Paris CEST
END:DAYLIGHT
BEGIN:DAYLIGHT
DTSTART:20170326T030000
RDATE:20171029T020000
TZOFFSETFROM:+0100
TZOFFSETTO:+0200
TZNAME:Europe/Paris CEST
END:DAYLIGHT
BEGIN:DAYLIGHT
DTSTART:20180325T030000
RDATE:20181028T020000
TZOFFSETFROM:+0100
TZOFFSETTO:+0200
TZNAME:Europe/Paris CEST
END:DAYLIGHT
BEGIN:DAYLIGHT
DTSTART:20190331T030000
RDATE:20191027T020000
TZOFFSETFROM:+0100
TZOFFSETTO:+0200
TZNAME:Europe/Paris CEST
END:DAYLIGHT
BEGIN:DAYLIGHT
DTSTART:20200329T030000
RDATE:20201025T020000
TZOFFSETFROM:+0100
TZOFFSETTO:+0200
TZNAME:Europe/Paris CEST
END:DAYLIGHT
BEGIN:DAYLIGHT
DTSTART:20210328T030000
RDATE:20211031T020000
TZOFFSETFROM:+0100
TZOFFSETTO:+0200
TZNAME:Europe/Paris CEST
END:DAYLIGHT
BEGIN:DAYLIGHT
DTSTART:20220327T030000
RDATE:20221030T020000
TZOFFSETFROM:+0100
TZOFFSETTO:+0200
TZNAME:Europe/Paris CEST
END:DAYLIGHT
BEGIN:DAYLIGHT
DTSTART:20230326T030000
RDATE:20231029T020000
TZOFFSETFROM:+0100
TZOFFSETTO:+0200
TZNAME:Europe/Paris CEST
END:DAYLIGHT
BEGIN:DAYLIGHT
DTSTART:20240331T030000
RDATE:20241027T020000
TZOFFSETFROM:+0100
TZOFFSETTO:+0200
TZNAME:Europe/Paris CEST
END:DAYLIGHT
BEGIN:DAYLIGHT
DTSTART:20250330T030000
RDATE:20251026T020000
TZOFFSETFROM:+0100
TZOFFSETTO:+0200
TZNAME:Europe/Paris CEST
END:DAYLIGHT
BEGIN:DAYLIGHT
DTSTART:20260329T030000
RDATE:20261025T020000
TZOFFSETFROM:+0100
TZOFFSETTO:+0200
TZNAME:Europe/Paris CEST
END:DAYLIGHT
END:VTIMEZONE
BEGIN:VEVENT
UID:f155994d5ac5ee1ab058bf5405486566
CATEGORIES:Circuit Massif Jeunes (alpin)
CREATED:20151110T133952
SUMMARY:GPJ     U12 et U14
URL;VALUE=URI:https://skivosges.net/agenda/export-synchronisation/detailevenement/579/-/g
 pj-u12-et-u14?tmpl=component
DESCRIPTION:GPJ     U12 et U14 \n(Grand Prix Jeunes)\n\nLieu : GERARDMER\nOrganisateur 
 : GERARDMER SKI ALPIN (14089 GERARDMER SKI ALPIN)\nEmail : RegularLabs.Emai
 lProtector.unCloak("ep_ee0a9892");\nTelecopie : 03 29 60 98 04\nTelecopie :
  03 29 60 98 04\n\nDEPART 9H30 EN GEANT\n\nInscriptions closes, les listes 
 de départ sont visualisables sur ce site\n - AMVM0931  Slalom Geant (Coupe 
 de Bronze) U12/U14 Garçons\n  GPJ     U12 et U14\n - AMVF0931  Slalom Geant
  (Coupe de Bronze) U12/U14 Filles\n  GPJ     U12 et U14 Cet évènement a été
  importé depuis :https://skivosges.net/agenda/export-synchronisation/detail
 evenement/579/-/gpj-u12-et-u14?tmpl=component
X-ALT-DESC;FMTTYPE=text/html:<strong>GPJ     U12 et U14</strong> <br /><i>(Grand Prix Jeunes)</i><br /><
 br />Lieu : GERARDMER<br />Organisateur : GERARDMER SKI ALPIN <small>(14089
  GERARDMER SKI ALPIN)</small><br />Email : <!-- Cette adresse électronique 
 est protégée contre les robots spammeurs. --><span class="cloaked_email ep_
 ee0a9892"><span data-ep-a="&#97;s&#103;&#115;&#107;" data-ep-b="&#114;"><sp
 an data-ep-b="&#110;&#103;&#101;&#46;&#102;" data-ep-a="&#105;&#46;&#103;&#
 101;&#114;"><span data-ep-a="&#97;r&#100;m&#101;" data-ep-b="r&#64;&#111;&#
 114;&#97;"></span></span></span></span><script>RegularLabs.EmailProtector.u
 nCloak("ep_ee0a9892");</script><br />Telecopie : 03 29 60 98 04<br />Teleco
 pie : 03 29 60 98 04<br /><br />DEPART 9H30 EN GEANT<br /><br />Inscription
 s closes, les listes de départ sont visualisables sur ce site<ul type="disc
 "><li>AMVM0931  Slalom Geant <nobr><i>(Coupe de Bronze)</i></nobr> <nobr>U1
 2/U14</nobr> Garçons<br />&nbsp;&nbsp;GPJ     U12 et U14</li><li>AMVF0931  
 Slalom Geant <nobr><i>(Coupe de Bronze)</i></nobr> <nobr>U12/U14</nobr> Fil
 les<br />&nbsp;&nbsp;GPJ     U12 et U14</li></ul> <a href="https://skivosge
 s.net/agenda/export-synchronisation/detailevenement/579/-/gpj-u12-et-u14?tm
 pl=component">Cet évènement a été importé depuis :https://skivosges.net/age
 nda/export-synchronisation/detailevenement/579/-/gpj-u12-et-u14?tmpl=compon
 ent</a>DTSTAMP:20260420T220703
DTSTART;TZID=Europe/Paris:20160320T080000
DTEND;TZID=Europe/Paris:20160320T170000
SEQUENCE:0
TRANSP:OPAQUE
END:VEVENT
END:VCALENDAR