BEGIN:VCALENDAR
VERSION:2.0
PRODID:-//jEvents 2.0 for Joomla//EN
CALSCALE:GREGORIAN
METHOD:PUBLISH
BEGIN:VTIMEZONE
TZID:Europe/Paris
BEGIN:STANDARD
DTSTART:20141206T190000
RDATE:20150329T030000
TZOFFSETFROM:+0200
TZOFFSETTO:+0100
TZNAME:Europe/Paris CET
END:STANDARD
BEGIN:STANDARD
DTSTART:20151025T020000
RDATE:20160327T030000
TZOFFSETFROM:+0200
TZOFFSETTO:+0100
TZNAME:Europe/Paris CET
END:STANDARD
BEGIN:STANDARD
DTSTART:20161030T020000
RDATE:20170326T030000
TZOFFSETFROM:+0200
TZOFFSETTO:+0100
TZNAME:Europe/Paris CET
END:STANDARD
BEGIN:STANDARD
DTSTART:20171029T020000
RDATE:20180325T030000
TZOFFSETFROM:+0200
TZOFFSETTO:+0100
TZNAME:Europe/Paris CET
END:STANDARD
BEGIN:STANDARD
DTSTART:20181028T020000
RDATE:20190331T030000
TZOFFSETFROM:+0200
TZOFFSETTO:+0100
TZNAME:Europe/Paris CET
END:STANDARD
BEGIN:STANDARD
DTSTART:20191027T020000
RDATE:20200329T030000
TZOFFSETFROM:+0200
TZOFFSETTO:+0100
TZNAME:Europe/Paris CET
END:STANDARD
BEGIN:STANDARD
DTSTART:20201025T020000
RDATE:20210328T030000
TZOFFSETFROM:+0200
TZOFFSETTO:+0100
TZNAME:Europe/Paris CET
END:STANDARD
BEGIN:STANDARD
DTSTART:20211031T020000
RDATE:20220327T030000
TZOFFSETFROM:+0200
TZOFFSETTO:+0100
TZNAME:Europe/Paris CET
END:STANDARD
BEGIN:STANDARD
DTSTART:20221030T020000
RDATE:20230326T030000
TZOFFSETFROM:+0200
TZOFFSETTO:+0100
TZNAME:Europe/Paris CET
END:STANDARD
BEGIN:STANDARD
DTSTART:20231029T020000
RDATE:20240331T030000
TZOFFSETFROM:+0200
TZOFFSETTO:+0100
TZNAME:Europe/Paris CET
END:STANDARD
BEGIN:STANDARD
DTSTART:20241027T020000
RDATE:20250330T030000
TZOFFSETFROM:+0200
TZOFFSETTO:+0100
TZNAME:Europe/Paris CET
END:STANDARD
BEGIN:STANDARD
DTSTART:20251026T020000
RDATE:20260329T030000
TZOFFSETFROM:+0200
TZOFFSETTO:+0100
TZNAME:Europe/Paris CET
END:STANDARD
BEGIN:STANDARD
DTSTART:20261025T020000
RDATE:20270328T030000
TZOFFSETFROM:+0200
TZOFFSETTO:+0100
TZNAME:Europe/Paris CET
END:STANDARD
BEGIN:DAYLIGHT
DTSTART:20150329T030000
RDATE:20151025T020000
TZOFFSETFROM:+0100
TZOFFSETTO:+0200
TZNAME:Europe/Paris CEST
END:DAYLIGHT
BEGIN:DAYLIGHT
DTSTART:20160327T030000
RDATE:20161030T020000
TZOFFSETFROM:+0100
TZOFFSETTO:+0200
TZNAME:Europe/Paris CEST
END:DAYLIGHT
BEGIN:DAYLIGHT
DTSTART:20170326T030000
RDATE:20171029T020000
TZOFFSETFROM:+0100
TZOFFSETTO:+0200
TZNAME:Europe/Paris CEST
END:DAYLIGHT
BEGIN:DAYLIGHT
DTSTART:20180325T030000
RDATE:20181028T020000
TZOFFSETFROM:+0100
TZOFFSETTO:+0200
TZNAME:Europe/Paris CEST
END:DAYLIGHT
BEGIN:DAYLIGHT
DTSTART:20190331T030000
RDATE:20191027T020000
TZOFFSETFROM:+0100
TZOFFSETTO:+0200
TZNAME:Europe/Paris CEST
END:DAYLIGHT
BEGIN:DAYLIGHT
DTSTART:20200329T030000
RDATE:20201025T020000
TZOFFSETFROM:+0100
TZOFFSETTO:+0200
TZNAME:Europe/Paris CEST
END:DAYLIGHT
BEGIN:DAYLIGHT
DTSTART:20210328T030000
RDATE:20211031T020000
TZOFFSETFROM:+0100
TZOFFSETTO:+0200
TZNAME:Europe/Paris CEST
END:DAYLIGHT
BEGIN:DAYLIGHT
DTSTART:20220327T030000
RDATE:20221030T020000
TZOFFSETFROM:+0100
TZOFFSETTO:+0200
TZNAME:Europe/Paris CEST
END:DAYLIGHT
BEGIN:DAYLIGHT
DTSTART:20230326T030000
RDATE:20231029T020000
TZOFFSETFROM:+0100
TZOFFSETTO:+0200
TZNAME:Europe/Paris CEST
END:DAYLIGHT
BEGIN:DAYLIGHT
DTSTART:20240331T030000
RDATE:20241027T020000
TZOFFSETFROM:+0100
TZOFFSETTO:+0200
TZNAME:Europe/Paris CEST
END:DAYLIGHT
BEGIN:DAYLIGHT
DTSTART:20250330T030000
RDATE:20251026T020000
TZOFFSETFROM:+0100
TZOFFSETTO:+0200
TZNAME:Europe/Paris CEST
END:DAYLIGHT
BEGIN:DAYLIGHT
DTSTART:20260329T030000
RDATE:20261025T020000
TZOFFSETFROM:+0100
TZOFFSETTO:+0200
TZNAME:Europe/Paris CEST
END:DAYLIGHT
END:VTIMEZONE
BEGIN:VEVENT
UID:eeb454791c82f0da3d2859b80699188a
CATEGORIES:Formation Officiels - Chronos - Gestionnaires
CREATED:20151125T122601
SUMMARY:Gérardmer : Formation/Recyclage Gestionnaire Nordique
LOCATION:Gérardmer / Maison de la Montagne
URL;VALUE=URI:https://skivosges.net/agenda/export-synchronisation/detailevenement/594/-/g
 erardmer-formation-recyclage-gestionnaire-nordique?tmpl=component
DESCRIPTION:<p>Session de formation et de recyclage pour les Gestionnaires Informatique
 s de Compétitions Nordiques.</p><p>Dans cette session, la plupart des point
 s de base nécessaires à la gestion d'un épreuve sont repris.</p><p>Quelques
  points particuliers à l'attention des plus expérimentés seront approfondit
 .</p><p>Le repas pris sur place sera à régler au restaurateur.</p><p><a hre
 f="index.php?option=com_content&view=article&id=5294:formation-gestionnaire
 s-competitions-decembre-2015&catid=8:formation-officiels&Itemid=1406" targe
 t="_blank">Voir la circulaire d'information...</a></p> <a href="https://ski
 vosges.net/agenda/export-synchronisation/detailevenement/594/-/gerardmer-fo
 rmation-recyclage-gestionnaire-nordique?tmpl=component">Cet évènement a été
  importé depuis :https://skivosges.net/agenda/export-synchronisation/detail
 evenement/594/-/gerardmer-formation-recyclage-gestionnaire-nordique?tmpl=co
 mponent</a>
X-ALT-DESC;FMTTYPE=text/html:<p>Session de formation et de recyclage pour les Gestionnaires Informatique
 s de Compétitions Nordiques.</p><p>Dans cette session, la plupart des point
 s de base nécessaires à la gestion d'un épreuve sont repris.</p><p>Quelques
  points particuliers à l'attention des plus expérimentés seront approfondit
 .</p><p>Le repas pris sur place sera à régler au restaurateur.</p><p><a hre
 f="https://skivosges.net/index.php?option=com_content&view=article&id=5294:
 formation-gestionnaires-competitions-decembre-2015&catid=8:formation-offici
 els&Itemid=1406" target="_blank">Voir la circulaire d'information...</a></p
 > <a href="https://skivosges.net/agenda/export-synchronisation/detailevenem
 ent/594/-/gerardmer-formation-recyclage-gestionnaire-nordique?tmpl=componen
 t">Cet évènement a été importé depuis :https://skivosges.net/agenda/export-
 synchronisation/detailevenement/594/-/gerardmer-formation-recyclage-gestion
 naire-nordique?tmpl=component</a>DTSTAMP:20260420T221525
DTSTART;TZID=Europe/Paris:20151207T190000
SEQUENCE:0
TRANSP:OPAQUE
END:VEVENT
END:VCALENDAR