BEGIN:VCALENDAR
VERSION:2.0
PRODID:-//jEvents 2.0 for Joomla//EN
CALSCALE:GREGORIAN
METHOD:PUBLISH
BEGIN:VTIMEZONE
TZID:Europe/Paris
BEGIN:STANDARD
DTSTART:20141213T190000
RDATE:20150329T030000
TZOFFSETFROM:+0200
TZOFFSETTO:+0100
TZNAME:Europe/Paris CET
END:STANDARD
BEGIN:STANDARD
DTSTART:20151025T020000
RDATE:20160327T030000
TZOFFSETFROM:+0200
TZOFFSETTO:+0100
TZNAME:Europe/Paris CET
END:STANDARD
BEGIN:STANDARD
DTSTART:20161030T020000
RDATE:20170326T030000
TZOFFSETFROM:+0200
TZOFFSETTO:+0100
TZNAME:Europe/Paris CET
END:STANDARD
BEGIN:STANDARD
DTSTART:20171029T020000
RDATE:20180325T030000
TZOFFSETFROM:+0200
TZOFFSETTO:+0100
TZNAME:Europe/Paris CET
END:STANDARD
BEGIN:STANDARD
DTSTART:20181028T020000
RDATE:20190331T030000
TZOFFSETFROM:+0200
TZOFFSETTO:+0100
TZNAME:Europe/Paris CET
END:STANDARD
BEGIN:STANDARD
DTSTART:20191027T020000
RDATE:20200329T030000
TZOFFSETFROM:+0200
TZOFFSETTO:+0100
TZNAME:Europe/Paris CET
END:STANDARD
BEGIN:STANDARD
DTSTART:20201025T020000
RDATE:20210328T030000
TZOFFSETFROM:+0200
TZOFFSETTO:+0100
TZNAME:Europe/Paris CET
END:STANDARD
BEGIN:STANDARD
DTSTART:20211031T020000
RDATE:20220327T030000
TZOFFSETFROM:+0200
TZOFFSETTO:+0100
TZNAME:Europe/Paris CET
END:STANDARD
BEGIN:STANDARD
DTSTART:20221030T020000
RDATE:20230326T030000
TZOFFSETFROM:+0200
TZOFFSETTO:+0100
TZNAME:Europe/Paris CET
END:STANDARD
BEGIN:STANDARD
DTSTART:20231029T020000
RDATE:20240331T030000
TZOFFSETFROM:+0200
TZOFFSETTO:+0100
TZNAME:Europe/Paris CET
END:STANDARD
BEGIN:STANDARD
DTSTART:20241027T020000
RDATE:20250330T030000
TZOFFSETFROM:+0200
TZOFFSETTO:+0100
TZNAME:Europe/Paris CET
END:STANDARD
BEGIN:STANDARD
DTSTART:20251026T020000
RDATE:20260329T030000
TZOFFSETFROM:+0200
TZOFFSETTO:+0100
TZNAME:Europe/Paris CET
END:STANDARD
BEGIN:STANDARD
DTSTART:20261025T020000
RDATE:20270328T030000
TZOFFSETFROM:+0200
TZOFFSETTO:+0100
TZNAME:Europe/Paris CET
END:STANDARD
BEGIN:DAYLIGHT
DTSTART:20150329T030000
RDATE:20151025T020000
TZOFFSETFROM:+0100
TZOFFSETTO:+0200
TZNAME:Europe/Paris CEST
END:DAYLIGHT
BEGIN:DAYLIGHT
DTSTART:20160327T030000
RDATE:20161030T020000
TZOFFSETFROM:+0100
TZOFFSETTO:+0200
TZNAME:Europe/Paris CEST
END:DAYLIGHT
BEGIN:DAYLIGHT
DTSTART:20170326T030000
RDATE:20171029T020000
TZOFFSETFROM:+0100
TZOFFSETTO:+0200
TZNAME:Europe/Paris CEST
END:DAYLIGHT
BEGIN:DAYLIGHT
DTSTART:20180325T030000
RDATE:20181028T020000
TZOFFSETFROM:+0100
TZOFFSETTO:+0200
TZNAME:Europe/Paris CEST
END:DAYLIGHT
BEGIN:DAYLIGHT
DTSTART:20190331T030000
RDATE:20191027T020000
TZOFFSETFROM:+0100
TZOFFSETTO:+0200
TZNAME:Europe/Paris CEST
END:DAYLIGHT
BEGIN:DAYLIGHT
DTSTART:20200329T030000
RDATE:20201025T020000
TZOFFSETFROM:+0100
TZOFFSETTO:+0200
TZNAME:Europe/Paris CEST
END:DAYLIGHT
BEGIN:DAYLIGHT
DTSTART:20210328T030000
RDATE:20211031T020000
TZOFFSETFROM:+0100
TZOFFSETTO:+0200
TZNAME:Europe/Paris CEST
END:DAYLIGHT
BEGIN:DAYLIGHT
DTSTART:20220327T030000
RDATE:20221030T020000
TZOFFSETFROM:+0100
TZOFFSETTO:+0200
TZNAME:Europe/Paris CEST
END:DAYLIGHT
BEGIN:DAYLIGHT
DTSTART:20230326T030000
RDATE:20231029T020000
TZOFFSETFROM:+0100
TZOFFSETTO:+0200
TZNAME:Europe/Paris CEST
END:DAYLIGHT
BEGIN:DAYLIGHT
DTSTART:20240331T030000
RDATE:20241027T020000
TZOFFSETFROM:+0100
TZOFFSETTO:+0200
TZNAME:Europe/Paris CEST
END:DAYLIGHT
BEGIN:DAYLIGHT
DTSTART:20250330T030000
RDATE:20251026T020000
TZOFFSETFROM:+0100
TZOFFSETTO:+0200
TZNAME:Europe/Paris CEST
END:DAYLIGHT
BEGIN:DAYLIGHT
DTSTART:20260329T030000
RDATE:20261025T020000
TZOFFSETFROM:+0100
TZOFFSETTO:+0200
TZNAME:Europe/Paris CEST
END:DAYLIGHT
END:VTIMEZONE
BEGIN:VEVENT
UID:248410d9040a9974ec783e06ae812a26
CATEGORIES:Formation Officiels - Chronos - Gestionnaires
CREATED:20151125T132945
SUMMARY:Formation / Recyclage Juge de Compétition Biathlon à Molsheim
LOCATION:Molsheim (67) - Maison Multi-Associative
URL;VALUE=URI:https://skivosges.net/agenda/export-synchronisation/detailevenement/596/-/f
 ormation-recyclage-juge-de-competition-biathlon-a-molsheim?tmpl=component
DESCRIPTION:<p>Session de formation initiale ou de recyclage Juges de Compétition Biath
 lon.</p><p>La formation sera dispensée par Christophe Vassallo (Membre du B
 ureau Technique Fédéral / Responsable Développement)</p><p>Le nombre de pla
 ces étant limité, en cas d’effectif trop important, priorité sera donnée au
 x organisateurs d'épreuve de biathlon, et aux officiels actifs en recyclage
 .</p><p>Inscriptions et contact :</p><p><a><!-- Cette adresse électronique 
 est protégée contre les robots spammeurs. --><span class="cloaked_email ep_
 b7a816a3"><span data-ep-a="&#106;ean&#45;&#109;" data-ep-b="&#108;&#46;f&#1
 14;"><span data-ep-b="h&#111;tma&#105;" data-ep-a="a&#114;i&#101;&#46;&#112
 ;"><span data-ep-a="e&#116;&#105;&#116;de" data-ep-b="&#109;&#97;&#110;g&#1
 01;&#64;"></span></span></span></span><script>RegularLabs.EmailProtector.un
 Cloak("ep_b7a816a3");</script></a></p><p><a><!-- Cette adresse électronique
  est protégée contre les robots spammeurs. --><span class="cloaked_email ep
 _a23d768d"><span data-ep-a="&#106;&#45;&#112;&#104;" data-ep-b="r"><span da
 ta-ep-a="&#46;&#104;&#111;&#108;" data-ep-b="&#103;&#101;.&#102;"><span dat
 a-ep-b="o&#114;&#97;&#110;" data-ep-a="&#119;&#101;&#103;&#64;"></span></sp
 an></span></span><script>RegularLabs.EmailProtector.unCloak("ep_a23d768d");
 </script></a></p> <a href="https://skivosges.net/agenda/export-synchronisat
 ion/detailevenement/596/-/formation-recyclage-juge-de-competition-biathlon-
 a-molsheim?tmpl=component">Cet évènement a été importé depuis :https://skiv
 osges.net/agenda/export-synchronisation/detailevenement/596/-/formation-rec
 yclage-juge-de-competition-biathlon-a-molsheim?tmpl=component</a>CONTACT:RegularLabs.EmailProtector.unCloak("ep_40ae3e3c");
DTSTAMP:20260420T220910
DTSTART;TZID=Europe/Paris:20151214T190000
DTEND;TZID=Europe/Paris:20151214T233000
SEQUENCE:0
TRANSP:OPAQUE
END:VEVENT
END:VCALENDAR