BEGIN:VCALENDAR
VERSION:2.0
PRODID:-//jEvents 2.0 for Joomla//EN
CALSCALE:GREGORIAN
METHOD:PUBLISH
BEGIN:VTIMEZONE
TZID:Europe/Paris
BEGIN:STANDARD
DTSTART:20141218T080000
RDATE:20150329T030000
TZOFFSETFROM:+0200
TZOFFSETTO:+0100
TZNAME:Europe/Paris CET
END:STANDARD
BEGIN:STANDARD
DTSTART:20151025T020000
RDATE:20160327T030000
TZOFFSETFROM:+0200
TZOFFSETTO:+0100
TZNAME:Europe/Paris CET
END:STANDARD
BEGIN:STANDARD
DTSTART:20161030T020000
RDATE:20170326T030000
TZOFFSETFROM:+0200
TZOFFSETTO:+0100
TZNAME:Europe/Paris CET
END:STANDARD
BEGIN:STANDARD
DTSTART:20171029T020000
RDATE:20180325T030000
TZOFFSETFROM:+0200
TZOFFSETTO:+0100
TZNAME:Europe/Paris CET
END:STANDARD
BEGIN:STANDARD
DTSTART:20181028T020000
RDATE:20190331T030000
TZOFFSETFROM:+0200
TZOFFSETTO:+0100
TZNAME:Europe/Paris CET
END:STANDARD
BEGIN:STANDARD
DTSTART:20191027T020000
RDATE:20200329T030000
TZOFFSETFROM:+0200
TZOFFSETTO:+0100
TZNAME:Europe/Paris CET
END:STANDARD
BEGIN:STANDARD
DTSTART:20201025T020000
RDATE:20210328T030000
TZOFFSETFROM:+0200
TZOFFSETTO:+0100
TZNAME:Europe/Paris CET
END:STANDARD
BEGIN:STANDARD
DTSTART:20211031T020000
RDATE:20220327T030000
TZOFFSETFROM:+0200
TZOFFSETTO:+0100
TZNAME:Europe/Paris CET
END:STANDARD
BEGIN:STANDARD
DTSTART:20221030T020000
RDATE:20230326T030000
TZOFFSETFROM:+0200
TZOFFSETTO:+0100
TZNAME:Europe/Paris CET
END:STANDARD
BEGIN:STANDARD
DTSTART:20231029T020000
RDATE:20240331T030000
TZOFFSETFROM:+0200
TZOFFSETTO:+0100
TZNAME:Europe/Paris CET
END:STANDARD
BEGIN:STANDARD
DTSTART:20241027T020000
RDATE:20250330T030000
TZOFFSETFROM:+0200
TZOFFSETTO:+0100
TZNAME:Europe/Paris CET
END:STANDARD
BEGIN:STANDARD
DTSTART:20251026T020000
RDATE:20260329T030000
TZOFFSETFROM:+0200
TZOFFSETTO:+0100
TZNAME:Europe/Paris CET
END:STANDARD
BEGIN:STANDARD
DTSTART:20261025T020000
RDATE:20270328T030000
TZOFFSETFROM:+0200
TZOFFSETTO:+0100
TZNAME:Europe/Paris CET
END:STANDARD
BEGIN:DAYLIGHT
DTSTART:20150329T030000
RDATE:20151025T020000
TZOFFSETFROM:+0100
TZOFFSETTO:+0200
TZNAME:Europe/Paris CEST
END:DAYLIGHT
BEGIN:DAYLIGHT
DTSTART:20160327T030000
RDATE:20161030T020000
TZOFFSETFROM:+0100
TZOFFSETTO:+0200
TZNAME:Europe/Paris CEST
END:DAYLIGHT
BEGIN:DAYLIGHT
DTSTART:20170326T030000
RDATE:20171029T020000
TZOFFSETFROM:+0100
TZOFFSETTO:+0200
TZNAME:Europe/Paris CEST
END:DAYLIGHT
BEGIN:DAYLIGHT
DTSTART:20180325T030000
RDATE:20181028T020000
TZOFFSETFROM:+0100
TZOFFSETTO:+0200
TZNAME:Europe/Paris CEST
END:DAYLIGHT
BEGIN:DAYLIGHT
DTSTART:20190331T030000
RDATE:20191027T020000
TZOFFSETFROM:+0100
TZOFFSETTO:+0200
TZNAME:Europe/Paris CEST
END:DAYLIGHT
BEGIN:DAYLIGHT
DTSTART:20200329T030000
RDATE:20201025T020000
TZOFFSETFROM:+0100
TZOFFSETTO:+0200
TZNAME:Europe/Paris CEST
END:DAYLIGHT
BEGIN:DAYLIGHT
DTSTART:20210328T030000
RDATE:20211031T020000
TZOFFSETFROM:+0100
TZOFFSETTO:+0200
TZNAME:Europe/Paris CEST
END:DAYLIGHT
BEGIN:DAYLIGHT
DTSTART:20220327T030000
RDATE:20221030T020000
TZOFFSETFROM:+0100
TZOFFSETTO:+0200
TZNAME:Europe/Paris CEST
END:DAYLIGHT
BEGIN:DAYLIGHT
DTSTART:20230326T030000
RDATE:20231029T020000
TZOFFSETFROM:+0100
TZOFFSETTO:+0200
TZNAME:Europe/Paris CEST
END:DAYLIGHT
BEGIN:DAYLIGHT
DTSTART:20240331T030000
RDATE:20241027T020000
TZOFFSETFROM:+0100
TZOFFSETTO:+0200
TZNAME:Europe/Paris CEST
END:DAYLIGHT
BEGIN:DAYLIGHT
DTSTART:20250330T030000
RDATE:20251026T020000
TZOFFSETFROM:+0100
TZOFFSETTO:+0200
TZNAME:Europe/Paris CEST
END:DAYLIGHT
BEGIN:DAYLIGHT
DTSTART:20260329T030000
RDATE:20261025T020000
TZOFFSETFROM:+0100
TZOFFSETTO:+0200
TZNAME:Europe/Paris CEST
END:DAYLIGHT
END:VTIMEZONE
BEGIN:VEVENT
UID:96d7d6b8bf436de750f4da235752ced8
CATEGORIES:Compétition Ski de Fond
CREATED:20151215T232851
SUMMARY:Grand Prix de La Bresse   Crédit Mutuel n°2 BigMat
URL;VALUE=URI:https://skivosges.net/agenda/export-synchronisation/detailevenement/599/-/g
 rand-prix-de-la-bresse-credit-mutuel-n-2-bigmat?tmpl=component
DESCRIPTION:Grand Prix de La Bresse   Crédit Mutuel n°2 BigMat\n\nLieu : LA BRESSE LISP
 ACH\nPiste : Tour des Roches\nOrganisateur : LA BRESSAUDE SECTION SKI (1402
 4 LA BRESSAUDE SECTION SKI)\nTelecopie : 06.08.69.23.57\n\nInscriptions clo
 ses, tirage des dossards en cours\n - FMVF0021  Depart Individuel U14 (Mini
 me) Filles\n  Grand Prix de La Bresse   Crédit Mutuel n°2 BigMat\n - FMVF00
 22  Depart Individuel U16 (Cadet) Filles\n  Grand Prix de La Bresse   Crédi
 t Mutuel n°2 BigMat\n - FMVF0023  Depart Individuel Dames\n  Grand Prix de 
 La Bresse   Crédit Mutuel n°2 BigMat\n - FMVF0024  Depart Individuel Senior
  Dames\n  Grand Prix de La Bresse   Crédit Mutuel n°2 BigMat\n - FMVM0021  
 Depart Individuel U14 (Minime) Garçons\n  Grand Prix de La Bresse   Crédit 
 Mutuel n°2 BigMat\n - FMVM0022  Depart Individuel U16 (Cadet) Garçons\n  Gr
 and Prix de La Bresse   Crédit Mutuel n°2 BigMat\n - FMVM0023  Depart Indiv
 iduel Hommes\n  Grand Prix de La Bresse   Crédit Mutuel n°2 BigMat\n - FMVM
 0024  Depart Individuel Senior Hommes\n  Grand Prix de La Bresse   Crédit M
 utuel n°2 BigMat Cet évènement a été importé depuis :https://skivosges.net/
 agenda/export-synchronisation/detailevenement/599/-/grand-prix-de-la-bresse
 -credit-mutuel-n-2-bigmat?tmpl=component (https://skivosges.net/agenda/expo
 rt-synchronisation/detailevenement/599/-/grand-prix-de-la-bresse-credit-mut
 uel-n-2-bigmat?tmpl=component)
X-ALT-DESC;FMTTYPE=text/html:<strong>Grand Prix de La Bresse   Crédit Mutuel n°2 BigMat</strong><br /><b
 r />Lieu : LA BRESSE LISPACH<br />Piste : Tour des Roches<br />Organisateur
  : LA BRESSAUDE SECTION SKI <small>(14024 LA BRESSAUDE SECTION SKI)</small>
 <br />Telecopie : 06.08.69.23.57<br /><br />Inscriptions closes, tirage des
  dossards en cours<ul type="disc"><li>FMVF0021  Depart Individuel <nobr>U14
  (Minime)</nobr> Filles<br />&nbsp;&nbsp;Grand Prix de La Bresse   Crédit M
 utuel n°2 BigMat</li><li>FMVF0022  Depart Individuel <nobr>U16 (Cadet)</nob
 r> Filles<br />&nbsp;&nbsp;Grand Prix de La Bresse   Crédit Mutuel n°2 BigM
 at</li><li>FMVF0023  Depart Individuel Dames<br />&nbsp;&nbsp;Grand Prix de
  La Bresse   Crédit Mutuel n°2 BigMat</li><li>FMVF0024  Depart Individuel <
 nobr>Senior</nobr> Dames<br />&nbsp;&nbsp;Grand Prix de La Bresse   Crédit 
 Mutuel n°2 BigMat</li><li>FMVM0021  Depart Individuel <nobr>U14 (Minime)</n
 obr> Garçons<br />&nbsp;&nbsp;Grand Prix de La Bresse   Crédit Mutuel n°2 B
 igMat</li><li>FMVM0022  Depart Individuel <nobr>U16 (Cadet)</nobr> Garçons<
 br />&nbsp;&nbsp;Grand Prix de La Bresse   Crédit Mutuel n°2 BigMat</li><li
 >FMVM0023  Depart Individuel Hommes<br />&nbsp;&nbsp;Grand Prix de La Bress
 e   Crédit Mutuel n°2 BigMat</li><li>FMVM0024  Depart Individuel <nobr>Seni
 or</nobr> Hommes<br />&nbsp;&nbsp;Grand Prix de La Bresse   Crédit Mutuel n
 °2 BigMat</li></ul> <a href="https://skivosges.net/agenda/export-synchronis
 ation/detailevenement/599/-/grand-prix-de-la-bresse-credit-mutuel-n-2-bigma
 t?tmpl=component">Cet évènement a été importé depuis :https://skivosges.net
 /agenda/export-synchronisation/detailevenement/599/-/grand-prix-de-la-bress
 e-credit-mutuel-n-2-bigmat?tmpl=component</a>DTSTAMP:20260421T014332
DTSTART;TZID=Europe/Paris:20151219T080000
DTEND;TZID=Europe/Paris:20151219T170000
SEQUENCE:0
TRANSP:OPAQUE
END:VEVENT
END:VCALENDAR