BEGIN:VCALENDAR
VERSION:2.0
PRODID:-//jEvents 2.0 for Joomla//EN
CALSCALE:GREGORIAN
METHOD:PUBLISH
BEGIN:VTIMEZONE
TZID:Europe/Paris
BEGIN:STANDARD
DTSTART:20150224T080000
RDATE:20150329T030000
TZOFFSETFROM:+0200
TZOFFSETTO:+0100
TZNAME:Europe/Paris CET
END:STANDARD
BEGIN:STANDARD
DTSTART:20151025T020000
RDATE:20160327T030000
TZOFFSETFROM:+0200
TZOFFSETTO:+0100
TZNAME:Europe/Paris CET
END:STANDARD
BEGIN:STANDARD
DTSTART:20161030T020000
RDATE:20170326T030000
TZOFFSETFROM:+0200
TZOFFSETTO:+0100
TZNAME:Europe/Paris CET
END:STANDARD
BEGIN:STANDARD
DTSTART:20171029T020000
RDATE:20180325T030000
TZOFFSETFROM:+0200
TZOFFSETTO:+0100
TZNAME:Europe/Paris CET
END:STANDARD
BEGIN:STANDARD
DTSTART:20181028T020000
RDATE:20190331T030000
TZOFFSETFROM:+0200
TZOFFSETTO:+0100
TZNAME:Europe/Paris CET
END:STANDARD
BEGIN:STANDARD
DTSTART:20191027T020000
RDATE:20200329T030000
TZOFFSETFROM:+0200
TZOFFSETTO:+0100
TZNAME:Europe/Paris CET
END:STANDARD
BEGIN:STANDARD
DTSTART:20201025T020000
RDATE:20210328T030000
TZOFFSETFROM:+0200
TZOFFSETTO:+0100
TZNAME:Europe/Paris CET
END:STANDARD
BEGIN:STANDARD
DTSTART:20211031T020000
RDATE:20220327T030000
TZOFFSETFROM:+0200
TZOFFSETTO:+0100
TZNAME:Europe/Paris CET
END:STANDARD
BEGIN:STANDARD
DTSTART:20221030T020000
RDATE:20230326T030000
TZOFFSETFROM:+0200
TZOFFSETTO:+0100
TZNAME:Europe/Paris CET
END:STANDARD
BEGIN:STANDARD
DTSTART:20231029T020000
RDATE:20240331T030000
TZOFFSETFROM:+0200
TZOFFSETTO:+0100
TZNAME:Europe/Paris CET
END:STANDARD
BEGIN:STANDARD
DTSTART:20241027T020000
RDATE:20250330T030000
TZOFFSETFROM:+0200
TZOFFSETTO:+0100
TZNAME:Europe/Paris CET
END:STANDARD
BEGIN:STANDARD
DTSTART:20251026T020000
RDATE:20260329T030000
TZOFFSETFROM:+0200
TZOFFSETTO:+0100
TZNAME:Europe/Paris CET
END:STANDARD
BEGIN:STANDARD
DTSTART:20261025T020000
RDATE:20270328T030000
TZOFFSETFROM:+0200
TZOFFSETTO:+0100
TZNAME:Europe/Paris CET
END:STANDARD
BEGIN:DAYLIGHT
DTSTART:20150329T030000
RDATE:20151025T020000
TZOFFSETFROM:+0100
TZOFFSETTO:+0200
TZNAME:Europe/Paris CEST
END:DAYLIGHT
BEGIN:DAYLIGHT
DTSTART:20160327T030000
RDATE:20161030T020000
TZOFFSETFROM:+0100
TZOFFSETTO:+0200
TZNAME:Europe/Paris CEST
END:DAYLIGHT
BEGIN:DAYLIGHT
DTSTART:20170326T030000
RDATE:20171029T020000
TZOFFSETFROM:+0100
TZOFFSETTO:+0200
TZNAME:Europe/Paris CEST
END:DAYLIGHT
BEGIN:DAYLIGHT
DTSTART:20180325T030000
RDATE:20181028T020000
TZOFFSETFROM:+0100
TZOFFSETTO:+0200
TZNAME:Europe/Paris CEST
END:DAYLIGHT
BEGIN:DAYLIGHT
DTSTART:20190331T030000
RDATE:20191027T020000
TZOFFSETFROM:+0100
TZOFFSETTO:+0200
TZNAME:Europe/Paris CEST
END:DAYLIGHT
BEGIN:DAYLIGHT
DTSTART:20200329T030000
RDATE:20201025T020000
TZOFFSETFROM:+0100
TZOFFSETTO:+0200
TZNAME:Europe/Paris CEST
END:DAYLIGHT
BEGIN:DAYLIGHT
DTSTART:20210328T030000
RDATE:20211031T020000
TZOFFSETFROM:+0100
TZOFFSETTO:+0200
TZNAME:Europe/Paris CEST
END:DAYLIGHT
BEGIN:DAYLIGHT
DTSTART:20220327T030000
RDATE:20221030T020000
TZOFFSETFROM:+0100
TZOFFSETTO:+0200
TZNAME:Europe/Paris CEST
END:DAYLIGHT
BEGIN:DAYLIGHT
DTSTART:20230326T030000
RDATE:20231029T020000
TZOFFSETFROM:+0100
TZOFFSETTO:+0200
TZNAME:Europe/Paris CEST
END:DAYLIGHT
BEGIN:DAYLIGHT
DTSTART:20240331T030000
RDATE:20241027T020000
TZOFFSETFROM:+0100
TZOFFSETTO:+0200
TZNAME:Europe/Paris CEST
END:DAYLIGHT
BEGIN:DAYLIGHT
DTSTART:20250330T030000
RDATE:20251026T020000
TZOFFSETFROM:+0100
TZOFFSETTO:+0200
TZNAME:Europe/Paris CEST
END:DAYLIGHT
BEGIN:DAYLIGHT
DTSTART:20260329T030000
RDATE:20261025T020000
TZOFFSETFROM:+0100
TZOFFSETTO:+0200
TZNAME:Europe/Paris CEST
END:DAYLIGHT
END:VTIMEZONE
BEGIN:VEVENT
UID:7cc5c4defe8f33aa1dce4d0167b086f6
CATEGORIES:Autres Épreuves (alpin)
CREATED:20160113T161543
SUMMARY:Championnat de France U16/U18
URL;VALUE=URI:https://skivosges.net/agenda/export-synchronisation/detailevenement/603/-/c
 hampionnat-de-france-u16-u18?tmpl=component
DESCRIPTION:Championnat de France U16/U18\n\nLieu : LAC BLANC\nOrganisateur : LES AMIS 
 DE LA NATURE MUNSTER (14140 LES AMIS DE LA NATURE MUNSTER)\nEmail : Regular
 Labs.EmailProtector.unCloak("ep_fa780419");\nTelecopie : 03.89.77.38.60\n -
  Le 25/02/2016\nANAF0101  Slalom Geant U16/U18 Dames\n  Championnat de Fran
 ce U16/U18\n - Le 26/02/2016\nANAF0102  Slalom U16/U18 Dames\n  Championnat
  de France U16/U18 Cet évènement a été importé depuis :https://skivosges.ne
 t/agenda/export-synchronisation/detailevenement/603/-/championnat-de-france
 -u16-u18?tmpl=component
X-ALT-DESC;FMTTYPE=text/html:<strong>Championnat de France U16/U18</strong><br /><br />Lieu : LAC BLANC<
 br />Organisateur : LES AMIS DE LA NATURE MUNSTER <small>(14140 LES AMIS DE
  LA NATURE MUNSTER)</small><br />Email : <!-- Cette adresse électronique es
 t protégée contre les robots spammeurs. --><span class="cloaked_email ep_fa
 780419"><span data-ep-a="&#99;am&#112;" data-ep-b="r"><span data-ep-b="&#11
 1;&#111;.&#102;" data-ep-a="&#105;&#110;g&#46;"><span data-ep-b="&#97;&#110
 ;&#97;&#100;" data-ep-a="&#97;n&#64;&#119;"></span></span></span></span><sc
 ript>RegularLabs.EmailProtector.unCloak("ep_fa780419");</script><br />Telec
 opie : 03.89.77.38.60<ul type="disc"><li><nobr>Le 25/02/2016</nobr><br />AN
 AF0101  Slalom Geant <nobr>U16/U18</nobr> Dames<br />&nbsp;&nbsp;Championna
 t de France U16/U18</li><li><nobr>Le 26/02/2016</nobr><br />ANAF0102  Slalo
 m <nobr>U16/U18</nobr> Dames<br />&nbsp;&nbsp;Championnat de France U16/U18
 </li></ul> <a href="https://skivosges.net/agenda/export-synchronisation/det
 ailevenement/603/-/championnat-de-france-u16-u18?tmpl=component">Cet évènem
 ent a été importé depuis :https://skivosges.net/agenda/export-synchronisati
 on/detailevenement/603/-/championnat-de-france-u16-u18?tmpl=component</a>DTSTAMP:20260420T220843
DTSTART;TZID=Europe/Paris:20160225T080000
DTEND;TZID=Europe/Paris:20160226T170000
SEQUENCE:0
TRANSP:OPAQUE
END:VEVENT
END:VCALENDAR