BEGIN:VCALENDAR
VERSION:2.0
PRODID:-//jEvents 2.0 for Joomla//EN
CALSCALE:GREGORIAN
METHOD:PUBLISH
BEGIN:VTIMEZONE
TZID:Europe/Paris
BEGIN:STANDARD
DTSTART:20150122T080000
RDATE:20150329T030000
TZOFFSETFROM:+0200
TZOFFSETTO:+0100
TZNAME:Europe/Paris CET
END:STANDARD
BEGIN:STANDARD
DTSTART:20151025T020000
RDATE:20160327T030000
TZOFFSETFROM:+0200
TZOFFSETTO:+0100
TZNAME:Europe/Paris CET
END:STANDARD
BEGIN:STANDARD
DTSTART:20161030T020000
RDATE:20170326T030000
TZOFFSETFROM:+0200
TZOFFSETTO:+0100
TZNAME:Europe/Paris CET
END:STANDARD
BEGIN:STANDARD
DTSTART:20171029T020000
RDATE:20180325T030000
TZOFFSETFROM:+0200
TZOFFSETTO:+0100
TZNAME:Europe/Paris CET
END:STANDARD
BEGIN:STANDARD
DTSTART:20181028T020000
RDATE:20190331T030000
TZOFFSETFROM:+0200
TZOFFSETTO:+0100
TZNAME:Europe/Paris CET
END:STANDARD
BEGIN:STANDARD
DTSTART:20191027T020000
RDATE:20200329T030000
TZOFFSETFROM:+0200
TZOFFSETTO:+0100
TZNAME:Europe/Paris CET
END:STANDARD
BEGIN:STANDARD
DTSTART:20201025T020000
RDATE:20210328T030000
TZOFFSETFROM:+0200
TZOFFSETTO:+0100
TZNAME:Europe/Paris CET
END:STANDARD
BEGIN:STANDARD
DTSTART:20211031T020000
RDATE:20220327T030000
TZOFFSETFROM:+0200
TZOFFSETTO:+0100
TZNAME:Europe/Paris CET
END:STANDARD
BEGIN:STANDARD
DTSTART:20221030T020000
RDATE:20230326T030000
TZOFFSETFROM:+0200
TZOFFSETTO:+0100
TZNAME:Europe/Paris CET
END:STANDARD
BEGIN:STANDARD
DTSTART:20231029T020000
RDATE:20240331T030000
TZOFFSETFROM:+0200
TZOFFSETTO:+0100
TZNAME:Europe/Paris CET
END:STANDARD
BEGIN:STANDARD
DTSTART:20241027T020000
RDATE:20250330T030000
TZOFFSETFROM:+0200
TZOFFSETTO:+0100
TZNAME:Europe/Paris CET
END:STANDARD
BEGIN:STANDARD
DTSTART:20251026T020000
RDATE:20260329T030000
TZOFFSETFROM:+0200
TZOFFSETTO:+0100
TZNAME:Europe/Paris CET
END:STANDARD
BEGIN:STANDARD
DTSTART:20261025T020000
RDATE:20270328T030000
TZOFFSETFROM:+0200
TZOFFSETTO:+0100
TZNAME:Europe/Paris CET
END:STANDARD
BEGIN:DAYLIGHT
DTSTART:20150329T030000
RDATE:20151025T020000
TZOFFSETFROM:+0100
TZOFFSETTO:+0200
TZNAME:Europe/Paris CEST
END:DAYLIGHT
BEGIN:DAYLIGHT
DTSTART:20160327T030000
RDATE:20161030T020000
TZOFFSETFROM:+0100
TZOFFSETTO:+0200
TZNAME:Europe/Paris CEST
END:DAYLIGHT
BEGIN:DAYLIGHT
DTSTART:20170326T030000
RDATE:20171029T020000
TZOFFSETFROM:+0100
TZOFFSETTO:+0200
TZNAME:Europe/Paris CEST
END:DAYLIGHT
BEGIN:DAYLIGHT
DTSTART:20180325T030000
RDATE:20181028T020000
TZOFFSETFROM:+0100
TZOFFSETTO:+0200
TZNAME:Europe/Paris CEST
END:DAYLIGHT
BEGIN:DAYLIGHT
DTSTART:20190331T030000
RDATE:20191027T020000
TZOFFSETFROM:+0100
TZOFFSETTO:+0200
TZNAME:Europe/Paris CEST
END:DAYLIGHT
BEGIN:DAYLIGHT
DTSTART:20200329T030000
RDATE:20201025T020000
TZOFFSETFROM:+0100
TZOFFSETTO:+0200
TZNAME:Europe/Paris CEST
END:DAYLIGHT
BEGIN:DAYLIGHT
DTSTART:20210328T030000
RDATE:20211031T020000
TZOFFSETFROM:+0100
TZOFFSETTO:+0200
TZNAME:Europe/Paris CEST
END:DAYLIGHT
BEGIN:DAYLIGHT
DTSTART:20220327T030000
RDATE:20221030T020000
TZOFFSETFROM:+0100
TZOFFSETTO:+0200
TZNAME:Europe/Paris CEST
END:DAYLIGHT
BEGIN:DAYLIGHT
DTSTART:20230326T030000
RDATE:20231029T020000
TZOFFSETFROM:+0100
TZOFFSETTO:+0200
TZNAME:Europe/Paris CEST
END:DAYLIGHT
BEGIN:DAYLIGHT
DTSTART:20240331T030000
RDATE:20241027T020000
TZOFFSETFROM:+0100
TZOFFSETTO:+0200
TZNAME:Europe/Paris CEST
END:DAYLIGHT
BEGIN:DAYLIGHT
DTSTART:20250330T030000
RDATE:20251026T020000
TZOFFSETFROM:+0100
TZOFFSETTO:+0200
TZNAME:Europe/Paris CEST
END:DAYLIGHT
BEGIN:DAYLIGHT
DTSTART:20260329T030000
RDATE:20261025T020000
TZOFFSETFROM:+0100
TZOFFSETTO:+0200
TZNAME:Europe/Paris CEST
END:DAYLIGHT
END:VTIMEZONE
BEGIN:VEVENT
UID:c2778af042f8f8134336bf0d64910ffd
CATEGORIES:Circuit Lorraine Jeunes (alpin)
CREATED:20160116T202901
SUMMARY:CLJ  Prix du crédit Agricole - Mémorial Gilles Lemaire
URL;VALUE=URI:https://skivosges.net/agenda/export-synchronisation/detailevenement/605/-/c
 lj-prix-du-credit-agricole-memorial-gilles-lemaire?tmpl=component
DESCRIPTION:<strong>CLJ  Prix du crédit Agricole - Mémorial Gilles Lemaire</strong> <br
  /><i>(Coupe de Lorraine Jeunes)</i><br /><br />Lieu : LA BRESSE<br />Piste
  : Stade de Slalom<br />Organisateur : LA BRESSAUDE SECTION SKI <small>(140
 24 LA BRESSAUDE SECTION SKI)</small><br />Telecopie : 0608855252<br /><br /
 >Premier départ à 10 heures.<br>Attention à l´affluence pour l´accès aux ca
 isses. 20 % Remise sur forfait MATIN sur présentation dossards.<br>Dossards
  à retirer au restaurant.<br>Palmarès sur le front de neige.<br /><br />Ins
 criptions closes, tirage des dossards en cours<ul type="disc"><li>AMVM0111 
  Slalom Geant <nobr><i>(Micro Coupe)</i></nobr> <nobr>U8/U10</nobr> Garçons
 <br />&nbsp;&nbsp;CLA  Prix du crédit Agricole - Mémorial Gilles Lemaire</l
 i><li>AMVM0112  Slalom Geant <nobr><i>(Coupe de Bronze)</i></nobr> <nobr>U1
 2/U14</nobr> Garçons<br />&nbsp;&nbsp;CLA  Prix du crédit Agricole - Mémori
 al Gilles Lemaire</li><li>AMVF0111  Slalom Geant <nobr><i>(Micro Coupe)</i>
 </nobr> <nobr>U8/U10</nobr> Filles<br />&nbsp;&nbsp;CLA  Prix du crédit Agr
 icole - Mémorial Gilles Lemaire</li><li>AMVF0112  Slalom Geant <nobr><i>(Co
 upe de Bronze)</i></nobr> <nobr>U12/U14</nobr> Filles<br />&nbsp;&nbsp;CLA 
  Prix du crédit Agricole - Mémorial Gilles Lemaire</li></ul> <a href="https
 ://skivosges.net/agenda/export-synchronisation/detailevenement/605/-/clj-pr
 ix-du-credit-agricole-memorial-gilles-lemaire?tmpl=component">Cet évènement
  a été importé depuis :https://skivosges.net/agenda/export-synchronisation/
 detailevenement/605/-/clj-prix-du-credit-agricole-memorial-gilles-lemaire?t
 mpl=component</a>DTSTAMP:20260420T221519
DTSTART;TZID=Europe/Paris:20160123T080000
DTEND;TZID=Europe/Paris:20160123T170000
SEQUENCE:0
TRANSP:OPAQUE
END:VEVENT
END:VCALENDAR