BEGIN:VCALENDAR
VERSION:2.0
PRODID:-//jEvents 2.0 for Joomla//EN
CALSCALE:GREGORIAN
METHOD:PUBLISH
BEGIN:VTIMEZONE
TZID:Europe/Paris
BEGIN:STANDARD
DTSTART:20150129T080000
RDATE:20150329T030000
TZOFFSETFROM:+0200
TZOFFSETTO:+0100
TZNAME:Europe/Paris CET
END:STANDARD
BEGIN:STANDARD
DTSTART:20151025T020000
RDATE:20160327T030000
TZOFFSETFROM:+0200
TZOFFSETTO:+0100
TZNAME:Europe/Paris CET
END:STANDARD
BEGIN:STANDARD
DTSTART:20161030T020000
RDATE:20170326T030000
TZOFFSETFROM:+0200
TZOFFSETTO:+0100
TZNAME:Europe/Paris CET
END:STANDARD
BEGIN:STANDARD
DTSTART:20171029T020000
RDATE:20180325T030000
TZOFFSETFROM:+0200
TZOFFSETTO:+0100
TZNAME:Europe/Paris CET
END:STANDARD
BEGIN:STANDARD
DTSTART:20181028T020000
RDATE:20190331T030000
TZOFFSETFROM:+0200
TZOFFSETTO:+0100
TZNAME:Europe/Paris CET
END:STANDARD
BEGIN:STANDARD
DTSTART:20191027T020000
RDATE:20200329T030000
TZOFFSETFROM:+0200
TZOFFSETTO:+0100
TZNAME:Europe/Paris CET
END:STANDARD
BEGIN:STANDARD
DTSTART:20201025T020000
RDATE:20210328T030000
TZOFFSETFROM:+0200
TZOFFSETTO:+0100
TZNAME:Europe/Paris CET
END:STANDARD
BEGIN:STANDARD
DTSTART:20211031T020000
RDATE:20220327T030000
TZOFFSETFROM:+0200
TZOFFSETTO:+0100
TZNAME:Europe/Paris CET
END:STANDARD
BEGIN:STANDARD
DTSTART:20221030T020000
RDATE:20230326T030000
TZOFFSETFROM:+0200
TZOFFSETTO:+0100
TZNAME:Europe/Paris CET
END:STANDARD
BEGIN:STANDARD
DTSTART:20231029T020000
RDATE:20240331T030000
TZOFFSETFROM:+0200
TZOFFSETTO:+0100
TZNAME:Europe/Paris CET
END:STANDARD
BEGIN:STANDARD
DTSTART:20241027T020000
RDATE:20250330T030000
TZOFFSETFROM:+0200
TZOFFSETTO:+0100
TZNAME:Europe/Paris CET
END:STANDARD
BEGIN:STANDARD
DTSTART:20251026T020000
RDATE:20260329T030000
TZOFFSETFROM:+0200
TZOFFSETTO:+0100
TZNAME:Europe/Paris CET
END:STANDARD
BEGIN:STANDARD
DTSTART:20261025T020000
RDATE:20270328T030000
TZOFFSETFROM:+0200
TZOFFSETTO:+0100
TZNAME:Europe/Paris CET
END:STANDARD
BEGIN:DAYLIGHT
DTSTART:20150329T030000
RDATE:20151025T020000
TZOFFSETFROM:+0100
TZOFFSETTO:+0200
TZNAME:Europe/Paris CEST
END:DAYLIGHT
BEGIN:DAYLIGHT
DTSTART:20160327T030000
RDATE:20161030T020000
TZOFFSETFROM:+0100
TZOFFSETTO:+0200
TZNAME:Europe/Paris CEST
END:DAYLIGHT
BEGIN:DAYLIGHT
DTSTART:20170326T030000
RDATE:20171029T020000
TZOFFSETFROM:+0100
TZOFFSETTO:+0200
TZNAME:Europe/Paris CEST
END:DAYLIGHT
BEGIN:DAYLIGHT
DTSTART:20180325T030000
RDATE:20181028T020000
TZOFFSETFROM:+0100
TZOFFSETTO:+0200
TZNAME:Europe/Paris CEST
END:DAYLIGHT
BEGIN:DAYLIGHT
DTSTART:20190331T030000
RDATE:20191027T020000
TZOFFSETFROM:+0100
TZOFFSETTO:+0200
TZNAME:Europe/Paris CEST
END:DAYLIGHT
BEGIN:DAYLIGHT
DTSTART:20200329T030000
RDATE:20201025T020000
TZOFFSETFROM:+0100
TZOFFSETTO:+0200
TZNAME:Europe/Paris CEST
END:DAYLIGHT
BEGIN:DAYLIGHT
DTSTART:20210328T030000
RDATE:20211031T020000
TZOFFSETFROM:+0100
TZOFFSETTO:+0200
TZNAME:Europe/Paris CEST
END:DAYLIGHT
BEGIN:DAYLIGHT
DTSTART:20220327T030000
RDATE:20221030T020000
TZOFFSETFROM:+0100
TZOFFSETTO:+0200
TZNAME:Europe/Paris CEST
END:DAYLIGHT
BEGIN:DAYLIGHT
DTSTART:20230326T030000
RDATE:20231029T020000
TZOFFSETFROM:+0100
TZOFFSETTO:+0200
TZNAME:Europe/Paris CEST
END:DAYLIGHT
BEGIN:DAYLIGHT
DTSTART:20240331T030000
RDATE:20241027T020000
TZOFFSETFROM:+0100
TZOFFSETTO:+0200
TZNAME:Europe/Paris CEST
END:DAYLIGHT
BEGIN:DAYLIGHT
DTSTART:20250330T030000
RDATE:20251026T020000
TZOFFSETFROM:+0100
TZOFFSETTO:+0200
TZNAME:Europe/Paris CEST
END:DAYLIGHT
BEGIN:DAYLIGHT
DTSTART:20260329T030000
RDATE:20261025T020000
TZOFFSETFROM:+0100
TZOFFSETTO:+0200
TZNAME:Europe/Paris CEST
END:DAYLIGHT
END:VTIMEZONE
BEGIN:VEVENT
UID:c3a4410c1cb712a5e2d4200765a4fbed
CATEGORIES:Compétition Ski de Fond
CREATED:20160119T210316
SUMMARY:Nordique des Crêtes - Bigmat
URL;VALUE=URI:https://skivosges.net/agenda/export-synchronisation/detailevenement/607/-/n
 ordique-des-cretes-bigmat?tmpl=component
DESCRIPTION:Nordique des Crêtes - Bigmat\n\nLieu : MARKSTEIN\nOrganisateur : TOURING CL
 UB MULHOUSE (14044 TOURING CLUB MULHOUSE)\nTelecopie : 03 89 59 55 56\n\nin
 scriptions skivosges uniquement pour U14 - U18\nAutres catégories sur www.n
 ordiquedescretes.org\n\nInscriptions closes, tirage des dossards en cours\n
  - FMVF0251  Mass Start (Depart ligne) U14 (Minime) Filles\n  Nordique des 
 Crêtes\n - FMVM0251  Mass Start (Depart ligne) U14 (Minime) Garçons\n  Nord
 ique des Crêtes\n - FMVF0252  Mass Start (Depart ligne) U16 (Cadet) Filles\
 n  Nordique des Crêtes\n - FMVF0253  Mass Start (Depart ligne) U18 a M12 (J
 eune a  Master12) Dames\n  Nordique des Crêtes\n - FMVM0252  Mass Start (De
 part ligne) U16 (Cadet) Garçons\n  Nordique des Crêtes\n - FMVM0253  Mass S
 tart (Depart ligne) U18 a M12 (Jeune a  Master12) Hommes\n  Nordique des Cr
 êtes Cet évènement a été importé depuis :https://skivosges.net/agenda/expor
 t-synchronisation/detailevenement/607/-/nordique-des-cretes-bigmat?tmpl=com
 ponent (https://skivosges.net/agenda/export-synchronisation/detailevenement
 /607/-/nordique-des-cretes-bigmat?tmpl=component)
X-ALT-DESC;FMTTYPE=text/html:<strong>Nordique des Crêtes - Bigmat</strong><br /><br />Lieu : MARKSTEIN<b
 r />Organisateur : TOURING CLUB MULHOUSE <small>(14044 TOURING CLUB MULHOUS
 E)</small><br />Telecopie : 03 89 59 55 56<br /><br />inscriptions skivosge
 s uniquement pour U14 - U18<br>Autres catégories sur www.nordiquedescretes.
 org<br /><br />Inscriptions closes, tirage des dossards en cours<ul type="d
 isc"><li>FMVF0251  Mass Start (Depart ligne) <nobr>U14 (Minime)</nobr> Fill
 es<br />&nbsp;&nbsp;Nordique des Crêtes</li><li>FMVM0251  Mass Start (Depar
 t ligne) <nobr>U14 (Minime)</nobr> Garçons<br />&nbsp;&nbsp;Nordique des Cr
 êtes</li><li>FMVF0252  Mass Start (Depart ligne) <nobr>U16 (Cadet)</nobr> F
 illes<br />&nbsp;&nbsp;Nordique des Crêtes</li><li>FMVF0253  Mass Start (De
 part ligne) <nobr>U18 a M12 (Jeune a  Master12)</nobr> Dames<br />&nbsp;&nb
 sp;Nordique des Crêtes</li><li>FMVM0252  Mass Start (Depart ligne) <nobr>U1
 6 (Cadet)</nobr> Garçons<br />&nbsp;&nbsp;Nordique des Crêtes</li><li>FMVM0
 253  Mass Start (Depart ligne) <nobr>U18 a M12 (Jeune a  Master12)</nobr> H
 ommes<br />&nbsp;&nbsp;Nordique des Crêtes</li></ul> <a href="https://skivo
 sges.net/agenda/export-synchronisation/detailevenement/607/-/nordique-des-c
 retes-bigmat?tmpl=component">Cet évènement a été importé depuis :https://sk
 ivosges.net/agenda/export-synchronisation/detailevenement/607/-/nordique-de
 s-cretes-bigmat?tmpl=component</a>DTSTAMP:20260421T014137
DTSTART;TZID=Europe/Paris:20160130T080000
DTEND;TZID=Europe/Paris:20160130T170000
SEQUENCE:0
TRANSP:OPAQUE
END:VEVENT
END:VCALENDAR