BEGIN:VCALENDAR
VERSION:2.0
PRODID:-//jEvents 2.0 for Joomla//EN
CALSCALE:GREGORIAN
METHOD:PUBLISH
BEGIN:VTIMEZONE
TZID:Europe/Paris
BEGIN:STANDARD
DTSTART:20150130T080000
RDATE:20150329T030000
TZOFFSETFROM:+0200
TZOFFSETTO:+0100
TZNAME:Europe/Paris CET
END:STANDARD
BEGIN:STANDARD
DTSTART:20151025T020000
RDATE:20160327T030000
TZOFFSETFROM:+0200
TZOFFSETTO:+0100
TZNAME:Europe/Paris CET
END:STANDARD
BEGIN:STANDARD
DTSTART:20161030T020000
RDATE:20170326T030000
TZOFFSETFROM:+0200
TZOFFSETTO:+0100
TZNAME:Europe/Paris CET
END:STANDARD
BEGIN:STANDARD
DTSTART:20171029T020000
RDATE:20180325T030000
TZOFFSETFROM:+0200
TZOFFSETTO:+0100
TZNAME:Europe/Paris CET
END:STANDARD
BEGIN:STANDARD
DTSTART:20181028T020000
RDATE:20190331T030000
TZOFFSETFROM:+0200
TZOFFSETTO:+0100
TZNAME:Europe/Paris CET
END:STANDARD
BEGIN:STANDARD
DTSTART:20191027T020000
RDATE:20200329T030000
TZOFFSETFROM:+0200
TZOFFSETTO:+0100
TZNAME:Europe/Paris CET
END:STANDARD
BEGIN:STANDARD
DTSTART:20201025T020000
RDATE:20210328T030000
TZOFFSETFROM:+0200
TZOFFSETTO:+0100
TZNAME:Europe/Paris CET
END:STANDARD
BEGIN:STANDARD
DTSTART:20211031T020000
RDATE:20220327T030000
TZOFFSETFROM:+0200
TZOFFSETTO:+0100
TZNAME:Europe/Paris CET
END:STANDARD
BEGIN:STANDARD
DTSTART:20221030T020000
RDATE:20230326T030000
TZOFFSETFROM:+0200
TZOFFSETTO:+0100
TZNAME:Europe/Paris CET
END:STANDARD
BEGIN:STANDARD
DTSTART:20231029T020000
RDATE:20240331T030000
TZOFFSETFROM:+0200
TZOFFSETTO:+0100
TZNAME:Europe/Paris CET
END:STANDARD
BEGIN:STANDARD
DTSTART:20241027T020000
RDATE:20250330T030000
TZOFFSETFROM:+0200
TZOFFSETTO:+0100
TZNAME:Europe/Paris CET
END:STANDARD
BEGIN:STANDARD
DTSTART:20251026T020000
RDATE:20260329T030000
TZOFFSETFROM:+0200
TZOFFSETTO:+0100
TZNAME:Europe/Paris CET
END:STANDARD
BEGIN:STANDARD
DTSTART:20261025T020000
RDATE:20270328T030000
TZOFFSETFROM:+0200
TZOFFSETTO:+0100
TZNAME:Europe/Paris CET
END:STANDARD
BEGIN:DAYLIGHT
DTSTART:20150329T030000
RDATE:20151025T020000
TZOFFSETFROM:+0100
TZOFFSETTO:+0200
TZNAME:Europe/Paris CEST
END:DAYLIGHT
BEGIN:DAYLIGHT
DTSTART:20160327T030000
RDATE:20161030T020000
TZOFFSETFROM:+0100
TZOFFSETTO:+0200
TZNAME:Europe/Paris CEST
END:DAYLIGHT
BEGIN:DAYLIGHT
DTSTART:20170326T030000
RDATE:20171029T020000
TZOFFSETFROM:+0100
TZOFFSETTO:+0200
TZNAME:Europe/Paris CEST
END:DAYLIGHT
BEGIN:DAYLIGHT
DTSTART:20180325T030000
RDATE:20181028T020000
TZOFFSETFROM:+0100
TZOFFSETTO:+0200
TZNAME:Europe/Paris CEST
END:DAYLIGHT
BEGIN:DAYLIGHT
DTSTART:20190331T030000
RDATE:20191027T020000
TZOFFSETFROM:+0100
TZOFFSETTO:+0200
TZNAME:Europe/Paris CEST
END:DAYLIGHT
BEGIN:DAYLIGHT
DTSTART:20200329T030000
RDATE:20201025T020000
TZOFFSETFROM:+0100
TZOFFSETTO:+0200
TZNAME:Europe/Paris CEST
END:DAYLIGHT
BEGIN:DAYLIGHT
DTSTART:20210328T030000
RDATE:20211031T020000
TZOFFSETFROM:+0100
TZOFFSETTO:+0200
TZNAME:Europe/Paris CEST
END:DAYLIGHT
BEGIN:DAYLIGHT
DTSTART:20220327T030000
RDATE:20221030T020000
TZOFFSETFROM:+0100
TZOFFSETTO:+0200
TZNAME:Europe/Paris CEST
END:DAYLIGHT
BEGIN:DAYLIGHT
DTSTART:20230326T030000
RDATE:20231029T020000
TZOFFSETFROM:+0100
TZOFFSETTO:+0200
TZNAME:Europe/Paris CEST
END:DAYLIGHT
BEGIN:DAYLIGHT
DTSTART:20240331T030000
RDATE:20241027T020000
TZOFFSETFROM:+0100
TZOFFSETTO:+0200
TZNAME:Europe/Paris CEST
END:DAYLIGHT
BEGIN:DAYLIGHT
DTSTART:20250330T030000
RDATE:20251026T020000
TZOFFSETFROM:+0100
TZOFFSETTO:+0200
TZNAME:Europe/Paris CEST
END:DAYLIGHT
BEGIN:DAYLIGHT
DTSTART:20260329T030000
RDATE:20261025T020000
TZOFFSETFROM:+0100
TZOFFSETTO:+0200
TZNAME:Europe/Paris CEST
END:DAYLIGHT
END:VTIMEZONE
BEGIN:VEVENT
UID:868b57ace91de70c9fe416a319420083
CATEGORIES:Circuit Alsace Jeunes (alpin)
CREATED:20160128T195644
SUMMARY:CAJ U8 à U14 Prix de la clinique du ski **REPORTE**
URL;VALUE=URI:https://skivosges.net/agenda/export-synchronisation/detailevenement/613/-/c
 aj-u8-a-u14-prix-de-la-clinique-du-ski-reporte?tmpl=component
DESCRIPTION:<strong>CAJ U8 à U14 Prix de la clinique du ski</strong> <font class="atten
 tion4">(Epreuve reportée, date à determiner)</font> <br /><i>(Coupe d'Alsac
 e Jeunes)</i><br /><br />Lieu : MARKSTEIN<br />Piste : Stade de Slalom<br /
 >Organisateur : SKI CLUB SAUSHEIM <small>(14231 SKI CLUB SAUSHEIM)</small><
 br />Telecopie : 0676974091<br /><br />Attention 2 Manches de géant<br /><b
 r />Inscriptions en cours sur ce site<ul type="disc"><li><nobr>Le 31/01/201
 6  de 00:00:00 à </nobr><br />AMVM0101  Slalom Geant <nobr><i>(Micro Coupe)
 </i></nobr> <nobr>U8/U10</nobr> Garçons<br />&nbsp;&nbsp;CAJ  U8 à U10 / U1
 2 à U14  Prix de la Clinique du Ski/Crédit Agricole</li><li><nobr>Le 31/01/
 2016  de 00:00:00 à </nobr><br />AMVM0102  Slalom Geant <nobr><i>(Coupe de 
 Bronze)</i></nobr> <nobr>U12/U14</nobr> Garçons<br />&nbsp;&nbsp;CAJ  U8 à 
 U10 / U12 à U14  Prix de la Clinique du Ski/Crédit Agricole</li><li><nobr>L
 e 31/01/2016  de 00:00:00 à </nobr><br />AMVF0101  Slalom Geant <nobr><i>(M
 icro Coupe)</i></nobr> <nobr>U8/U10</nobr> Filles<br />&nbsp;&nbsp;CAJ  U8 
 à U10 / U12 à U14  Prix de la Clinique du Ski/Crédit Agricole</li><li><nobr
 >Le 31/01/2016  de 00:00:00 à </nobr><br />AMVF0102  Slalom Geant <nobr><i>
 (Coupe de Bronze)</i></nobr> <nobr>U12/U14</nobr> Filles<br />&nbsp;&nbsp;C
 AJ  U8 à U10 / U12 à U14  Prix de la Clinique du Ski/Crédit Agricole</li></
 ul> <a href="https://skivosges.net/agenda/export-synchronisation/detaileven
 ement/613/-/caj-u8-a-u14-prix-de-la-clinique-du-ski-reporte?tmpl=component"
 >Cet évènement a été importé depuis :https://skivosges.net/agenda/export-sy
 nchronisation/detailevenement/613/-/caj-u8-a-u14-prix-de-la-clinique-du-ski
 -reporte?tmpl=component</a>DTSTAMP:20260420T221300
DTSTART;TZID=Europe/Paris:20160131T080000
DTEND;TZID=Europe/Paris:20160228T170000
SEQUENCE:0
TRANSP:OPAQUE
END:VEVENT
END:VCALENDAR