BEGIN:VCALENDAR
VERSION:2.0
PRODID:-//jEvents 2.0 for Joomla//EN
CALSCALE:GREGORIAN
METHOD:PUBLISH
BEGIN:VTIMEZONE
TZID:Europe/Paris
BEGIN:STANDARD
DTSTART:20150205T080000
RDATE:20150329T030000
TZOFFSETFROM:+0200
TZOFFSETTO:+0100
TZNAME:Europe/Paris CET
END:STANDARD
BEGIN:STANDARD
DTSTART:20151025T020000
RDATE:20160327T030000
TZOFFSETFROM:+0200
TZOFFSETTO:+0100
TZNAME:Europe/Paris CET
END:STANDARD
BEGIN:STANDARD
DTSTART:20161030T020000
RDATE:20170326T030000
TZOFFSETFROM:+0200
TZOFFSETTO:+0100
TZNAME:Europe/Paris CET
END:STANDARD
BEGIN:STANDARD
DTSTART:20171029T020000
RDATE:20180325T030000
TZOFFSETFROM:+0200
TZOFFSETTO:+0100
TZNAME:Europe/Paris CET
END:STANDARD
BEGIN:STANDARD
DTSTART:20181028T020000
RDATE:20190331T030000
TZOFFSETFROM:+0200
TZOFFSETTO:+0100
TZNAME:Europe/Paris CET
END:STANDARD
BEGIN:STANDARD
DTSTART:20191027T020000
RDATE:20200329T030000
TZOFFSETFROM:+0200
TZOFFSETTO:+0100
TZNAME:Europe/Paris CET
END:STANDARD
BEGIN:STANDARD
DTSTART:20201025T020000
RDATE:20210328T030000
TZOFFSETFROM:+0200
TZOFFSETTO:+0100
TZNAME:Europe/Paris CET
END:STANDARD
BEGIN:STANDARD
DTSTART:20211031T020000
RDATE:20220327T030000
TZOFFSETFROM:+0200
TZOFFSETTO:+0100
TZNAME:Europe/Paris CET
END:STANDARD
BEGIN:STANDARD
DTSTART:20221030T020000
RDATE:20230326T030000
TZOFFSETFROM:+0200
TZOFFSETTO:+0100
TZNAME:Europe/Paris CET
END:STANDARD
BEGIN:STANDARD
DTSTART:20231029T020000
RDATE:20240331T030000
TZOFFSETFROM:+0200
TZOFFSETTO:+0100
TZNAME:Europe/Paris CET
END:STANDARD
BEGIN:STANDARD
DTSTART:20241027T020000
RDATE:20250330T030000
TZOFFSETFROM:+0200
TZOFFSETTO:+0100
TZNAME:Europe/Paris CET
END:STANDARD
BEGIN:STANDARD
DTSTART:20251026T020000
RDATE:20260329T030000
TZOFFSETFROM:+0200
TZOFFSETTO:+0100
TZNAME:Europe/Paris CET
END:STANDARD
BEGIN:STANDARD
DTSTART:20261025T020000
RDATE:20270328T030000
TZOFFSETFROM:+0200
TZOFFSETTO:+0100
TZNAME:Europe/Paris CET
END:STANDARD
BEGIN:DAYLIGHT
DTSTART:20150329T030000
RDATE:20151025T020000
TZOFFSETFROM:+0100
TZOFFSETTO:+0200
TZNAME:Europe/Paris CEST
END:DAYLIGHT
BEGIN:DAYLIGHT
DTSTART:20160327T030000
RDATE:20161030T020000
TZOFFSETFROM:+0100
TZOFFSETTO:+0200
TZNAME:Europe/Paris CEST
END:DAYLIGHT
BEGIN:DAYLIGHT
DTSTART:20170326T030000
RDATE:20171029T020000
TZOFFSETFROM:+0100
TZOFFSETTO:+0200
TZNAME:Europe/Paris CEST
END:DAYLIGHT
BEGIN:DAYLIGHT
DTSTART:20180325T030000
RDATE:20181028T020000
TZOFFSETFROM:+0100
TZOFFSETTO:+0200
TZNAME:Europe/Paris CEST
END:DAYLIGHT
BEGIN:DAYLIGHT
DTSTART:20190331T030000
RDATE:20191027T020000
TZOFFSETFROM:+0100
TZOFFSETTO:+0200
TZNAME:Europe/Paris CEST
END:DAYLIGHT
BEGIN:DAYLIGHT
DTSTART:20200329T030000
RDATE:20201025T020000
TZOFFSETFROM:+0100
TZOFFSETTO:+0200
TZNAME:Europe/Paris CEST
END:DAYLIGHT
BEGIN:DAYLIGHT
DTSTART:20210328T030000
RDATE:20211031T020000
TZOFFSETFROM:+0100
TZOFFSETTO:+0200
TZNAME:Europe/Paris CEST
END:DAYLIGHT
BEGIN:DAYLIGHT
DTSTART:20220327T030000
RDATE:20221030T020000
TZOFFSETFROM:+0100
TZOFFSETTO:+0200
TZNAME:Europe/Paris CEST
END:DAYLIGHT
BEGIN:DAYLIGHT
DTSTART:20230326T030000
RDATE:20231029T020000
TZOFFSETFROM:+0100
TZOFFSETTO:+0200
TZNAME:Europe/Paris CEST
END:DAYLIGHT
BEGIN:DAYLIGHT
DTSTART:20240331T030000
RDATE:20241027T020000
TZOFFSETFROM:+0100
TZOFFSETTO:+0200
TZNAME:Europe/Paris CEST
END:DAYLIGHT
BEGIN:DAYLIGHT
DTSTART:20250330T030000
RDATE:20251026T020000
TZOFFSETFROM:+0100
TZOFFSETTO:+0200
TZNAME:Europe/Paris CEST
END:DAYLIGHT
BEGIN:DAYLIGHT
DTSTART:20260329T030000
RDATE:20261025T020000
TZOFFSETFROM:+0100
TZOFFSETTO:+0200
TZNAME:Europe/Paris CEST
END:DAYLIGHT
END:VTIMEZONE
BEGIN:VEVENT
UID:d9927f5964763b6190fd30fbe6e9dbf4
CATEGORIES:Compétition Ski de Fond
CREATED:20160204T130927
SUMMARY:Sprints La Bresse  Crédit Mutuel sprint 1 Championnat Régional Sprints
URL;VALUE=URI:https://skivosges.net/agenda/export-synchronisation/detailevenement/615/-/s
 prints-la-bresse-credit-mutuel-sprint-1-championnat-regional-sprints?tmpl=c
 omponent
DESCRIPTION:<strong>Sprints La Bresse  Crédit Mutuel sprint 1 Championnat Régional Spri
 nts</strong><br /><br />Lieu : LA BRESSE LISPACH<br />Piste : TOUR DES ROCH
 ES<br />Organisateur : LA BRESSAUDE SECTION SKI <small>(14024 LA BRESSAUDE 
 SECTION SKI)</small><br /><br />Dans la mesure du possible la composition d
 es équipes devra être donnée à la prise des dossards afin de gagner du temp
 s entre les 2 courses<br /><br />Inscriptions closes, tirage des dossards e
 n cours<ul type="disc"><li>FMVF0031  Depart Individuel <nobr>U16 (Cadet)</n
 obr> Filles<br />&nbsp;&nbsp;Sprints La Bresse  Crédit Mutuel sprint 1 Cham
 pionnat Régional Sprints</li><li>FMVF0032  Depart Individuel <nobr>U18 a SE
 N (Jeune a Senior)</nobr> Dames<br />&nbsp;&nbsp;Sprints La Bresse  Crédit 
 Mutuel sprint 1 Championnat Régional Sprints</li><li>FMVM0031  Depart Indiv
 iduel <nobr>U16 (Cadet)</nobr> Garçons<br />&nbsp;&nbsp;Sprints La Bresse  
 Crédit Mutuel sprint 1 Championnat Régional Sprints</li><li>FMVM0032  Depar
 t Individuel <nobr>U18/U20 (Jeune/Junior)</nobr> Hommes<br />&nbsp;&nbsp;Sp
 rints La Bresse  Crédit Mutuel sprint 1 Championnat Régional Sprints</li><l
 i>FMVM0033  Depart Individuel <nobr>Senior</nobr> Hommes<br />&nbsp;&nbsp;S
 prints La Bresse  Crédit Mutuel sprint 1 Championnat Régional Sprints</li><
 /ul> <a href="https://skivosges.net/agenda/export-synchronisation/detaileve
 nement/615/-/sprints-la-bresse-credit-mutuel-sprint-1-championnat-regional-
 sprints?tmpl=component">Cet évènement a été importé depuis :https://skivosg
 es.net/agenda/export-synchronisation/detailevenement/615/-/sprints-la-bress
 e-credit-mutuel-sprint-1-championnat-regional-sprints?tmpl=component</a>DTSTAMP:20260420T221257
DTSTART;TZID=Europe/Paris:20160206T080000
DTEND;TZID=Europe/Paris:20160206T170000
SEQUENCE:0
TRANSP:OPAQUE
END:VEVENT
END:VCALENDAR