BEGIN:VCALENDAR
VERSION:2.0
PRODID:-//jEvents 2.0 for Joomla//EN
CALSCALE:GREGORIAN
METHOD:PUBLISH
BEGIN:VTIMEZONE
TZID:Europe/Paris
BEGIN:STANDARD
DTSTART:20150319T080000
RDATE:20150329T030000
TZOFFSETFROM:+0200
TZOFFSETTO:+0100
TZNAME:Europe/Paris CET
END:STANDARD
BEGIN:STANDARD
DTSTART:20151025T020000
RDATE:20160327T030000
TZOFFSETFROM:+0200
TZOFFSETTO:+0100
TZNAME:Europe/Paris CET
END:STANDARD
BEGIN:STANDARD
DTSTART:20161030T020000
RDATE:20170326T030000
TZOFFSETFROM:+0200
TZOFFSETTO:+0100
TZNAME:Europe/Paris CET
END:STANDARD
BEGIN:STANDARD
DTSTART:20171029T020000
RDATE:20180325T030000
TZOFFSETFROM:+0200
TZOFFSETTO:+0100
TZNAME:Europe/Paris CET
END:STANDARD
BEGIN:STANDARD
DTSTART:20181028T020000
RDATE:20190331T030000
TZOFFSETFROM:+0200
TZOFFSETTO:+0100
TZNAME:Europe/Paris CET
END:STANDARD
BEGIN:STANDARD
DTSTART:20191027T020000
RDATE:20200329T030000
TZOFFSETFROM:+0200
TZOFFSETTO:+0100
TZNAME:Europe/Paris CET
END:STANDARD
BEGIN:STANDARD
DTSTART:20201025T020000
RDATE:20210328T030000
TZOFFSETFROM:+0200
TZOFFSETTO:+0100
TZNAME:Europe/Paris CET
END:STANDARD
BEGIN:STANDARD
DTSTART:20211031T020000
RDATE:20220327T030000
TZOFFSETFROM:+0200
TZOFFSETTO:+0100
TZNAME:Europe/Paris CET
END:STANDARD
BEGIN:STANDARD
DTSTART:20221030T020000
RDATE:20230326T030000
TZOFFSETFROM:+0200
TZOFFSETTO:+0100
TZNAME:Europe/Paris CET
END:STANDARD
BEGIN:STANDARD
DTSTART:20231029T020000
RDATE:20240331T030000
TZOFFSETFROM:+0200
TZOFFSETTO:+0100
TZNAME:Europe/Paris CET
END:STANDARD
BEGIN:STANDARD
DTSTART:20241027T020000
RDATE:20250330T030000
TZOFFSETFROM:+0200
TZOFFSETTO:+0100
TZNAME:Europe/Paris CET
END:STANDARD
BEGIN:STANDARD
DTSTART:20251026T020000
RDATE:20260329T030000
TZOFFSETFROM:+0200
TZOFFSETTO:+0100
TZNAME:Europe/Paris CET
END:STANDARD
BEGIN:STANDARD
DTSTART:20261025T020000
RDATE:20270328T030000
TZOFFSETFROM:+0200
TZOFFSETTO:+0100
TZNAME:Europe/Paris CET
END:STANDARD
BEGIN:DAYLIGHT
DTSTART:20150329T030000
RDATE:20151025T020000
TZOFFSETFROM:+0100
TZOFFSETTO:+0200
TZNAME:Europe/Paris CEST
END:DAYLIGHT
BEGIN:DAYLIGHT
DTSTART:20160327T030000
RDATE:20161030T020000
TZOFFSETFROM:+0100
TZOFFSETTO:+0200
TZNAME:Europe/Paris CEST
END:DAYLIGHT
BEGIN:DAYLIGHT
DTSTART:20170326T030000
RDATE:20171029T020000
TZOFFSETFROM:+0100
TZOFFSETTO:+0200
TZNAME:Europe/Paris CEST
END:DAYLIGHT
BEGIN:DAYLIGHT
DTSTART:20180325T030000
RDATE:20181028T020000
TZOFFSETFROM:+0100
TZOFFSETTO:+0200
TZNAME:Europe/Paris CEST
END:DAYLIGHT
BEGIN:DAYLIGHT
DTSTART:20190331T030000
RDATE:20191027T020000
TZOFFSETFROM:+0100
TZOFFSETTO:+0200
TZNAME:Europe/Paris CEST
END:DAYLIGHT
BEGIN:DAYLIGHT
DTSTART:20200329T030000
RDATE:20201025T020000
TZOFFSETFROM:+0100
TZOFFSETTO:+0200
TZNAME:Europe/Paris CEST
END:DAYLIGHT
BEGIN:DAYLIGHT
DTSTART:20210328T030000
RDATE:20211031T020000
TZOFFSETFROM:+0100
TZOFFSETTO:+0200
TZNAME:Europe/Paris CEST
END:DAYLIGHT
BEGIN:DAYLIGHT
DTSTART:20220327T030000
RDATE:20221030T020000
TZOFFSETFROM:+0100
TZOFFSETTO:+0200
TZNAME:Europe/Paris CEST
END:DAYLIGHT
BEGIN:DAYLIGHT
DTSTART:20230326T030000
RDATE:20231029T020000
TZOFFSETFROM:+0100
TZOFFSETTO:+0200
TZNAME:Europe/Paris CEST
END:DAYLIGHT
BEGIN:DAYLIGHT
DTSTART:20240331T030000
RDATE:20241027T020000
TZOFFSETFROM:+0100
TZOFFSETTO:+0200
TZNAME:Europe/Paris CEST
END:DAYLIGHT
BEGIN:DAYLIGHT
DTSTART:20250330T030000
RDATE:20251026T020000
TZOFFSETFROM:+0100
TZOFFSETTO:+0200
TZNAME:Europe/Paris CEST
END:DAYLIGHT
BEGIN:DAYLIGHT
DTSTART:20260329T030000
RDATE:20261025T020000
TZOFFSETFROM:+0100
TZOFFSETTO:+0200
TZNAME:Europe/Paris CEST
END:DAYLIGHT
END:VTIMEZONE
BEGIN:VEVENT
UID:ec3e8721d8c90366727a94bba2a0e317
CATEGORIES:Circuit Massif Masters (alpin)
CREATED:20160318T154432
SUMMARY:GPM Masters  Prix Mat Peinture
URL;VALUE=URI:https://skivosges.net/agenda/export-synchronisation/detailevenement/628/-/g
 pm-masters-prix-mat-peinture?tmpl=component
DESCRIPTION:GPM Masters  Prix Mat Peinture \n(Grand Prix Masters)\n\nLieu : ROUGE GAZON
 \nOrganisateur : SKIEURS DE ST MAURICE/MOSELLE (14063 SKIEURS DE ST MAURICE
 /MOSELLE)\n\nDepart 14h00\n\nInscriptions closes, les listes de départ sont
  visualisables sur ce site\n - AMVM0381  Slalom Geant (Courses Masters) Tou
 s les Masters Hommes\n  GPM Masters  Prix Mat Peinture\n - AMVF0381  Slalom
  Geant (Courses Masters) Tous les Masters Dames\n  GPM Masters  Prix Mat Pe
 inture Cet évènement a été importé depuis :https://skivosges.net/agenda/exp
 ort-synchronisation/detailevenement/628/-/gpm-masters-prix-mat-peinture?tmp
 l=component (https://skivosges.net/agenda/export-synchronisation/detaileven
 ement/628/-/gpm-masters-prix-mat-peinture?tmpl=component)
X-ALT-DESC;FMTTYPE=text/html:<strong>GPM Masters  Prix Mat Peinture</strong> <br /><i>(Grand Prix Master
 s)</i><br /><br />Lieu : ROUGE GAZON<br />Organisateur : SKIEURS DE ST MAUR
 ICE/MOSELLE <small>(14063 SKIEURS DE ST MAURICE/MOSELLE)</small><br /><br /
 >Depart 14h00<br /><br />Inscriptions closes, les listes de départ sont vis
 ualisables sur ce site<ul type="disc"><li>AMVM0381  Slalom Geant <nobr><i>(
 Courses Masters)</i></nobr> <nobr>Tous les Masters</nobr> Hommes<br />&nbsp
 ;&nbsp;GPM Masters  Prix Mat Peinture</li><li>AMVF0381  Slalom Geant <nobr>
 <i>(Courses Masters)</i></nobr> <nobr>Tous les Masters</nobr> Dames<br />&n
 bsp;&nbsp;GPM Masters  Prix Mat Peinture</li></ul> <a href="https://skivosg
 es.net/agenda/export-synchronisation/detailevenement/628/-/gpm-masters-prix
 -mat-peinture?tmpl=component">Cet évènement a été importé depuis :https://s
 kivosges.net/agenda/export-synchronisation/detailevenement/628/-/gpm-master
 s-prix-mat-peinture?tmpl=component</a>DTSTAMP:20260420T220331
DTSTART;TZID=Europe/Paris:20160319T080000
DTEND;TZID=Europe/Paris:20160319T170000
SEQUENCE:0
TRANSP:OPAQUE
END:VEVENT
END:VCALENDAR