BEGIN:VCALENDAR
VERSION:2.0
PRODID:-//jEvents 2.0 for Joomla//EN
CALSCALE:GREGORIAN
METHOD:PUBLISH
BEGIN:VTIMEZONE
TZID:Europe/Paris
BEGIN:STANDARD
DTSTART:20151025T020000
RDATE:20160327T030000
TZOFFSETFROM:+0200
TZOFFSETTO:+0100
TZNAME:Europe/Paris CET
END:STANDARD
BEGIN:STANDARD
DTSTART:20161030T020000
RDATE:20170326T030000
TZOFFSETFROM:+0200
TZOFFSETTO:+0100
TZNAME:Europe/Paris CET
END:STANDARD
BEGIN:STANDARD
DTSTART:20171029T020000
RDATE:20180325T030000
TZOFFSETFROM:+0200
TZOFFSETTO:+0100
TZNAME:Europe/Paris CET
END:STANDARD
BEGIN:STANDARD
DTSTART:20181028T020000
RDATE:20190331T030000
TZOFFSETFROM:+0200
TZOFFSETTO:+0100
TZNAME:Europe/Paris CET
END:STANDARD
BEGIN:STANDARD
DTSTART:20191027T020000
RDATE:20200329T030000
TZOFFSETFROM:+0200
TZOFFSETTO:+0100
TZNAME:Europe/Paris CET
END:STANDARD
BEGIN:STANDARD
DTSTART:20201025T020000
RDATE:20210328T030000
TZOFFSETFROM:+0200
TZOFFSETTO:+0100
TZNAME:Europe/Paris CET
END:STANDARD
BEGIN:STANDARD
DTSTART:20211031T020000
RDATE:20220327T030000
TZOFFSETFROM:+0200
TZOFFSETTO:+0100
TZNAME:Europe/Paris CET
END:STANDARD
BEGIN:STANDARD
DTSTART:20221030T020000
RDATE:20230326T030000
TZOFFSETFROM:+0200
TZOFFSETTO:+0100
TZNAME:Europe/Paris CET
END:STANDARD
BEGIN:STANDARD
DTSTART:20231029T020000
RDATE:20240331T030000
TZOFFSETFROM:+0200
TZOFFSETTO:+0100
TZNAME:Europe/Paris CET
END:STANDARD
BEGIN:STANDARD
DTSTART:20241027T020000
RDATE:20250330T030000
TZOFFSETFROM:+0200
TZOFFSETTO:+0100
TZNAME:Europe/Paris CET
END:STANDARD
BEGIN:STANDARD
DTSTART:20251026T020000
RDATE:20260329T030000
TZOFFSETFROM:+0200
TZOFFSETTO:+0100
TZNAME:Europe/Paris CET
END:STANDARD
BEGIN:STANDARD
DTSTART:20261025T020000
RDATE:20270328T030000
TZOFFSETFROM:+0200
TZOFFSETTO:+0100
TZNAME:Europe/Paris CET
END:STANDARD
BEGIN:DAYLIGHT
DTSTART:20150923T080000
RDATE:20151025T020000
TZOFFSETFROM:+0100
TZOFFSETTO:+0200
TZNAME:Europe/Paris CEST
END:DAYLIGHT
BEGIN:DAYLIGHT
DTSTART:20160327T030000
RDATE:20161030T020000
TZOFFSETFROM:+0100
TZOFFSETTO:+0200
TZNAME:Europe/Paris CEST
END:DAYLIGHT
BEGIN:DAYLIGHT
DTSTART:20170326T030000
RDATE:20171029T020000
TZOFFSETFROM:+0100
TZOFFSETTO:+0200
TZNAME:Europe/Paris CEST
END:DAYLIGHT
BEGIN:DAYLIGHT
DTSTART:20180325T030000
RDATE:20181028T020000
TZOFFSETFROM:+0100
TZOFFSETTO:+0200
TZNAME:Europe/Paris CEST
END:DAYLIGHT
BEGIN:DAYLIGHT
DTSTART:20190331T030000
RDATE:20191027T020000
TZOFFSETFROM:+0100
TZOFFSETTO:+0200
TZNAME:Europe/Paris CEST
END:DAYLIGHT
BEGIN:DAYLIGHT
DTSTART:20200329T030000
RDATE:20201025T020000
TZOFFSETFROM:+0100
TZOFFSETTO:+0200
TZNAME:Europe/Paris CEST
END:DAYLIGHT
BEGIN:DAYLIGHT
DTSTART:20210328T030000
RDATE:20211031T020000
TZOFFSETFROM:+0100
TZOFFSETTO:+0200
TZNAME:Europe/Paris CEST
END:DAYLIGHT
BEGIN:DAYLIGHT
DTSTART:20220327T030000
RDATE:20221030T020000
TZOFFSETFROM:+0100
TZOFFSETTO:+0200
TZNAME:Europe/Paris CEST
END:DAYLIGHT
BEGIN:DAYLIGHT
DTSTART:20230326T030000
RDATE:20231029T020000
TZOFFSETFROM:+0100
TZOFFSETTO:+0200
TZNAME:Europe/Paris CEST
END:DAYLIGHT
BEGIN:DAYLIGHT
DTSTART:20240331T030000
RDATE:20241027T020000
TZOFFSETFROM:+0100
TZOFFSETTO:+0200
TZNAME:Europe/Paris CEST
END:DAYLIGHT
BEGIN:DAYLIGHT
DTSTART:20250330T030000
RDATE:20251026T020000
TZOFFSETFROM:+0100
TZOFFSETTO:+0200
TZNAME:Europe/Paris CEST
END:DAYLIGHT
BEGIN:DAYLIGHT
DTSTART:20260329T030000
RDATE:20261025T020000
TZOFFSETFROM:+0100
TZOFFSETTO:+0200
TZNAME:Europe/Paris CEST
END:DAYLIGHT
END:VTIMEZONE
BEGIN:VEVENT
UID:83aa17ee5a8cdef94f28f10f18a3e7ef
CATEGORIES:Formation Officiels - Chronos - Gestionnaires
CREATED:20160923T155520
SUMMARY:Réunion du Calendrier Alpin
URL;VALUE=URI:https://skivosges.net/agenda/export-synchronisation/detailevenement/631/-/r
 eunion-du-calendrier-alpin?tmpl=component
DESCRIPTION:La réunion du Calendrier Alpin aura lieu le 5 octobre 2016 à 19 h à la Conc
 iergerie de Cernay (derrière la piscine, comme en 2015!).\nLes fiches d'ins
 cription seront transmises ce week-end.\nVeuillez faire rapidement parvenir
 , par mail,  à Jean Claude L'EPINGLE ( RegularLabs.EmailProtector.unCloak("
 ep_7ab86aab"); (javascript:/* Cette adresse électronique est protégée contr
 e les robots spammeurs.*/)RegularLabs.EmailProtector.unCloak("ep_0641cc1c",
  true);) le nom du responsable calendrier de chaque club.\nJean Claude L'EP
 INGLE.\n Cet évènement a été importé depuis :https://skivosges.net/agenda/e
 xport-synchronisation/detailevenement/631/-/reunion-du-calendrier-alpin?tmp
 l=component
X-ALT-DESC;FMTTYPE=text/html:<p>La réunion du Calendrier Alpin aura lieu le 5 octobre 2016 à 19 h à la C
 onciergerie de Cernay (derrière la piscine, comme en 2015!).</p><p>Les fich
 es d'inscription seront transmises ce week-end.</p><p>Veuillez faire <span 
 style="text-decoration: underline;">rapidement</span> parvenir, par mail,  
 à Jean Claude L'EPINGLE ( <!-- Cette adresse électronique est protégée cont
 re les robots spammeurs. --><a href="https://skivosges.net/javascript:/* Ce
 tte adresse &eacute;lectronique est prot&eacute;g&eacute;e contre les robot
 s spammeurs.*/"><span class="cloaked_email ep_7ab86aab"><span data-ep-a="&#
 106;&#99;&#108;" data-ep-b=""><span data-ep-b="&#46;f&#114;" data-ep-a="&#1
 01;&#112;&#64;"><span data-ep-b="&#110;&#103;e" data-ep-a="&#111;&#114;a"><
 /span></span></span></span><script>RegularLabs.EmailProtector.unCloak("ep_7
 ab86aab");</script><span class="cloaked_email ep_0641cc1c" style="display:n
 one;"><span data-ep-a="j&#99;&#108;" data-ep-b=""><span data-ep-b="&#46;&#1
 02;r" data-ep-a="&#101;p&#64;"><span data-ep-b="n&#103;&#101;" data-ep-a="&
 #111;r&#97;"></span></span></span></span></a><script>RegularLabs.EmailProte
 ctor.unCloak("ep_0641cc1c", true);</script>) le nom du responsable calendri
 er de chaque club.</p><p>Jean Claude L'EPINGLE.</p> <a href="https://skivos
 ges.net/agenda/export-synchronisation/detailevenement/631/-/reunion-du-cale
 ndrier-alpin?tmpl=component">Cet évènement a été importé depuis :https://sk
 ivosges.net/agenda/export-synchronisation/detailevenement/631/-/reunion-du-
 calendrier-alpin?tmpl=component</a>DTSTAMP:20260421T050703
DTSTART;TZID=Europe/Paris:20160923T080000
DTEND;TZID=Europe/Paris:20160923T170000
SEQUENCE:0
TRANSP:OPAQUE
END:VEVENT
END:VCALENDAR