BEGIN:VCALENDAR
VERSION:2.0
PRODID:-//jEvents 2.0 for Joomla//EN
CALSCALE:GREGORIAN
METHOD:PUBLISH
BEGIN:VTIMEZONE
TZID:Europe/Paris
BEGIN:STANDARD
DTSTART:20151203T140000
RDATE:20160327T030000
TZOFFSETFROM:+0200
TZOFFSETTO:+0100
TZNAME:Europe/Paris CET
END:STANDARD
BEGIN:STANDARD
DTSTART:20161030T020000
RDATE:20170326T030000
TZOFFSETFROM:+0200
TZOFFSETTO:+0100
TZNAME:Europe/Paris CET
END:STANDARD
BEGIN:STANDARD
DTSTART:20171029T020000
RDATE:20180325T030000
TZOFFSETFROM:+0200
TZOFFSETTO:+0100
TZNAME:Europe/Paris CET
END:STANDARD
BEGIN:STANDARD
DTSTART:20181028T020000
RDATE:20190331T030000
TZOFFSETFROM:+0200
TZOFFSETTO:+0100
TZNAME:Europe/Paris CET
END:STANDARD
BEGIN:STANDARD
DTSTART:20191027T020000
RDATE:20200329T030000
TZOFFSETFROM:+0200
TZOFFSETTO:+0100
TZNAME:Europe/Paris CET
END:STANDARD
BEGIN:STANDARD
DTSTART:20201025T020000
RDATE:20210328T030000
TZOFFSETFROM:+0200
TZOFFSETTO:+0100
TZNAME:Europe/Paris CET
END:STANDARD
BEGIN:STANDARD
DTSTART:20211031T020000
RDATE:20220327T030000
TZOFFSETFROM:+0200
TZOFFSETTO:+0100
TZNAME:Europe/Paris CET
END:STANDARD
BEGIN:STANDARD
DTSTART:20221030T020000
RDATE:20230326T030000
TZOFFSETFROM:+0200
TZOFFSETTO:+0100
TZNAME:Europe/Paris CET
END:STANDARD
BEGIN:STANDARD
DTSTART:20231029T020000
RDATE:20240331T030000
TZOFFSETFROM:+0200
TZOFFSETTO:+0100
TZNAME:Europe/Paris CET
END:STANDARD
BEGIN:STANDARD
DTSTART:20241027T020000
RDATE:20250330T030000
TZOFFSETFROM:+0200
TZOFFSETTO:+0100
TZNAME:Europe/Paris CET
END:STANDARD
BEGIN:STANDARD
DTSTART:20251026T020000
RDATE:20260329T030000
TZOFFSETFROM:+0200
TZOFFSETTO:+0100
TZNAME:Europe/Paris CET
END:STANDARD
BEGIN:STANDARD
DTSTART:20261025T020000
RDATE:20270328T030000
TZOFFSETFROM:+0200
TZOFFSETTO:+0100
TZNAME:Europe/Paris CET
END:STANDARD
BEGIN:DAYLIGHT
DTSTART:20160327T030000
RDATE:20161030T020000
TZOFFSETFROM:+0100
TZOFFSETTO:+0200
TZNAME:Europe/Paris CEST
END:DAYLIGHT
BEGIN:DAYLIGHT
DTSTART:20170326T030000
RDATE:20171029T020000
TZOFFSETFROM:+0100
TZOFFSETTO:+0200
TZNAME:Europe/Paris CEST
END:DAYLIGHT
BEGIN:DAYLIGHT
DTSTART:20180325T030000
RDATE:20181028T020000
TZOFFSETFROM:+0100
TZOFFSETTO:+0200
TZNAME:Europe/Paris CEST
END:DAYLIGHT
BEGIN:DAYLIGHT
DTSTART:20190331T030000
RDATE:20191027T020000
TZOFFSETFROM:+0100
TZOFFSETTO:+0200
TZNAME:Europe/Paris CEST
END:DAYLIGHT
BEGIN:DAYLIGHT
DTSTART:20200329T030000
RDATE:20201025T020000
TZOFFSETFROM:+0100
TZOFFSETTO:+0200
TZNAME:Europe/Paris CEST
END:DAYLIGHT
BEGIN:DAYLIGHT
DTSTART:20210328T030000
RDATE:20211031T020000
TZOFFSETFROM:+0100
TZOFFSETTO:+0200
TZNAME:Europe/Paris CEST
END:DAYLIGHT
BEGIN:DAYLIGHT
DTSTART:20220327T030000
RDATE:20221030T020000
TZOFFSETFROM:+0100
TZOFFSETTO:+0200
TZNAME:Europe/Paris CEST
END:DAYLIGHT
BEGIN:DAYLIGHT
DTSTART:20230326T030000
RDATE:20231029T020000
TZOFFSETFROM:+0100
TZOFFSETTO:+0200
TZNAME:Europe/Paris CEST
END:DAYLIGHT
BEGIN:DAYLIGHT
DTSTART:20240331T030000
RDATE:20241027T020000
TZOFFSETFROM:+0100
TZOFFSETTO:+0200
TZNAME:Europe/Paris CEST
END:DAYLIGHT
BEGIN:DAYLIGHT
DTSTART:20250330T030000
RDATE:20251026T020000
TZOFFSETFROM:+0100
TZOFFSETTO:+0200
TZNAME:Europe/Paris CEST
END:DAYLIGHT
BEGIN:DAYLIGHT
DTSTART:20260329T030000
RDATE:20261025T020000
TZOFFSETFROM:+0100
TZOFFSETTO:+0200
TZNAME:Europe/Paris CEST
END:DAYLIGHT
END:VTIMEZONE
BEGIN:VEVENT
UID:f50d0377b6d295a0dcf4131649a9f32f
CATEGORIES:Formation Officiels - Chronos - Gestionnaires
CREATED:20161027T092953
SUMMARY:Journée Technique Régionale (y compris sessions de recyclages)
LOCATION:La Bresse / Hotel des Valées 
URL;VALUE=URI:https://skivosges.net/agenda/export-synchronisation/detailevenement/632/-/j
 ournee-technique-regionale-y-compris-sessions-de-recyclages?tmpl=component
DESCRIPTION:<p><em>Informations complémentaires et ordre du jour à venir...</em></p><p>
 Horaires prévisionnels : 14H00 à 16H-16H30 (Journée Technique / recyclage J
 uge de Compétition Alpin ou Nordique)</p><p>Suivra une session de recyclage
  DT (Alpin ou Nordique), horaire prévisionnel final 17H30</p><p>(Precision 
 sur les session sera demandée dans le formulaire d'inscription)</p><p>Des s
 essions de formation Juge de Compétition Alpin ou Nordique pour les nouveau
 x Candidats sont proposées le matin (<a href="index.php?option=com_jevents&
 task=icalrepeat.detail&evid=633&Itemid=1&year=2016&month=12&day=03&title=jo
 urnee-technique-regionale-sessions-de-formation-initiales-juges&uid=05947eb
 6b7020bd632a1c61949f08ebb">voir : Sessions de Formation Initiales Juges -Ma
 tin-)</a></p><p> </p><p><em><span class="attention">Remarque :<br />Il est 
 fortement recommandé de <a href="index.php?option=com_users&view=login&Item
 id=204" target="_parent">vous identifier sur le site</a> avant de vous insc
 rire à un evenement.<br />Le fait d'être inscrit et identifié sur skivosges
  permet d'avoir accès à vos inscriptions, de les modifier, voire les suppri
 mer selon l'evenement.</span></em></p><p> </p> <a href="https://skivosges.n
 et/agenda/export-synchronisation/detailevenement/632/-/journee-technique-re
 gionale-y-compris-sessions-de-recyclages?tmpl=component">Cet évènement a ét
 é importé depuis :https://skivosges.net/agenda/export-synchronisation/detai
 levenement/632/-/journee-technique-regionale-y-compris-sessions-de-recyclag
 es?tmpl=component</a>
X-ALT-DESC;FMTTYPE=text/html:<p><em>Informations complémentaires et ordre du jour à venir...</em></p><p>
 Horaires prévisionnels : 14H00 à 16H-16H30 (Journée Technique / recyclage J
 uge de Compétition Alpin ou Nordique)</p><p>Suivra une session de recyclage
  DT (Alpin ou Nordique), horaire prévisionnel final 17H30</p><p>(Precision 
 sur les session sera demandée dans le formulaire d'inscription)</p><p>Des s
 essions de formation Juge de Compétition Alpin ou Nordique pour les nouveau
 x Candidats sont proposées le matin (<a href="https://skivosges.net/index.p
 hp?option=com_jevents&task=icalrepeat.detail&evid=633&Itemid=1&year=2016&mo
 nth=12&day=03&title=journee-technique-regionale-sessions-de-formation-initi
 ales-juges&uid=05947eb6b7020bd632a1c61949f08ebb">voir : Sessions de Formati
 on Initiales Juges -Matin-)</a></p><p> </p><p><em><span class="attention">R
 emarque :<br />Il est fortement recommandé de <a href="https://skivosges.ne
 t/index.php?option=com_users&view=login&Itemid=204" target="_parent">vous i
 dentifier sur le site</a> avant de vous inscrire à un evenement.<br />Le fa
 it d'être inscrit et identifié sur skivosges permet d'avoir accès à vos ins
 criptions, de les modifier, voire les supprimer selon l'evenement.</span></
 em></p><p> </p> <a href="https://skivosges.net/agenda/export-synchronisatio
 n/detailevenement/632/-/journee-technique-regionale-y-compris-sessions-de-r
 ecyclages?tmpl=component">Cet évènement a été importé depuis :https://skivo
 sges.net/agenda/export-synchronisation/detailevenement/632/-/journee-techni
 que-regionale-y-compris-sessions-de-recyclages?tmpl=component</a>CONTACT:RegularLabs.EmailProtector.unCloak("ep_49beac7f");
DTSTAMP:20260421T051151
DTSTART;TZID=Europe/Paris:20161203T140000
SEQUENCE:0
TRANSP:OPAQUE
END:VEVENT
END:VCALENDAR