BEGIN:VCALENDAR
VERSION:2.0
PRODID:-//jEvents 2.0 for Joomla//EN
CALSCALE:GREGORIAN
METHOD:PUBLISH
BEGIN:VTIMEZONE
TZID:Europe/Paris
BEGIN:STANDARD
DTSTART:20151105T000000
RDATE:20160327T030000
TZOFFSETFROM:+0200
TZOFFSETTO:+0100
TZNAME:Europe/Paris CET
END:STANDARD
BEGIN:STANDARD
DTSTART:20161030T020000
RDATE:20170326T030000
TZOFFSETFROM:+0200
TZOFFSETTO:+0100
TZNAME:Europe/Paris CET
END:STANDARD
BEGIN:STANDARD
DTSTART:20171029T020000
RDATE:20180325T030000
TZOFFSETFROM:+0200
TZOFFSETTO:+0100
TZNAME:Europe/Paris CET
END:STANDARD
BEGIN:STANDARD
DTSTART:20181028T020000
RDATE:20190331T030000
TZOFFSETFROM:+0200
TZOFFSETTO:+0100
TZNAME:Europe/Paris CET
END:STANDARD
BEGIN:STANDARD
DTSTART:20191027T020000
RDATE:20200329T030000
TZOFFSETFROM:+0200
TZOFFSETTO:+0100
TZNAME:Europe/Paris CET
END:STANDARD
BEGIN:STANDARD
DTSTART:20201025T020000
RDATE:20210328T030000
TZOFFSETFROM:+0200
TZOFFSETTO:+0100
TZNAME:Europe/Paris CET
END:STANDARD
BEGIN:STANDARD
DTSTART:20211031T020000
RDATE:20220327T030000
TZOFFSETFROM:+0200
TZOFFSETTO:+0100
TZNAME:Europe/Paris CET
END:STANDARD
BEGIN:STANDARD
DTSTART:20221030T020000
RDATE:20230326T030000
TZOFFSETFROM:+0200
TZOFFSETTO:+0100
TZNAME:Europe/Paris CET
END:STANDARD
BEGIN:STANDARD
DTSTART:20231029T020000
RDATE:20240331T030000
TZOFFSETFROM:+0200
TZOFFSETTO:+0100
TZNAME:Europe/Paris CET
END:STANDARD
BEGIN:STANDARD
DTSTART:20241027T020000
RDATE:20250330T030000
TZOFFSETFROM:+0200
TZOFFSETTO:+0100
TZNAME:Europe/Paris CET
END:STANDARD
BEGIN:STANDARD
DTSTART:20251026T020000
RDATE:20260329T030000
TZOFFSETFROM:+0200
TZOFFSETTO:+0100
TZNAME:Europe/Paris CET
END:STANDARD
BEGIN:STANDARD
DTSTART:20261025T020000
RDATE:20270328T030000
TZOFFSETFROM:+0200
TZOFFSETTO:+0100
TZNAME:Europe/Paris CET
END:STANDARD
BEGIN:DAYLIGHT
DTSTART:20160327T030000
RDATE:20161030T020000
TZOFFSETFROM:+0100
TZOFFSETTO:+0200
TZNAME:Europe/Paris CEST
END:DAYLIGHT
BEGIN:DAYLIGHT
DTSTART:20170326T030000
RDATE:20171029T020000
TZOFFSETFROM:+0100
TZOFFSETTO:+0200
TZNAME:Europe/Paris CEST
END:DAYLIGHT
BEGIN:DAYLIGHT
DTSTART:20180325T030000
RDATE:20181028T020000
TZOFFSETFROM:+0100
TZOFFSETTO:+0200
TZNAME:Europe/Paris CEST
END:DAYLIGHT
BEGIN:DAYLIGHT
DTSTART:20190331T030000
RDATE:20191027T020000
TZOFFSETFROM:+0100
TZOFFSETTO:+0200
TZNAME:Europe/Paris CEST
END:DAYLIGHT
BEGIN:DAYLIGHT
DTSTART:20200329T030000
RDATE:20201025T020000
TZOFFSETFROM:+0100
TZOFFSETTO:+0200
TZNAME:Europe/Paris CEST
END:DAYLIGHT
BEGIN:DAYLIGHT
DTSTART:20210328T030000
RDATE:20211031T020000
TZOFFSETFROM:+0100
TZOFFSETTO:+0200
TZNAME:Europe/Paris CEST
END:DAYLIGHT
BEGIN:DAYLIGHT
DTSTART:20220327T030000
RDATE:20221030T020000
TZOFFSETFROM:+0100
TZOFFSETTO:+0200
TZNAME:Europe/Paris CEST
END:DAYLIGHT
BEGIN:DAYLIGHT
DTSTART:20230326T030000
RDATE:20231029T020000
TZOFFSETFROM:+0100
TZOFFSETTO:+0200
TZNAME:Europe/Paris CEST
END:DAYLIGHT
BEGIN:DAYLIGHT
DTSTART:20240331T030000
RDATE:20241027T020000
TZOFFSETFROM:+0100
TZOFFSETTO:+0200
TZNAME:Europe/Paris CEST
END:DAYLIGHT
BEGIN:DAYLIGHT
DTSTART:20250330T030000
RDATE:20251026T020000
TZOFFSETFROM:+0100
TZOFFSETTO:+0200
TZNAME:Europe/Paris CEST
END:DAYLIGHT
BEGIN:DAYLIGHT
DTSTART:20260329T030000
RDATE:20261025T020000
TZOFFSETFROM:+0100
TZOFFSETTO:+0200
TZNAME:Europe/Paris CEST
END:DAYLIGHT
END:VTIMEZONE
BEGIN:VEVENT
UID:0598c0eb13b517b1a63c9d672daa14a8
CATEGORIES:Opens et Promos (alpin)
CREATED:20161202T134851
SUMMARY:PROMO challenge Moselle et Meurthe-et-Moselle
URL;VALUE=URI:https://skivosges.net/agenda/export-synchronisation/detailevenement/640/-/p
 romo-challenge-moselle-et-meurthe-et-moselle?tmpl=component
DESCRIPTION:PROMO challenge Moselle et Meurthe-et-Moselle\n - Codex évenement AMVT0010\
 n - Lieu : AMNEVILLE LES THERMES\n - Station : AMNEVILLE LES THERMES\n - Or
 ganisateur : 14482 SKI CLUB D'AMNEVILLE\n - Courriel : RegularLabs.EmailPro
 tector.unCloak("ep_db8e58de");Période d'inscription à l'evènement du samedi
  29 octobre 2016 à 02:00 au jeudi 03 novembre 2016 à 13:00 (Inscriptions im
 possibles).Le type de titres Fédéraux autorisé n'est pas défini. Veuillez c
 ontacter l'organisateur et lui signaler le problème.Epreuves :\n - Le samed
 i 05 novembre 2016\n - Codex épreuve AMVM0011\n - Slalom\n - Le samedi 05 n
 ovembre 2016\n - Codex épreuve AMVF0011\n - Slalom\n - Voir les information
 s dans l'agenda... (/index.php?option=com_jevents&amp;task=icalevent.detail
 &amp;evid=635&amp;Itemid=6283) Cet évènement a été importé depuis :https://
 skivosges.net/agenda/export-synchronisation/detailevenement/640/-/promo-cha
 llenge-moselle-et-meurthe-et-moselle?tmpl=component (https://skivosges.net/
 agenda/export-synchronisation/detailevenement/640/-/promo-challenge-moselle
 -et-meurthe-et-moselle?tmpl=component)
X-ALT-DESC;FMTTYPE=text/html:<!-- #gskiepreuve code généré par le plugin jevents pour GskiEpreuves. Ne p
 as modifier cette ligne, ni tout le contenu suivant  #gskiepreuve --><div c
 lass="gski-evenement_infos"><div class="gski-evenement-nom">PROMO challenge
  Moselle et Meurthe-et-Moselle</div><div class="gski-evenement-report"></di
 v><ul class="gski-evenement-liste-infos"><li>Codex évenement AMVT0010</li><
 li>Lieu : AMNEVILLE LES THERMES</li><li>Station : AMNEVILLE LES THERMES</li
 ><li>Organisateur : 14482 SKI CLUB D'AMNEVILLE</li><li>Courriel : <!-- Cett
 e adresse électronique est protégée contre les robots spammeurs. --><span c
 lass="cloaked_email ep_db8e58de"><span data-ep-a="s&#103;&#64;s" data-ep-b=
 "or&#103;"><span data-ep-a="&#107;&#105;cl" data-ep-b="&#108;l&#101;."><spa
 n data-ep-a="&#117;&#98;a&#109;" data-ep-b="&#110;&#101;&#118;i"></span></s
 pan></span></span><script>RegularLabs.EmailProtector.unCloak("ep_db8e58de")
 ;</script></li></ul><div class="gski-evenement-infos-2"><div class="gski-ev
 enement-info-inscriptions"><div class="gski-evenement-inscriptions-periodes
 ">Période d'inscription à l'evènement du samedi 29 octobre 2016 à 02:00 au 
 jeudi 03 novembre 2016 à 13:00 <span class="gski-evenement-inscriptions-imp
 ossibles">(Inscriptions impossibles).</span><div class="gski-evenement-insc
 riptions-types-titres">Le type de titres Fédéraux autorisé n'est pas défini
 . Veuillez contacter l'organisateur et lui signaler le problème.</div></div
 ></div><div class="gski-evenement-epreuves"><div class="gski-evenement-epre
 uves-titres">Epreuves :</div><ul class="gski-evenement-epreuves-list"><li><
 div class="gski-epreuve-date">Le samedi 05 novembre 2016</div><ul class="gs
 ki-epreuve-liste-infos"><li>Codex épreuve AMVM0011</li><li>Slalom</li></ul>
 </li><li><div class="gski-epreuve-date">Le samedi 05 novembre 2016</div><ul
  class="gski-epreuve-liste-infos"><li>Codex épreuve AMVF0011</li><li>Slalom
 </li></ul></li></ul></div><div class="gskiepreuves-links"><ul><li><a href="
 https://skivosges.net/index.php?option=com_jevents&task=icalevent.detail&ev
 id=635&Itemid=6283">Voir les informations dans l'agenda...</a></li></ul></d
 iv></div"><!-- #/gskiepreuve fin du dode généré par le plugin jevents pour 
 GskiEpreuves. . Ne pas modifier cette ligne, ni tout le contenu précedant. 
  #/gskiepreuve --> <a href="https://skivosges.net/agenda/export-synchronisa
 tion/detailevenement/640/-/promo-challenge-moselle-et-meurthe-et-moselle?tm
 pl=component">Cet évènement a été importé depuis :https://skivosges.net/age
 nda/export-synchronisation/detailevenement/640/-/promo-challenge-moselle-et
 -meurthe-et-moselle?tmpl=component</a>DTSTAMP:20260421T050443
DTSTART;TZID=Europe/Paris;VALUE=DATE:20161105
DTEND;TZID=Europe/Paris;VALUE=DATE:20161106
SEQUENCE:0
TRANSP:OPAQUE
END:VEVENT
END:VCALENDAR