BEGIN:VCALENDAR
VERSION:2.0
PRODID:-//jEvents 2.0 for Joomla//EN
CALSCALE:GREGORIAN
METHOD:PUBLISH
BEGIN:VTIMEZONE
TZID:Europe/Paris
BEGIN:STANDARD
DTSTART:20130103T080000
RDATE:20130331T030000
TZOFFSETFROM:+0200
TZOFFSETTO:+0100
TZNAME:Europe/Paris CET
END:STANDARD
BEGIN:STANDARD
DTSTART:20131027T020000
RDATE:20140330T030000
TZOFFSETFROM:+0200
TZOFFSETTO:+0100
TZNAME:Europe/Paris CET
END:STANDARD
BEGIN:STANDARD
DTSTART:20141026T020000
RDATE:20150329T030000
TZOFFSETFROM:+0200
TZOFFSETTO:+0100
TZNAME:Europe/Paris CET
END:STANDARD
BEGIN:STANDARD
DTSTART:20151025T020000
RDATE:20160327T030000
TZOFFSETFROM:+0200
TZOFFSETTO:+0100
TZNAME:Europe/Paris CET
END:STANDARD
BEGIN:STANDARD
DTSTART:20161030T020000
RDATE:20170326T030000
TZOFFSETFROM:+0200
TZOFFSETTO:+0100
TZNAME:Europe/Paris CET
END:STANDARD
BEGIN:STANDARD
DTSTART:20171029T020000
RDATE:20180325T030000
TZOFFSETFROM:+0200
TZOFFSETTO:+0100
TZNAME:Europe/Paris CET
END:STANDARD
BEGIN:STANDARD
DTSTART:20181028T020000
RDATE:20190331T030000
TZOFFSETFROM:+0200
TZOFFSETTO:+0100
TZNAME:Europe/Paris CET
END:STANDARD
BEGIN:STANDARD
DTSTART:20191027T020000
RDATE:20200329T030000
TZOFFSETFROM:+0200
TZOFFSETTO:+0100
TZNAME:Europe/Paris CET
END:STANDARD
BEGIN:STANDARD
DTSTART:20201025T020000
RDATE:20210328T030000
TZOFFSETFROM:+0200
TZOFFSETTO:+0100
TZNAME:Europe/Paris CET
END:STANDARD
BEGIN:STANDARD
DTSTART:20211031T020000
RDATE:20220327T030000
TZOFFSETFROM:+0200
TZOFFSETTO:+0100
TZNAME:Europe/Paris CET
END:STANDARD
BEGIN:STANDARD
DTSTART:20221030T020000
RDATE:20230326T030000
TZOFFSETFROM:+0200
TZOFFSETTO:+0100
TZNAME:Europe/Paris CET
END:STANDARD
BEGIN:STANDARD
DTSTART:20231029T020000
RDATE:20240331T030000
TZOFFSETFROM:+0200
TZOFFSETTO:+0100
TZNAME:Europe/Paris CET
END:STANDARD
BEGIN:STANDARD
DTSTART:20241027T020000
RDATE:20250330T030000
TZOFFSETFROM:+0200
TZOFFSETTO:+0100
TZNAME:Europe/Paris CET
END:STANDARD
BEGIN:STANDARD
DTSTART:20251026T020000
RDATE:20260329T030000
TZOFFSETFROM:+0200
TZOFFSETTO:+0100
TZNAME:Europe/Paris CET
END:STANDARD
BEGIN:STANDARD
DTSTART:20261025T020000
RDATE:20270328T030000
TZOFFSETFROM:+0200
TZOFFSETTO:+0100
TZNAME:Europe/Paris CET
END:STANDARD
BEGIN:DAYLIGHT
DTSTART:20130331T030000
RDATE:20131027T020000
TZOFFSETFROM:+0100
TZOFFSETTO:+0200
TZNAME:Europe/Paris CEST
END:DAYLIGHT
BEGIN:DAYLIGHT
DTSTART:20140330T030000
RDATE:20141026T020000
TZOFFSETFROM:+0100
TZOFFSETTO:+0200
TZNAME:Europe/Paris CEST
END:DAYLIGHT
BEGIN:DAYLIGHT
DTSTART:20150329T030000
RDATE:20151025T020000
TZOFFSETFROM:+0100
TZOFFSETTO:+0200
TZNAME:Europe/Paris CEST
END:DAYLIGHT
BEGIN:DAYLIGHT
DTSTART:20160327T030000
RDATE:20161030T020000
TZOFFSETFROM:+0100
TZOFFSETTO:+0200
TZNAME:Europe/Paris CEST
END:DAYLIGHT
BEGIN:DAYLIGHT
DTSTART:20170326T030000
RDATE:20171029T020000
TZOFFSETFROM:+0100
TZOFFSETTO:+0200
TZNAME:Europe/Paris CEST
END:DAYLIGHT
BEGIN:DAYLIGHT
DTSTART:20180325T030000
RDATE:20181028T020000
TZOFFSETFROM:+0100
TZOFFSETTO:+0200
TZNAME:Europe/Paris CEST
END:DAYLIGHT
BEGIN:DAYLIGHT
DTSTART:20190331T030000
RDATE:20191027T020000
TZOFFSETFROM:+0100
TZOFFSETTO:+0200
TZNAME:Europe/Paris CEST
END:DAYLIGHT
BEGIN:DAYLIGHT
DTSTART:20200329T030000
RDATE:20201025T020000
TZOFFSETFROM:+0100
TZOFFSETTO:+0200
TZNAME:Europe/Paris CEST
END:DAYLIGHT
BEGIN:DAYLIGHT
DTSTART:20210328T030000
RDATE:20211031T020000
TZOFFSETFROM:+0100
TZOFFSETTO:+0200
TZNAME:Europe/Paris CEST
END:DAYLIGHT
BEGIN:DAYLIGHT
DTSTART:20220327T030000
RDATE:20221030T020000
TZOFFSETFROM:+0100
TZOFFSETTO:+0200
TZNAME:Europe/Paris CEST
END:DAYLIGHT
BEGIN:DAYLIGHT
DTSTART:20230326T030000
RDATE:20231029T020000
TZOFFSETFROM:+0100
TZOFFSETTO:+0200
TZNAME:Europe/Paris CEST
END:DAYLIGHT
BEGIN:DAYLIGHT
DTSTART:20240331T030000
RDATE:20241027T020000
TZOFFSETFROM:+0100
TZOFFSETTO:+0200
TZNAME:Europe/Paris CEST
END:DAYLIGHT
BEGIN:DAYLIGHT
DTSTART:20250330T030000
RDATE:20251026T020000
TZOFFSETFROM:+0100
TZOFFSETTO:+0200
TZNAME:Europe/Paris CEST
END:DAYLIGHT
BEGIN:DAYLIGHT
DTSTART:20260329T030000
RDATE:20261025T020000
TZOFFSETFROM:+0100
TZOFFSETTO:+0200
TZNAME:Europe/Paris CEST
END:DAYLIGHT
END:VTIMEZONE
BEGIN:VEVENT
UID:ad5927a81acb0740ce2a70335bb7fb38
CATEGORIES:Opens et Promos (alpin)
CREATED:20131203T122059
SUMMARY:OPEN J U14 et U16 Prix Mat et Peinture **REPORTE**
URL;VALUE=URI:https://skivosges.net/agenda/export-synchronisation/detailevenement/65/-/op
 en-j-u14-et-u16-prix-mat-et-peinture-reporte?tmpl=component
DESCRIPTION:OPEN J U14 et U16 Prix Mat et Peinture (Epreuve reportée)\n\nLieu : ROUGE G
 AZON \nOrganisateur : SKIEURS DE ST MAURICE/MOSELLE  (14063 SKIEURS DE ST M
 AURICE/MOSELLE)\nEmail : RegularLabs.EmailProtector.unCloak("ep_62855f47");
 \nTelecopie : 03 29 25 25 00\n\nInscriptions en cours sur ce site\n - AMVF0
 101  Slalom Geant de 12 a 15ans au 31/12/2012 (Ben/Min) Filles\n  OPEN J U1
 4 et U16 Prix Mat et Peinture\n - AMVM0101  Slalom Geant de 12 a 15ans au 3
 1/12/2012 (Ben/Min) Garçons\n  OPEN J U14 et U16 Prix Mat et Peinture Cet é
 vènement a été importé depuis :https://skivosges.net/agenda/export-synchron
 isation/detailevenement/65/-/open-j-u14-et-u16-prix-mat-et-peinture-reporte
 ?tmpl=component
X-ALT-DESC;FMTTYPE=text/html:<strong>OPEN J U14 et U16 Prix Mat et Peinture</strong> <font class="attent
 ion4">(Epreuve reportée)</font><br /><br />Lieu : ROUGE GAZON <br />Organis
 ateur : SKIEURS DE ST MAURICE/MOSELLE  <small>(14063 SKIEURS DE ST MAURICE/
 MOSELLE)</small><br />Email : <!-- Cette adresse électronique est protégée 
 contre les robots spammeurs. --><span class="cloaked_email ep_62855f47"><sp
 an data-ep-b="" data-ep-a="&#100;&#97;&#110;&#105;"><span data-ep-b="&#114;
 &#46;&#102;&#114;" data-ep-a="&#101;&#108;&#46;m"><span data-ep-a="or&#101;
 l" data-ep-b="5&#64;&#115;&#102;"></span></span></span></span><script>Regul
 arLabs.EmailProtector.unCloak("ep_62855f47");</script><br />Telecopie : 03 
 29 25 25 00<br /><br />Inscriptions en cours sur ce site<ul type="disc"><li
 >AMVF0101  Slalom Geant <nobr>de 12 a 15ans au 31/12/2012 (Ben/Min)</nobr> 
 Filles<br />&nbsp;&nbsp;OPEN J U14 et U16 Prix Mat et Peinture</li><li>AMVM
 0101  Slalom Geant <nobr>de 12 a 15ans au 31/12/2012 (Ben/Min)</nobr> Garço
 ns<br />&nbsp;&nbsp;OPEN J U14 et U16 Prix Mat et Peinture</li></ul> <a hre
 f="https://skivosges.net/agenda/export-synchronisation/detailevenement/65/-
 /open-j-u14-et-u16-prix-mat-et-peinture-reporte?tmpl=component">Cet évèneme
 nt a été importé depuis :https://skivosges.net/agenda/export-synchronisatio
 n/detailevenement/65/-/open-j-u14-et-u16-prix-mat-et-peinture-reporte?tmpl=
 component</a>DTSTAMP:20260423T141950
DTSTART;TZID=Europe/Paris:20140104T080000
DTEND;TZID=Europe/Paris:20140104T170000
SEQUENCE:0
TRANSP:OPAQUE
END:VEVENT
END:VCALENDAR