BEGIN:VCALENDAR
VERSION:2.0
PRODID:-//jEvents 2.0 for Joomla//EN
CALSCALE:GREGORIAN
METHOD:PUBLISH
BEGIN:VTIMEZONE
TZID:Europe/Paris
BEGIN:STANDARD
DTSTART:20151231T000000
RDATE:20160327T030000
TZOFFSETFROM:+0200
TZOFFSETTO:+0100
TZNAME:Europe/Paris CET
END:STANDARD
BEGIN:STANDARD
DTSTART:20161030T020000
RDATE:20170326T030000
TZOFFSETFROM:+0200
TZOFFSETTO:+0100
TZNAME:Europe/Paris CET
END:STANDARD
BEGIN:STANDARD
DTSTART:20171029T020000
RDATE:20180325T030000
TZOFFSETFROM:+0200
TZOFFSETTO:+0100
TZNAME:Europe/Paris CET
END:STANDARD
BEGIN:STANDARD
DTSTART:20181028T020000
RDATE:20190331T030000
TZOFFSETFROM:+0200
TZOFFSETTO:+0100
TZNAME:Europe/Paris CET
END:STANDARD
BEGIN:STANDARD
DTSTART:20191027T020000
RDATE:20200329T030000
TZOFFSETFROM:+0200
TZOFFSETTO:+0100
TZNAME:Europe/Paris CET
END:STANDARD
BEGIN:STANDARD
DTSTART:20201025T020000
RDATE:20210328T030000
TZOFFSETFROM:+0200
TZOFFSETTO:+0100
TZNAME:Europe/Paris CET
END:STANDARD
BEGIN:STANDARD
DTSTART:20211031T020000
RDATE:20220327T030000
TZOFFSETFROM:+0200
TZOFFSETTO:+0100
TZNAME:Europe/Paris CET
END:STANDARD
BEGIN:STANDARD
DTSTART:20221030T020000
RDATE:20230326T030000
TZOFFSETFROM:+0200
TZOFFSETTO:+0100
TZNAME:Europe/Paris CET
END:STANDARD
BEGIN:STANDARD
DTSTART:20231029T020000
RDATE:20240331T030000
TZOFFSETFROM:+0200
TZOFFSETTO:+0100
TZNAME:Europe/Paris CET
END:STANDARD
BEGIN:STANDARD
DTSTART:20241027T020000
RDATE:20250330T030000
TZOFFSETFROM:+0200
TZOFFSETTO:+0100
TZNAME:Europe/Paris CET
END:STANDARD
BEGIN:STANDARD
DTSTART:20251026T020000
RDATE:20260329T030000
TZOFFSETFROM:+0200
TZOFFSETTO:+0100
TZNAME:Europe/Paris CET
END:STANDARD
BEGIN:STANDARD
DTSTART:20261025T020000
RDATE:20270328T030000
TZOFFSETFROM:+0200
TZOFFSETTO:+0100
TZNAME:Europe/Paris CET
END:STANDARD
BEGIN:DAYLIGHT
DTSTART:20160327T030000
RDATE:20161030T020000
TZOFFSETFROM:+0100
TZOFFSETTO:+0200
TZNAME:Europe/Paris CEST
END:DAYLIGHT
BEGIN:DAYLIGHT
DTSTART:20170326T030000
RDATE:20171029T020000
TZOFFSETFROM:+0100
TZOFFSETTO:+0200
TZNAME:Europe/Paris CEST
END:DAYLIGHT
BEGIN:DAYLIGHT
DTSTART:20180325T030000
RDATE:20181028T020000
TZOFFSETFROM:+0100
TZOFFSETTO:+0200
TZNAME:Europe/Paris CEST
END:DAYLIGHT
BEGIN:DAYLIGHT
DTSTART:20190331T030000
RDATE:20191027T020000
TZOFFSETFROM:+0100
TZOFFSETTO:+0200
TZNAME:Europe/Paris CEST
END:DAYLIGHT
BEGIN:DAYLIGHT
DTSTART:20200329T030000
RDATE:20201025T020000
TZOFFSETFROM:+0100
TZOFFSETTO:+0200
TZNAME:Europe/Paris CEST
END:DAYLIGHT
BEGIN:DAYLIGHT
DTSTART:20210328T030000
RDATE:20211031T020000
TZOFFSETFROM:+0100
TZOFFSETTO:+0200
TZNAME:Europe/Paris CEST
END:DAYLIGHT
BEGIN:DAYLIGHT
DTSTART:20220327T030000
RDATE:20221030T020000
TZOFFSETFROM:+0100
TZOFFSETTO:+0200
TZNAME:Europe/Paris CEST
END:DAYLIGHT
BEGIN:DAYLIGHT
DTSTART:20230326T030000
RDATE:20231029T020000
TZOFFSETFROM:+0100
TZOFFSETTO:+0200
TZNAME:Europe/Paris CEST
END:DAYLIGHT
BEGIN:DAYLIGHT
DTSTART:20240331T030000
RDATE:20241027T020000
TZOFFSETFROM:+0100
TZOFFSETTO:+0200
TZNAME:Europe/Paris CEST
END:DAYLIGHT
BEGIN:DAYLIGHT
DTSTART:20250330T030000
RDATE:20251026T020000
TZOFFSETFROM:+0100
TZOFFSETTO:+0200
TZNAME:Europe/Paris CEST
END:DAYLIGHT
BEGIN:DAYLIGHT
DTSTART:20260329T030000
RDATE:20261025T020000
TZOFFSETFROM:+0100
TZOFFSETTO:+0200
TZNAME:Europe/Paris CEST
END:DAYLIGHT
END:VTIMEZONE
BEGIN:VEVENT
UID:e2f8939f0094f4fd19cff586da707353
CATEGORIES:Compétition Ski de Fond
CREATED:20161202T134851
SUMMARY:Coupe de la Hasel
URL;VALUE=URI:https://skivosges.net/agenda/export-synchronisation/detailevenement/656/-/c
 oupe-de-la-hasel?tmpl=component
DESCRIPTION:<!-- #gskiepreuve code généré par le plugin jevents pour GskiEpreuves. Ne p
 as modifier cette ligne, ni tout le contenu suivant  #gskiepreuve --><div c
 lass="gski-evenement_infos"><div class="gski-evenement-nom">Coupe de la Has
 el</div><div class="gski-evenement-report"></div><ul class="gski-evenement-
 liste-infos"><li>Codex évenement FMVT0060</li><li>Lieu : CHAMP DU FEU</li><
 li>Station : CHAMP DU FEU</li><li>Organisateur : 14336 SKI CLUB OBERHASLACH
 </li><li>Téléphone : 0624124123</li><li><span class="gski-evenement-obs">Au
 tres informations : la course aura lieu sur le site de La Bresse</span></li
 ></ul><div class="gski-evenement-infos-2"><div class="gski-evenement-info-i
 nscriptions"><div class="gski-evenement-inscriptions-periodes">Période d'in
 scription à l'evènement du samedi 24 décembre 2016 à 01:00 au jeudi 29 déce
 mbre 2016 à 22:00 <span class="gski-evenement-inscriptions-impossibles">(In
 scriptions impossibles).</span><div class="gski-evenement-inscriptions-type
 s-titres">Le type de titres Fédéraux autorisé n'est pas défini. Veuillez co
 ntacter l'organisateur et lui signaler le problème.</div></div></div><div c
 lass="gski-evenement-epreuves"><div class="gski-evenement-epreuves-titres">
 Epreuves :</div><ul class="gski-evenement-epreuves-list"><li><div class="gs
 ki-epreuve-date">Le samedi 31 décembre 2016</div><ul class="gski-epreuve-li
 ste-infos"><li>Codex épreuve FMVF0061</li><li>Depart Individuel</li></ul></
 li><li><div class="gski-epreuve-date">Le samedi 31 décembre 2016</div><ul c
 lass="gski-epreuve-liste-infos"><li>Codex épreuve FMVF0062</li><li>Depart I
 ndividuel</li></ul></li><li><div class="gski-epreuve-date">Le samedi 31 déc
 embre 2016</div><ul class="gski-epreuve-liste-infos"><li>Codex épreuve FMVM
 0061</li><li>Depart Individuel</li></ul></li><li><div class="gski-epreuve-d
 ate">Le samedi 31 décembre 2016</div><ul class="gski-epreuve-liste-infos"><
 li>Codex épreuve FMVM0062</li><li>Depart Individuel</li></ul></li><li><div 
 class="gski-epreuve-date">Le samedi 31 décembre 2016</div><ul class="gski-e
 preuve-liste-infos"><li>Codex épreuve FMVM0063</li><li>Depart Individuel</l
 i></ul></li></ul></div><div class="gskiepreuves-links"><ul><li><a href="/in
 dex.php?option=com_jevents&task=icalevent.detail&evid=651&Itemid=6283">Voir
  les informations dans l'agenda...</a></li><li><a href="/index.php?option=c
 om_gskiepreuves&view=afficheresultats&format_option=tous&filter[search]=FMV
 T0060&filter[date_debut]=31-12-2016&filter[date_fin]=31-12-2016&code_activi
 te=FOND&Itemid=6283">Vers les résultats...</a></li></ul></div></div"><!-- #
 /gskiepreuve fin du dode généré par le plugin jevents pour GskiEpreuves. . 
 Ne pas modifier cette ligne, ni tout le contenu précedant.  #/gskiepreuve -
 -> <a href="https://skivosges.net/agenda/export-synchronisation/detailevene
 ment/656/-/coupe-de-la-hasel?tmpl=component">Cet évènement a été importé de
 puis :https://skivosges.net/agenda/export-synchronisation/detailevenement/6
 56/-/coupe-de-la-hasel?tmpl=component</a>
X-ALT-DESC;FMTTYPE=text/html:<!-- #gskiepreuve code généré par le plugin jevents pour GskiEpreuves. Ne p
 as modifier cette ligne, ni tout le contenu suivant  #gskiepreuve --><div c
 lass="gski-evenement_infos"><div class="gski-evenement-nom">Coupe de la Has
 el</div><div class="gski-evenement-report"></div><ul class="gski-evenement-
 liste-infos"><li>Codex évenement FMVT0060</li><li>Lieu : CHAMP DU FEU</li><
 li>Station : CHAMP DU FEU</li><li>Organisateur : 14336 SKI CLUB OBERHASLACH
 </li><li>Téléphone : 0624124123</li><li><span class="gski-evenement-obs">Au
 tres informations : la course aura lieu sur le site de La Bresse</span></li
 ></ul><div class="gski-evenement-infos-2"><div class="gski-evenement-info-i
 nscriptions"><div class="gski-evenement-inscriptions-periodes">Période d'in
 scription à l'evènement du samedi 24 décembre 2016 à 01:00 au jeudi 29 déce
 mbre 2016 à 22:00 <span class="gski-evenement-inscriptions-impossibles">(In
 scriptions impossibles).</span><div class="gski-evenement-inscriptions-type
 s-titres">Le type de titres Fédéraux autorisé n'est pas défini. Veuillez co
 ntacter l'organisateur et lui signaler le problème.</div></div></div><div c
 lass="gski-evenement-epreuves"><div class="gski-evenement-epreuves-titres">
 Epreuves :</div><ul class="gski-evenement-epreuves-list"><li><div class="gs
 ki-epreuve-date">Le samedi 31 décembre 2016</div><ul class="gski-epreuve-li
 ste-infos"><li>Codex épreuve FMVF0061</li><li>Depart Individuel</li></ul></
 li><li><div class="gski-epreuve-date">Le samedi 31 décembre 2016</div><ul c
 lass="gski-epreuve-liste-infos"><li>Codex épreuve FMVF0062</li><li>Depart I
 ndividuel</li></ul></li><li><div class="gski-epreuve-date">Le samedi 31 déc
 embre 2016</div><ul class="gski-epreuve-liste-infos"><li>Codex épreuve FMVM
 0061</li><li>Depart Individuel</li></ul></li><li><div class="gski-epreuve-d
 ate">Le samedi 31 décembre 2016</div><ul class="gski-epreuve-liste-infos"><
 li>Codex épreuve FMVM0062</li><li>Depart Individuel</li></ul></li><li><div 
 class="gski-epreuve-date">Le samedi 31 décembre 2016</div><ul class="gski-e
 preuve-liste-infos"><li>Codex épreuve FMVM0063</li><li>Depart Individuel</l
 i></ul></li></ul></div><div class="gskiepreuves-links"><ul><li><a href="htt
 ps://skivosges.net/index.php?option=com_jevents&task=icalevent.detail&evid=
 651&Itemid=6283">Voir les informations dans l'agenda...</a></li><li><a href
 ="https://skivosges.net/index.php?option=com_gskiepreuves&view=afficheresul
 tats&format_option=tous&filter[search]=FMVT0060&filter[date_debut]=31-12-20
 16&filter[date_fin]=31-12-2016&code_activite=FOND&Itemid=6283">Vers les rés
 ultats...</a></li></ul></div></div"><!-- #/gskiepreuve fin du dode généré p
 ar le plugin jevents pour GskiEpreuves. . Ne pas modifier cette ligne, ni t
 out le contenu précedant.  #/gskiepreuve --> <a href="https://skivosges.net
 /agenda/export-synchronisation/detailevenement/656/-/coupe-de-la-hasel?tmpl
 =component">Cet évènement a été importé depuis :https://skivosges.net/agend
 a/export-synchronisation/detailevenement/656/-/coupe-de-la-hasel?tmpl=compo
 nent</a>DTSTAMP:20260420T221314
DTSTART;TZID=Europe/Paris;VALUE=DATE:20161231
DTEND;TZID=Europe/Paris;VALUE=DATE:20170101
SEQUENCE:0
TRANSP:OPAQUE
END:VEVENT
END:VCALENDAR