BEGIN:VCALENDAR
VERSION:2.0
PRODID:-//jEvents 2.0 for Joomla//EN
CALSCALE:GREGORIAN
METHOD:PUBLISH
BEGIN:VTIMEZONE
TZID:Europe/Paris
BEGIN:STANDARD
DTSTART:20160107T000000
RDATE:20160327T030000
TZOFFSETFROM:+0200
TZOFFSETTO:+0100
TZNAME:Europe/Paris CET
END:STANDARD
BEGIN:STANDARD
DTSTART:20161030T020000
RDATE:20170326T030000
TZOFFSETFROM:+0200
TZOFFSETTO:+0100
TZNAME:Europe/Paris CET
END:STANDARD
BEGIN:STANDARD
DTSTART:20171029T020000
RDATE:20180325T030000
TZOFFSETFROM:+0200
TZOFFSETTO:+0100
TZNAME:Europe/Paris CET
END:STANDARD
BEGIN:STANDARD
DTSTART:20181028T020000
RDATE:20190331T030000
TZOFFSETFROM:+0200
TZOFFSETTO:+0100
TZNAME:Europe/Paris CET
END:STANDARD
BEGIN:STANDARD
DTSTART:20191027T020000
RDATE:20200329T030000
TZOFFSETFROM:+0200
TZOFFSETTO:+0100
TZNAME:Europe/Paris CET
END:STANDARD
BEGIN:STANDARD
DTSTART:20201025T020000
RDATE:20210328T030000
TZOFFSETFROM:+0200
TZOFFSETTO:+0100
TZNAME:Europe/Paris CET
END:STANDARD
BEGIN:STANDARD
DTSTART:20211031T020000
RDATE:20220327T030000
TZOFFSETFROM:+0200
TZOFFSETTO:+0100
TZNAME:Europe/Paris CET
END:STANDARD
BEGIN:STANDARD
DTSTART:20221030T020000
RDATE:20230326T030000
TZOFFSETFROM:+0200
TZOFFSETTO:+0100
TZNAME:Europe/Paris CET
END:STANDARD
BEGIN:STANDARD
DTSTART:20231029T020000
RDATE:20240331T030000
TZOFFSETFROM:+0200
TZOFFSETTO:+0100
TZNAME:Europe/Paris CET
END:STANDARD
BEGIN:STANDARD
DTSTART:20241027T020000
RDATE:20250330T030000
TZOFFSETFROM:+0200
TZOFFSETTO:+0100
TZNAME:Europe/Paris CET
END:STANDARD
BEGIN:STANDARD
DTSTART:20251026T020000
RDATE:20260329T030000
TZOFFSETFROM:+0200
TZOFFSETTO:+0100
TZNAME:Europe/Paris CET
END:STANDARD
BEGIN:STANDARD
DTSTART:20261025T020000
RDATE:20270328T030000
TZOFFSETFROM:+0200
TZOFFSETTO:+0100
TZNAME:Europe/Paris CET
END:STANDARD
BEGIN:DAYLIGHT
DTSTART:20160327T030000
RDATE:20161030T020000
TZOFFSETFROM:+0100
TZOFFSETTO:+0200
TZNAME:Europe/Paris CEST
END:DAYLIGHT
BEGIN:DAYLIGHT
DTSTART:20170326T030000
RDATE:20171029T020000
TZOFFSETFROM:+0100
TZOFFSETTO:+0200
TZNAME:Europe/Paris CEST
END:DAYLIGHT
BEGIN:DAYLIGHT
DTSTART:20180325T030000
RDATE:20181028T020000
TZOFFSETFROM:+0100
TZOFFSETTO:+0200
TZNAME:Europe/Paris CEST
END:DAYLIGHT
BEGIN:DAYLIGHT
DTSTART:20190331T030000
RDATE:20191027T020000
TZOFFSETFROM:+0100
TZOFFSETTO:+0200
TZNAME:Europe/Paris CEST
END:DAYLIGHT
BEGIN:DAYLIGHT
DTSTART:20200329T030000
RDATE:20201025T020000
TZOFFSETFROM:+0100
TZOFFSETTO:+0200
TZNAME:Europe/Paris CEST
END:DAYLIGHT
BEGIN:DAYLIGHT
DTSTART:20210328T030000
RDATE:20211031T020000
TZOFFSETFROM:+0100
TZOFFSETTO:+0200
TZNAME:Europe/Paris CEST
END:DAYLIGHT
BEGIN:DAYLIGHT
DTSTART:20220327T030000
RDATE:20221030T020000
TZOFFSETFROM:+0100
TZOFFSETTO:+0200
TZNAME:Europe/Paris CEST
END:DAYLIGHT
BEGIN:DAYLIGHT
DTSTART:20230326T030000
RDATE:20231029T020000
TZOFFSETFROM:+0100
TZOFFSETTO:+0200
TZNAME:Europe/Paris CEST
END:DAYLIGHT
BEGIN:DAYLIGHT
DTSTART:20240331T030000
RDATE:20241027T020000
TZOFFSETFROM:+0100
TZOFFSETTO:+0200
TZNAME:Europe/Paris CEST
END:DAYLIGHT
BEGIN:DAYLIGHT
DTSTART:20250330T030000
RDATE:20251026T020000
TZOFFSETFROM:+0100
TZOFFSETTO:+0200
TZNAME:Europe/Paris CEST
END:DAYLIGHT
BEGIN:DAYLIGHT
DTSTART:20260329T030000
RDATE:20261025T020000
TZOFFSETFROM:+0100
TZOFFSETTO:+0200
TZNAME:Europe/Paris CEST
END:DAYLIGHT
END:VTIMEZONE
BEGIN:VEVENT
UID:c3693708cadf3ee7d5711bd4ae626c4e
CATEGORIES:Compétition Saut
CREATED:20161202T134851
SUMMARY:SAMSE National Tour
URL;VALUE=URI:https://skivosges.net/agenda/export-synchronisation/detailevenement/659/-/s
 amse-national-tour?tmpl=component
DESCRIPTION:<!-- #gskiepreuve code généré par le plugin jevents pour GskiEpreuves. Ne p
 as modifier cette ligne, ni tout le contenu suivant  #gskiepreuve --><div c
 lass="gski-evenement_infos"><div class="gski-evenement-nom">SAMSE National 
 Tour</div><div class="gski-evenement-report"></div><ul class="gski-evenemen
 t-liste-infos"><li>Codex évenement TNAT0030</li><li>Lieu : GERARDMER</li><l
 i>Station : GERARDMER</li><li>Organisateur : 14469 A.S GERARDMER SKI NORDIQ
 UE</li></ul><div class="gski-evenement-infos-2"><div class="gski-evenement-
 info-inscriptions"><div class="gski-evenement-inscriptions-periodes">Périod
 e d'inscription à l'evènement du samedi 31 décembre 2016 à 01:00 au jeudi 0
 5 janvier 2017 à 13:00 <span class="gski-evenement-inscriptions-impossibles
 ">(Inscriptions impossibles).</span><div class="gski-evenement-inscriptions
 -types-titres">Le type de titres Fédéraux autorisé n'est pas défini. Veuill
 ez contacter l'organisateur et lui signaler le problème.</div></div></div><
 div class="gski-evenement-epreuves"><div class="gski-evenement-epreuves-tit
 res">Epreuves :</div><ul class="gski-evenement-epreuves-list"><li><div clas
 s="gski-epreuve-date">Le samedi 07 janvier 2017</div><ul class="gski-epreuv
 e-liste-infos"><li>Codex épreuve TNAM0031</li><li>Saut Special</li></ul></l
 i><li><div class="gski-epreuve-date">Le samedi 07 janvier 2017</div><ul cla
 ss="gski-epreuve-liste-infos"><li>Codex épreuve TNAF0031</li><li>Saut Speci
 al</li></ul></li><li><div class="gski-epreuve-date">Le samedi 07 janvier 20
 17</div><ul class="gski-epreuve-liste-infos"><li>Codex épreuve TNAM0032</li
 ><li>Saut Special</li></ul></li><li><div class="gski-epreuve-date">Le samed
 i 07 janvier 2017</div><ul class="gski-epreuve-liste-infos"><li>Codex épreu
 ve TNAF0032</li><li>Saut Special</li></ul></li></ul></div><div class="gskie
 preuves-links"><ul><li><a href="/index.php?option=com_jevents&task=icaleven
 t.detail&evid=654&Itemid=6283">Voir les informations dans l'agenda...</a></
 li></ul></div></div"><!-- #/gskiepreuve fin du dode généré par le plugin je
 vents pour GskiEpreuves. . Ne pas modifier cette ligne, ni tout le contenu 
 précedant.  #/gskiepreuve --> <a href="https://skivosges.net/agenda/export-
 synchronisation/detailevenement/659/-/samse-national-tour?tmpl=component">C
 et évènement a été importé depuis :https://skivosges.net/agenda/export-sync
 hronisation/detailevenement/659/-/samse-national-tour?tmpl=component</a>
X-ALT-DESC;FMTTYPE=text/html:<!-- #gskiepreuve code généré par le plugin jevents pour GskiEpreuves. Ne p
 as modifier cette ligne, ni tout le contenu suivant  #gskiepreuve --><div c
 lass="gski-evenement_infos"><div class="gski-evenement-nom">SAMSE National 
 Tour</div><div class="gski-evenement-report"></div><ul class="gski-evenemen
 t-liste-infos"><li>Codex évenement TNAT0030</li><li>Lieu : GERARDMER</li><l
 i>Station : GERARDMER</li><li>Organisateur : 14469 A.S GERARDMER SKI NORDIQ
 UE</li></ul><div class="gski-evenement-infos-2"><div class="gski-evenement-
 info-inscriptions"><div class="gski-evenement-inscriptions-periodes">Périod
 e d'inscription à l'evènement du samedi 31 décembre 2016 à 01:00 au jeudi 0
 5 janvier 2017 à 13:00 <span class="gski-evenement-inscriptions-impossibles
 ">(Inscriptions impossibles).</span><div class="gski-evenement-inscriptions
 -types-titres">Le type de titres Fédéraux autorisé n'est pas défini. Veuill
 ez contacter l'organisateur et lui signaler le problème.</div></div></div><
 div class="gski-evenement-epreuves"><div class="gski-evenement-epreuves-tit
 res">Epreuves :</div><ul class="gski-evenement-epreuves-list"><li><div clas
 s="gski-epreuve-date">Le samedi 07 janvier 2017</div><ul class="gski-epreuv
 e-liste-infos"><li>Codex épreuve TNAM0031</li><li>Saut Special</li></ul></l
 i><li><div class="gski-epreuve-date">Le samedi 07 janvier 2017</div><ul cla
 ss="gski-epreuve-liste-infos"><li>Codex épreuve TNAF0031</li><li>Saut Speci
 al</li></ul></li><li><div class="gski-epreuve-date">Le samedi 07 janvier 20
 17</div><ul class="gski-epreuve-liste-infos"><li>Codex épreuve TNAM0032</li
 ><li>Saut Special</li></ul></li><li><div class="gski-epreuve-date">Le samed
 i 07 janvier 2017</div><ul class="gski-epreuve-liste-infos"><li>Codex épreu
 ve TNAF0032</li><li>Saut Special</li></ul></li></ul></div><div class="gskie
 preuves-links"><ul><li><a href="https://skivosges.net/index.php?option=com_
 jevents&task=icalevent.detail&evid=654&Itemid=6283">Voir les informations d
 ans l'agenda...</a></li></ul></div></div"><!-- #/gskiepreuve fin du dode gé
 néré par le plugin jevents pour GskiEpreuves. . Ne pas modifier cette ligne
 , ni tout le contenu précedant.  #/gskiepreuve --> <a href="https://skivosg
 es.net/agenda/export-synchronisation/detailevenement/659/-/samse-national-t
 our?tmpl=component">Cet évènement a été importé depuis :https://skivosges.n
 et/agenda/export-synchronisation/detailevenement/659/-/samse-national-tour?
 tmpl=component</a>DTSTAMP:20260420T221353
DTSTART;TZID=Europe/Paris;VALUE=DATE:20170107
DTEND;TZID=Europe/Paris;VALUE=DATE:20170109
SEQUENCE:0
TRANSP:OPAQUE
END:VEVENT
END:VCALENDAR