BEGIN:VCALENDAR
VERSION:2.0
PRODID:-//jEvents 2.0 for Joomla//EN
CALSCALE:GREGORIAN
METHOD:PUBLISH
BEGIN:VTIMEZONE
TZID:Europe/Paris
BEGIN:STANDARD
DTSTART:20160107T000000
RDATE:20160327T030000
TZOFFSETFROM:+0200
TZOFFSETTO:+0100
TZNAME:Europe/Paris CET
END:STANDARD
BEGIN:STANDARD
DTSTART:20161030T020000
RDATE:20170326T030000
TZOFFSETFROM:+0200
TZOFFSETTO:+0100
TZNAME:Europe/Paris CET
END:STANDARD
BEGIN:STANDARD
DTSTART:20171029T020000
RDATE:20180325T030000
TZOFFSETFROM:+0200
TZOFFSETTO:+0100
TZNAME:Europe/Paris CET
END:STANDARD
BEGIN:STANDARD
DTSTART:20181028T020000
RDATE:20190331T030000
TZOFFSETFROM:+0200
TZOFFSETTO:+0100
TZNAME:Europe/Paris CET
END:STANDARD
BEGIN:STANDARD
DTSTART:20191027T020000
RDATE:20200329T030000
TZOFFSETFROM:+0200
TZOFFSETTO:+0100
TZNAME:Europe/Paris CET
END:STANDARD
BEGIN:STANDARD
DTSTART:20201025T020000
RDATE:20210328T030000
TZOFFSETFROM:+0200
TZOFFSETTO:+0100
TZNAME:Europe/Paris CET
END:STANDARD
BEGIN:STANDARD
DTSTART:20211031T020000
RDATE:20220327T030000
TZOFFSETFROM:+0200
TZOFFSETTO:+0100
TZNAME:Europe/Paris CET
END:STANDARD
BEGIN:STANDARD
DTSTART:20221030T020000
RDATE:20230326T030000
TZOFFSETFROM:+0200
TZOFFSETTO:+0100
TZNAME:Europe/Paris CET
END:STANDARD
BEGIN:STANDARD
DTSTART:20231029T020000
RDATE:20240331T030000
TZOFFSETFROM:+0200
TZOFFSETTO:+0100
TZNAME:Europe/Paris CET
END:STANDARD
BEGIN:STANDARD
DTSTART:20241027T020000
RDATE:20250330T030000
TZOFFSETFROM:+0200
TZOFFSETTO:+0100
TZNAME:Europe/Paris CET
END:STANDARD
BEGIN:STANDARD
DTSTART:20251026T020000
RDATE:20260329T030000
TZOFFSETFROM:+0200
TZOFFSETTO:+0100
TZNAME:Europe/Paris CET
END:STANDARD
BEGIN:STANDARD
DTSTART:20261025T020000
RDATE:20270328T030000
TZOFFSETFROM:+0200
TZOFFSETTO:+0100
TZNAME:Europe/Paris CET
END:STANDARD
BEGIN:DAYLIGHT
DTSTART:20160327T030000
RDATE:20161030T020000
TZOFFSETFROM:+0100
TZOFFSETTO:+0200
TZNAME:Europe/Paris CEST
END:DAYLIGHT
BEGIN:DAYLIGHT
DTSTART:20170326T030000
RDATE:20171029T020000
TZOFFSETFROM:+0100
TZOFFSETTO:+0200
TZNAME:Europe/Paris CEST
END:DAYLIGHT
BEGIN:DAYLIGHT
DTSTART:20180325T030000
RDATE:20181028T020000
TZOFFSETFROM:+0100
TZOFFSETTO:+0200
TZNAME:Europe/Paris CEST
END:DAYLIGHT
BEGIN:DAYLIGHT
DTSTART:20190331T030000
RDATE:20191027T020000
TZOFFSETFROM:+0100
TZOFFSETTO:+0200
TZNAME:Europe/Paris CEST
END:DAYLIGHT
BEGIN:DAYLIGHT
DTSTART:20200329T030000
RDATE:20201025T020000
TZOFFSETFROM:+0100
TZOFFSETTO:+0200
TZNAME:Europe/Paris CEST
END:DAYLIGHT
BEGIN:DAYLIGHT
DTSTART:20210328T030000
RDATE:20211031T020000
TZOFFSETFROM:+0100
TZOFFSETTO:+0200
TZNAME:Europe/Paris CEST
END:DAYLIGHT
BEGIN:DAYLIGHT
DTSTART:20220327T030000
RDATE:20221030T020000
TZOFFSETFROM:+0100
TZOFFSETTO:+0200
TZNAME:Europe/Paris CEST
END:DAYLIGHT
BEGIN:DAYLIGHT
DTSTART:20230326T030000
RDATE:20231029T020000
TZOFFSETFROM:+0100
TZOFFSETTO:+0200
TZNAME:Europe/Paris CEST
END:DAYLIGHT
BEGIN:DAYLIGHT
DTSTART:20240331T030000
RDATE:20241027T020000
TZOFFSETFROM:+0100
TZOFFSETTO:+0200
TZNAME:Europe/Paris CEST
END:DAYLIGHT
BEGIN:DAYLIGHT
DTSTART:20250330T030000
RDATE:20251026T020000
TZOFFSETFROM:+0100
TZOFFSETTO:+0200
TZNAME:Europe/Paris CEST
END:DAYLIGHT
BEGIN:DAYLIGHT
DTSTART:20260329T030000
RDATE:20261025T020000
TZOFFSETFROM:+0100
TZOFFSETTO:+0200
TZNAME:Europe/Paris CEST
END:DAYLIGHT
END:VTIMEZONE
BEGIN:VEVENT
UID:a2208d62e1e8c1fa8cc05e8407ba0249
CATEGORIES:Compétition Ski de Fond
CREATED:20161202T134851
SUMMARY:1ère Rencontre Nordique
URL;VALUE=URI:https://skivosges.net/agenda/export-synchronisation/detailevenement/660/-/1
 ere-rencontre-nordique?tmpl=component
DESCRIPTION:<!-- #gskiepreuve code généré par le plugin jevents pour GskiEpreuves. Ne p
 as modifier cette ligne, ni tout le contenu suivant  #gskiepreuve --><div c
 lass="gski-evenement_infos"><div class="gski-evenement-nom">1ère Rencontre 
 Nordique</div><div class="gski-evenement-report"></div><ul class="gski-even
 ement-liste-infos"><li>Codex évenement FMVT0070</li><li>Organisateur : 1402
 4 LA BRESSAUDE SECTION SKI</li></ul><div class="gski-evenement-infos-2"><di
 v class="gski-evenement-info-inscriptions"><div class="gski-evenement-inscr
 iptions-periodes">Période d'inscription à l'evènement du samedi 31 décembre
  2016 à 01:00 au jeudi 05 janvier 2017 à 13:00 <span class="gski-evenement-
 inscriptions-impossibles">(Inscriptions impossibles).</span><div class="gsk
 i-evenement-inscriptions-types-titres">Le type de titres Fédéraux autorisé 
 n'est pas défini. Veuillez contacter l'organisateur et lui signaler le prob
 lème.</div></div></div><div class="gski-evenement-epreuves"><div class="gsk
 i-evenement-epreuves-titres">Epreuves :</div><ul class="gski-evenement-epre
 uves-list"><li><div class="gski-epreuve-date">Le samedi 07 janvier 2017</di
 v><ul class="gski-epreuve-liste-infos"><li>Codex épreuve FMVF0071</li><li>D
 epart Individuel</li></ul></li><li><div class="gski-epreuve-date">Le samedi
  07 janvier 2017</div><ul class="gski-epreuve-liste-infos"><li>Codex épreuv
 e FMVF0072</li><li>Depart Individuel</li></ul></li><li><div class="gski-epr
 euve-date">Le samedi 07 janvier 2017</div><ul class="gski-epreuve-liste-inf
 os"><li>Codex épreuve FMVM0071</li><li>Depart Individuel</li></ul></li><li>
 <div class="gski-epreuve-date">Le samedi 07 janvier 2017</div><ul class="gs
 ki-epreuve-liste-infos"><li>Codex épreuve FMVM0072</li><li>Depart Individue
 l</li></ul></li></ul></div><div class="gskiepreuves-links"><ul><li><a href=
 "/index.php?option=com_jevents&task=icalevent.detail&evid=655&Itemid=6283">
 Voir les informations dans l'agenda...</a></li></ul></div></div"><!-- #/gsk
 iepreuve fin du dode généré par le plugin jevents pour GskiEpreuves. . Ne p
 as modifier cette ligne, ni tout le contenu précedant.  #/gskiepreuve --> <
 a href="https://skivosges.net/agenda/export-synchronisation/detailevenement
 /660/-/1ere-rencontre-nordique?tmpl=component">Cet évènement a été importé 
 depuis :https://skivosges.net/agenda/export-synchronisation/detailevenement
 /660/-/1ere-rencontre-nordique?tmpl=component</a>
X-ALT-DESC;FMTTYPE=text/html:<!-- #gskiepreuve code généré par le plugin jevents pour GskiEpreuves. Ne p
 as modifier cette ligne, ni tout le contenu suivant  #gskiepreuve --><div c
 lass="gski-evenement_infos"><div class="gski-evenement-nom">1ère Rencontre 
 Nordique</div><div class="gski-evenement-report"></div><ul class="gski-even
 ement-liste-infos"><li>Codex évenement FMVT0070</li><li>Organisateur : 1402
 4 LA BRESSAUDE SECTION SKI</li></ul><div class="gski-evenement-infos-2"><di
 v class="gski-evenement-info-inscriptions"><div class="gski-evenement-inscr
 iptions-periodes">Période d'inscription à l'evènement du samedi 31 décembre
  2016 à 01:00 au jeudi 05 janvier 2017 à 13:00 <span class="gski-evenement-
 inscriptions-impossibles">(Inscriptions impossibles).</span><div class="gsk
 i-evenement-inscriptions-types-titres">Le type de titres Fédéraux autorisé 
 n'est pas défini. Veuillez contacter l'organisateur et lui signaler le prob
 lème.</div></div></div><div class="gski-evenement-epreuves"><div class="gsk
 i-evenement-epreuves-titres">Epreuves :</div><ul class="gski-evenement-epre
 uves-list"><li><div class="gski-epreuve-date">Le samedi 07 janvier 2017</di
 v><ul class="gski-epreuve-liste-infos"><li>Codex épreuve FMVF0071</li><li>D
 epart Individuel</li></ul></li><li><div class="gski-epreuve-date">Le samedi
  07 janvier 2017</div><ul class="gski-epreuve-liste-infos"><li>Codex épreuv
 e FMVF0072</li><li>Depart Individuel</li></ul></li><li><div class="gski-epr
 euve-date">Le samedi 07 janvier 2017</div><ul class="gski-epreuve-liste-inf
 os"><li>Codex épreuve FMVM0071</li><li>Depart Individuel</li></ul></li><li>
 <div class="gski-epreuve-date">Le samedi 07 janvier 2017</div><ul class="gs
 ki-epreuve-liste-infos"><li>Codex épreuve FMVM0072</li><li>Depart Individue
 l</li></ul></li></ul></div><div class="gskiepreuves-links"><ul><li><a href=
 "https://skivosges.net/index.php?option=com_jevents&task=icalevent.detail&e
 vid=655&Itemid=6283">Voir les informations dans l'agenda...</a></li></ul></
 div></div"><!-- #/gskiepreuve fin du dode généré par le plugin jevents pour
  GskiEpreuves. . Ne pas modifier cette ligne, ni tout le contenu précedant.
   #/gskiepreuve --> <a href="https://skivosges.net/agenda/export-synchronis
 ation/detailevenement/660/-/1ere-rencontre-nordique?tmpl=component">Cet évè
 nement a été importé depuis :https://skivosges.net/agenda/export-synchronis
 ation/detailevenement/660/-/1ere-rencontre-nordique?tmpl=component</a>DTSTAMP:20260420T221258
DTSTART;TZID=Europe/Paris;VALUE=DATE:20170107
DTEND;TZID=Europe/Paris;VALUE=DATE:20170108
SEQUENCE:0
TRANSP:OPAQUE
END:VEVENT
END:VCALENDAR