BEGIN:VCALENDAR
VERSION:2.0
PRODID:-//jEvents 2.0 for Joomla//EN
CALSCALE:GREGORIAN
METHOD:PUBLISH
BEGIN:VTIMEZONE
TZID:Europe/Paris
BEGIN:STANDARD
DTSTART:20160108T000000
RDATE:20160327T030000
TZOFFSETFROM:+0200
TZOFFSETTO:+0100
TZNAME:Europe/Paris CET
END:STANDARD
BEGIN:STANDARD
DTSTART:20161030T020000
RDATE:20170326T030000
TZOFFSETFROM:+0200
TZOFFSETTO:+0100
TZNAME:Europe/Paris CET
END:STANDARD
BEGIN:STANDARD
DTSTART:20171029T020000
RDATE:20180325T030000
TZOFFSETFROM:+0200
TZOFFSETTO:+0100
TZNAME:Europe/Paris CET
END:STANDARD
BEGIN:STANDARD
DTSTART:20181028T020000
RDATE:20190331T030000
TZOFFSETFROM:+0200
TZOFFSETTO:+0100
TZNAME:Europe/Paris CET
END:STANDARD
BEGIN:STANDARD
DTSTART:20191027T020000
RDATE:20200329T030000
TZOFFSETFROM:+0200
TZOFFSETTO:+0100
TZNAME:Europe/Paris CET
END:STANDARD
BEGIN:STANDARD
DTSTART:20201025T020000
RDATE:20210328T030000
TZOFFSETFROM:+0200
TZOFFSETTO:+0100
TZNAME:Europe/Paris CET
END:STANDARD
BEGIN:STANDARD
DTSTART:20211031T020000
RDATE:20220327T030000
TZOFFSETFROM:+0200
TZOFFSETTO:+0100
TZNAME:Europe/Paris CET
END:STANDARD
BEGIN:STANDARD
DTSTART:20221030T020000
RDATE:20230326T030000
TZOFFSETFROM:+0200
TZOFFSETTO:+0100
TZNAME:Europe/Paris CET
END:STANDARD
BEGIN:STANDARD
DTSTART:20231029T020000
RDATE:20240331T030000
TZOFFSETFROM:+0200
TZOFFSETTO:+0100
TZNAME:Europe/Paris CET
END:STANDARD
BEGIN:STANDARD
DTSTART:20241027T020000
RDATE:20250330T030000
TZOFFSETFROM:+0200
TZOFFSETTO:+0100
TZNAME:Europe/Paris CET
END:STANDARD
BEGIN:STANDARD
DTSTART:20251026T020000
RDATE:20260329T030000
TZOFFSETFROM:+0200
TZOFFSETTO:+0100
TZNAME:Europe/Paris CET
END:STANDARD
BEGIN:STANDARD
DTSTART:20261025T020000
RDATE:20270328T030000
TZOFFSETFROM:+0200
TZOFFSETTO:+0100
TZNAME:Europe/Paris CET
END:STANDARD
BEGIN:DAYLIGHT
DTSTART:20160327T030000
RDATE:20161030T020000
TZOFFSETFROM:+0100
TZOFFSETTO:+0200
TZNAME:Europe/Paris CEST
END:DAYLIGHT
BEGIN:DAYLIGHT
DTSTART:20170326T030000
RDATE:20171029T020000
TZOFFSETFROM:+0100
TZOFFSETTO:+0200
TZNAME:Europe/Paris CEST
END:DAYLIGHT
BEGIN:DAYLIGHT
DTSTART:20180325T030000
RDATE:20181028T020000
TZOFFSETFROM:+0100
TZOFFSETTO:+0200
TZNAME:Europe/Paris CEST
END:DAYLIGHT
BEGIN:DAYLIGHT
DTSTART:20190331T030000
RDATE:20191027T020000
TZOFFSETFROM:+0100
TZOFFSETTO:+0200
TZNAME:Europe/Paris CEST
END:DAYLIGHT
BEGIN:DAYLIGHT
DTSTART:20200329T030000
RDATE:20201025T020000
TZOFFSETFROM:+0100
TZOFFSETTO:+0200
TZNAME:Europe/Paris CEST
END:DAYLIGHT
BEGIN:DAYLIGHT
DTSTART:20210328T030000
RDATE:20211031T020000
TZOFFSETFROM:+0100
TZOFFSETTO:+0200
TZNAME:Europe/Paris CEST
END:DAYLIGHT
BEGIN:DAYLIGHT
DTSTART:20220327T030000
RDATE:20221030T020000
TZOFFSETFROM:+0100
TZOFFSETTO:+0200
TZNAME:Europe/Paris CEST
END:DAYLIGHT
BEGIN:DAYLIGHT
DTSTART:20230326T030000
RDATE:20231029T020000
TZOFFSETFROM:+0100
TZOFFSETTO:+0200
TZNAME:Europe/Paris CEST
END:DAYLIGHT
BEGIN:DAYLIGHT
DTSTART:20240331T030000
RDATE:20241027T020000
TZOFFSETFROM:+0100
TZOFFSETTO:+0200
TZNAME:Europe/Paris CEST
END:DAYLIGHT
BEGIN:DAYLIGHT
DTSTART:20250330T030000
RDATE:20251026T020000
TZOFFSETFROM:+0100
TZOFFSETTO:+0200
TZNAME:Europe/Paris CEST
END:DAYLIGHT
BEGIN:DAYLIGHT
DTSTART:20260329T030000
RDATE:20261025T020000
TZOFFSETFROM:+0100
TZOFFSETTO:+0200
TZNAME:Europe/Paris CEST
END:DAYLIGHT
END:VTIMEZONE
BEGIN:VEVENT
UID:bad7b8fe63f83cabe398930b2a3f7baf
CATEGORIES:Circuit Lorraine Jeunes (alpin)
CREATED:20161202T134851
SUMMARY:CLJ Coupe de bronze et micro Crédit agricole **REPORTE**
URL;VALUE=URI:https://skivosges.net/agenda/export-synchronisation/detailevenement/662/-/c
 lj-coupe-de-bronze-et-micro-credit-agricole-reporte?tmpl=component
DESCRIPTION:CLJ Coupe de bronze et micro Crédit agricole (Epreuve reportée)\n - Codex é
 venement AMVT0150\n - Circuit : Coupe de Lorraine Jeunes\n - Lieu : LA BRES
 SE \n - Station : LA BRESSE LISPACH\n - COM_GSKIEPREUVES_EPREUVE_PISTEstade
  de slalom\n - Organisateur : 14024 LA BRESSAUDE SECTION SKI\n - Courriel :
  RegularLabs.EmailProtector.unCloak("ep_0b03d68d");\n - Téléphone : 06 08 8
 5 52 52Période d'inscription à l'evènement du dimanche 01 janvier 2017 à 01
 :00 au vendredi 06 janvier 2017 à 13:00 (Inscriptions impossibles).Le type 
 de titres Fédéraux autorisé n'est pas défini. Veuillez contacter l'organisa
 teur et lui signaler le problème.Epreuves :\n - Le dimanche 08 janvier 2017
 \n - Codex épreuve AMVM0151\n - Slalom\n - Circuit : Coupe de Lorraine Jeun
 es\n - Le dimanche 08 janvier 2017\n - Codex épreuve AMVF0151\n - Slalom\n 
 - Circuit : Coupe de Lorraine Jeunes\n - Le dimanche 08 janvier 2017\n - Co
 dex épreuve AMVM0152\n - Slalom\n - Circuit : Coupe de Lorraine Jeunes\n - 
 Le dimanche 08 janvier 2017\n - Codex épreuve AMVF0152\n - Slalom\n - Circu
 it : Coupe de Lorraine Jeunes\n - Le dimanche 08 janvier 2017\n - Codex épr
 euve AMVM0153\n - Slalom\n - Circuit : Coupe de Lorraine Jeunes\n - Le dima
 nche 08 janvier 2017\n - Codex épreuve AMVF0153\n - Slalom\n - Circuit : Co
 upe de Lorraine Jeunes\n - Voir les informations dans l'agenda... (/index.p
 hp?option=com_jevents&amp;task=icalevent.detail&amp;evid=657&amp;Itemid=628
 3)\n - Vers les résultats... (/index.php?option=com_gskiepreuves&amp;view=a
 fficheresultats&amp;format_option=tous&amp;filter[search]=AMVT0150&amp;filt
 er[date_debut]=18-03-2017&amp;filter[date_fin]=18-03-2017&amp;code_activite
 =ALP&amp;Itemid=6283) Cet évènement a été importé depuis :https://skivosges
 .net/agenda/export-synchronisation/detailevenement/662/-/clj-coupe-de-bronz
 e-et-micro-credit-agricole-reporte?tmpl=component (https://skivosges.net/ag
 enda/export-synchronisation/detailevenement/662/-/clj-coupe-de-bronze-et-mi
 cro-credit-agricole-reporte?tmpl=component)
X-ALT-DESC;FMTTYPE=text/html:<!-- #gskiepreuve code généré par le plugin jevents pour GskiEpreuves. Ne p
 as modifier cette ligne, ni tout le contenu suivant  #gskiepreuve --><div c
 lass="gski-evenement_infos"><div class="gski-evenement-nom">CLJ Coupe de br
 onze et micro Crédit agricole</div><div class="gski-evenement-report"> <fon
 t class="gskiattention">(Epreuve reportée)</font></div><ul class="gski-even
 ement-liste-infos"><li>Codex évenement AMVT0150</li><li>Circuit : Coupe de 
 Lorraine Jeunes</li><li>Lieu : LA BRESSE </li><li>Station : LA BRESSE LISPA
 CH</li><li>COM_GSKIEPREUVES_EPREUVE_PISTEstade de slalom</li><li>Organisate
 ur : 14024 LA BRESSAUDE SECTION SKI</li><li>Courriel : <!-- Cette adresse é
 lectronique est protégée contre les robots spammeurs. --><span class="cloak
 ed_email ep_0b03d68d"><span data-ep-b="&#102;r" data-ep-a="&#111;&#100;&#10
 5;&#108;e"><span data-ep-a=".&#109;&#117;&#110;&#115;" data-ep-b="a&#110;&#
 103;&#101;."><span data-ep-b="&#108;b&#64;o&#114;" data-ep-a="c&#104;.&#115
 ;&#99;"></span></span></span></span><script>RegularLabs.EmailProtector.unCl
 oak("ep_0b03d68d");</script></li><li>Téléphone : 06 08 85 52 52</li></ul><d
 iv class="gski-evenement-infos-2"><div class="gski-evenement-info-inscripti
 ons"><div class="gski-evenement-inscriptions-periodes">Période d'inscriptio
 n à l'evènement du dimanche 01 janvier 2017 à 01:00 au vendredi 06 janvier 
 2017 à 13:00 <span class="gski-evenement-inscriptions-impossibles">(Inscrip
 tions impossibles).</span><div class="gski-evenement-inscriptions-types-tit
 res">Le type de titres Fédéraux autorisé n'est pas défini. Veuillez contact
 er l'organisateur et lui signaler le problème.</div></div></div><div class=
 "gski-evenement-epreuves"><div class="gski-evenement-epreuves-titres">Epreu
 ves :</div><ul class="gski-evenement-epreuves-list"><li><div class="gski-ep
 reuve-date">Le dimanche 08 janvier 2017</div><ul class="gski-epreuve-liste-
 infos"><li>Codex épreuve AMVM0151</li><li>Slalom</li><li>Circuit : Coupe de
  Lorraine Jeunes</li></ul></li><li><div class="gski-epreuve-date">Le dimanc
 he 08 janvier 2017</div><ul class="gski-epreuve-liste-infos"><li>Codex épre
 uve AMVF0151</li><li>Slalom</li><li>Circuit : Coupe de Lorraine Jeunes</li>
 </ul></li><li><div class="gski-epreuve-date">Le dimanche 08 janvier 2017</d
 iv><ul class="gski-epreuve-liste-infos"><li>Codex épreuve AMVM0152</li><li>
 Slalom</li><li>Circuit : Coupe de Lorraine Jeunes</li></ul></li><li><div cl
 ass="gski-epreuve-date">Le dimanche 08 janvier 2017</div><ul class="gski-ep
 reuve-liste-infos"><li>Codex épreuve AMVF0152</li><li>Slalom</li><li>Circui
 t : Coupe de Lorraine Jeunes</li></ul></li><li><div class="gski-epreuve-dat
 e">Le dimanche 08 janvier 2017</div><ul class="gski-epreuve-liste-infos"><l
 i>Codex épreuve AMVM0153</li><li>Slalom</li><li>Circuit : Coupe de Lorraine
  Jeunes</li></ul></li><li><div class="gski-epreuve-date">Le dimanche 08 jan
 vier 2017</div><ul class="gski-epreuve-liste-infos"><li>Codex épreuve AMVF0
 153</li><li>Slalom</li><li>Circuit : Coupe de Lorraine Jeunes</li></ul></li
 ></ul></div><div class="gskiepreuves-links"><ul><li><a href="https://skivos
 ges.net/index.php?option=com_jevents&task=icalevent.detail&evid=657&Itemid=
 6283">Voir les informations dans l'agenda...</a></li><li><a href="https://s
 kivosges.net/index.php?option=com_gskiepreuves&view=afficheresultats&format
 _option=tous&filter[search]=AMVT0150&filter[date_debut]=18-03-2017&filter[d
 ate_fin]=18-03-2017&code_activite=ALP&Itemid=6283">Vers les résultats...</a
 ></li></ul></div></div"><!-- #/gskiepreuve fin du dode généré par le plugin
  jevents pour GskiEpreuves. . Ne pas modifier cette ligne, ni tout le conte
 nu précedant.  #/gskiepreuve --> <a href="https://skivosges.net/agenda/expo
 rt-synchronisation/detailevenement/662/-/clj-coupe-de-bronze-et-micro-credi
 t-agricole-reporte?tmpl=component">Cet évènement a été importé depuis :http
 s://skivosges.net/agenda/export-synchronisation/detailevenement/662/-/clj-c
 oupe-de-bronze-et-micro-credit-agricole-reporte?tmpl=component</a>DTSTAMP:20260421T050652
DTSTART;TZID=Europe/Paris;VALUE=DATE:20170108
DTEND;TZID=Europe/Paris;VALUE=DATE:20170109
SEQUENCE:0
TRANSP:OPAQUE
END:VEVENT
END:VCALENDAR